Workbook
Name _Toc275850030: Informe!$A$22
Name AnalyticalR1_maprime: '[1]Método 5-Gravimetría'!$E$21
Name AnalyticalR1_mf: '[1]Método 5-Gravimetría'!$D$21
Name AnalyticalR1_Wa: '[1]Método 5-Gravimetría'!$E$22
Name AnalyticalR2_maprime: '[1]Método 5-Gravimetría'!$E$39
Name AnalyticalR2_mf: '[1]Método 5-Gravimetría'!$D$39
Name AnalyticalR2_Wa: '[1]Método 5-Gravimetría'!$E$40
Name AnalyticalR3_maprime: '[1]Método 5-Gravimetría'!$E$57
Name AnalyticalR3_mf: '[1]Método 5-Gravimetría'!$D$57
Name AnalyticalR3_Wa: '[1]Método 5-Gravimetría'!$E$58
Name Base_Run_Number: [1]Portada!$D$13
Name Bwm: [1]Unidades!$G$21
Name Cipfmmpm: [1]Unidades!$G$16
Name Circ_Points_Across: '[1]Método 1-Circular'!$H$36
Name Circ_Ports_Used: '[1]Método 1-Circular'!$F$36
Name Circ_Stack?: '[1]Off Screen Values'!$F$12
Name Circ_Stack_Area: '[1]Método 1-Circular'!$E$13
Name Ck: [1]Unidades!$G$19
Name Cmlr: [1]Unidades!$G$17
Name Cn: [1]Unidades!$G$18
Name Date: [1]Portada!$D$11
Name Equipos: #REF!
Name Equipos: Equipo!$A$7:$A$10
Name Equipos: Material!$A$7:$A$77
Name Impinger_Case_ID: [1]Portada!$F$35
Name Instrumento: #REF!
Name Instrumento: Equipo!#REF!
Name Instrumento: Material!#REF!
Name K_1: [1]Unidades!$G$27
Name K_2: [1]Unidades!$G$28
Name K_3: [1]Unidades!$G$29
Name K_4: [1]Unidades!$G$30
Name K_6: [1]Unidades!$G$32
Name K_7: [1]Unidades!$G$33
Name K_8: [1]Unidades!$G$34
Name Kp: [1]Unidades!$G$20
Name Liner_Material: [1]Portada!$F$33
Name m: '[2]NH4 todo'!$A$4:$IV$4
Name M3_Run1_Avg_CO_Percent: '[1]Método 3-Orsat'!$G$19
Name M3_Run1_Avg_CO2_Percent: '[1]Método 3-Orsat'!$E$19
Name M3_Run1_Avg_O2_Percent: '[1]Método 3-Orsat'!$F$19
Name M3_Run2_Avg_CO_Percent: '[1]Método 3-Orsat'!$G$33
Name M3_Run2_Avg_CO2_Percent: '[1]Método 3-Orsat'!$E$33
Name M3_Run2_Avg_O2_Percent: '[1]Método 3-Orsat'!$F$33
Name M3_Run3_Avg_CO_Percent: '[1]Método 3-Orsat'!$G$47
Name M3_Run3_Avg_CO2_Percent: '[1]Método 3-Orsat'!$E$47
Name M3_Run3_Avg_O2_Percent: '[1]Método 3-Orsat'!$F$47
Name M4R1_Vt: '[1]Método 4'!$D$21
Name M4R1_Wt: '[1]Método 4'!$D$22
Name M4R2_Vt: '[1]Método 4'!$D$38
Name M4R2_Wt: '[1]Método 4'!$D$39
Name M4R3_Vt: '[1]Método 4'!$D$55
Name M4R3_Wt: '[1]Método 4'!$D$56
Name M5R1_Cp: '[1]Método 5-1'!$E$9
Name M5R1_DHavg: '[1]Método 5-1'!$G$59
Name M5R1_Dna: '[1]Método 5-1'!$L$12
Name M5R1_DP12avg: '[1]Método 5-1'!$N$59
Name M5R1_Pb: '[1]Método 5-1'!$E$20
Name M5R1_Pstatic: '[1]Método 5-1'!$E$21
Name M5R1_Run_Number: '[1]Método 5-1'!$J$5

Sheet Informe
C1: ESTIMACIÓN DE LA INCERTIDUMBRE DE MEDICIÓN | F1: Código: | G1: R-7.6-01
F2: Versión: | G2: 08
C3: CORPORACION PARA EL DESARROLLO SOSTENIBLE DEL URABA | F3: Página: | G3: 1 de 5
A5: 1. OBJETIVO
A7: Parámetro:
A8: Método:
A9: Matriz:
A10: Referencia:
A11: Procedimiento:
A13: 2. REFERENCIAS
A20: 3. ESPECIFICACIÓN DEL MENSURANDO
A23: 4. MODELO MATEMÁTICO
A25: (1)
A30: (2)
A33: (3)
... A56: Las mediciones involucradas en el ensayo y sus respectivos aportes a la incertidumbre del resultado se son las siguientes:
A57: Proceso | C57: Factor | E57: Fuentes individuales
A85: * El aporte de estas fuentes está incluido en el valor de repetibilidad de medición, por cuanto éste se obtuvo de los resultados de medición de varias muestras y estándares durante varios días, lo que implica la variación aleatoria de tales fuentes.
A87: 6. CUANTIFICACIÓN DE LOS COMPONENTES DE LA INCERTIDUMBRE
A90: 7. CALCULO DE LA INCERTIDUMBRE COMBINADA
D93: uC(y) | E93: : incertidumbre estándar combinada
D94: y | E94: : valor medido
D95: xn | E95: : valor de los parámetros independientes
D96: y(xn) | E96: : incertidumbre de los parámetros independientes
D97: ci | E97: : coeficiente de sensibilidad
D98: u(y,xi) | E98: : incertidumbre en y debida a la incertidumbre en xi.
A100: El coeficiente se evalúa como la diferencial parcial (ci=¶y/¶xi) de y con respecto a xi, o determinando el cambio en el mensurando que genera el cambio del parámetro manteniendo constantes los demás parámetros (ci=Dy/Dxi). Para modelos matemáticos sencillos se aplican las siguientes simplificaciones:
A102: Tipo de operación matemática implicada en el modelo matemático del mensurando | E102: Modelo de cálculo de la incertidumbre estándar combinada uC
A103: Para factores que se multiplican o dividen entre sí se calcula la suma geométrica de las incertidumbres estándar relativas:
A104: Para factores que se suman o restan entre sí se calcula la suma geométrica de las incertidumbres estándar individuales:
A112: 8. FORMA DE ESTIMAR Y REPORTAR LA INCERTIDUMBRE DE LOS RESULTADOS
A113: Cuando se incluya la incertidumbre en un informe, el resultado se reporta como:
A116: 9. APROBACIÓN
A117: Se aprueba la presente estimación de la incertidumbre de medición a partir de la fecha:
A119: Aprobación:
C120: Fecha | E120: Director de Laboratorio

Sheet Cálculo
B1: ESTIMACIÓN DE LA INCERTIDUMBRE DE MEDICIÓN | V1: =Informe!F1 -> Código: | W1: =Informe!G1 -> R-7.6-01
V2: =Informe!F2 -> Versión: | W2: 7
B3: CORPORACION PARA EL DESARROLLO SOSTENIBLE DEL URABA | V3: =Informe!F3 -> Página: | W3: =Informe!G3 -> 1 de 5
A5: ESTIMACIÓN DE LA INCERTIDUMBRE DE MEDICIÓN | I5: MODELO MATEMÁTICO:
A6: PARÁMETRO:
A7: MÉTODO:
A8: MATRIZ:
A9: Factor | B9: Valor | C9: Uni-dad | D9: Símbolo | E9: Instrumento de medición | H9: Fuentes individuales | J9: Incertidumbre | Q9: Peso atómico | S9: Modelo matemático | V9: Coeficiente de sensibilidad | W9: Grados de libertad
E10: Nombre | F10: Clase | G10: Capacidad | H10: Fuente individual | I10: Origen de la información | J10: Aportada | K10: Tipo de distribución | L10: N° datos; T; otros | M10: Unidad | N10: Estándar del aporte, u(x) | O10: Estándar combinada, u(x) | P10: Estándar relativa, u(x)/x | Q10: Valor, g/mol | R10: Coeficiente | S10: Tipo operación | T10: Símbolo | U10: Modelo del factor
A11: PREPARACIÓN DEL PATRÓN
A31: ESTANDARIZACIÓN DEL TITULANTE
A40: MEDICIÓN DE LA MUESTRA
A55: OTROS FACTORES
A65: REDONDEO DEL RESULTADO
A66: Resultado sin redondear | B66: =B45*B32*B18*B20*B28*1000000/(B41*B36*B21*B25) -> #DIV/0! | C66: mg/L | D66: xc | E66: - | F66: - | G66: - | H66: Resultado sin redondear | I66: Cálculo | J66: =IF(SUM(P11:P65)>0,SQRT(SUMSQ(P11:P65))*B66,SQRT(SUMSQ(O11:O65))) -> 0 | K66: Normal | N66: =IF(J66<>"",IF(K66="Expandida",J66/L66,IF(K66="Normal",J66,IF(K66="Triangular",J66/SQRT(6),IF(K66="Rectangular",J66/SQRT(3),IF(K66="LC 95%",J66/1.96,IF(K66="Promedio",J66/SQRT(L66),IF(K66="Relativa",J66*B66,"Tipo?"))))))),"¿aporte?") -> 0 | O66: =SQRT(SUMSQ((N66))) -> 0 | P66: =IF(S66="No aplica","-",IF(S66="Producto",IF(B66<>0,O66/B66,"-"),"-")) -> - | S66: Suma | T66: xc | V66: 0 | W66: =IF(K66="Promedio",L66-1,"¥") -> ¥
A67: Valor del redondeo | B67: =ROUND(B66,L67)-B66 -> #DIV/0! | C67: =C66 -> mg/L | D67: fred | E67: - | F67: - | G67: - | H67: Redondeo de cifras | I67: Cálculo | J67: =IF(ISBLANK(L67),"¿cifras?",10^-L67/2) -> 0.05 | K67: Rectangular | L67: 1 | N67: =IF(J67<>"",IF(K67="Expandida",J67/L67,IF(K67="Normal",J67,IF(K67="Triangular",J67/SQRT(6),IF(K67="Rectangular",J67/SQRT(3),IF(K67="LC 95%",J67/1.96,IF(K67="Promedio",J67/SQRT(L67),IF(K67="Relativa",J67*B67,"Tipo?"))))))),"¿aporte?") -> 0.028867513 | O67: =SQRT(SUMSQ((N67))) -> 0.028867513 | P67: =IF(S67="No aplica","-",IF(S67="Producto",IF(B67<>0,O67/B67,"-"),"-")) -> - | S67: Suma | T67: fred | V67: 1 | W67: =IF(K67="Promedio",L67-1,"¥") -> ¥
A68: Resultado | B68: =B66+B67 -> #DIV/0! | C68: =C66 -> mg/L | D68: x | O68: =B71 -> 0.028867513 | P68: =B70 -> #DIV/0! | U68: S ui·ci= | V68: =SQRT(SUMPRODUCT((V11:V67)^2,(O11:O67)^2))/B68 -> #DIV/0!
A69: U expandida | B69: =B68*B70*B73 -> #DIV/0! | C69: =C68 -> mg/L | D69: Ux | J69: Temperatura ambiente | K69: Mínima | M69: ºC | U69: Diferencia modelos | V69: =B70-V68 -> #DIV/0!
A70: uC relativa | B70: =IF(SUM(P66:P67)>0,SQRT(SUMSQ(P66:P67)),SQRT(SUMSQ(O66:O67))/B68) -> #DIV/0! | C70: - | D70: ux/x | K70: Máxima | M70: ºC
A71: uC (combinada) | B71: =IF(SUM(P66:P67)>0,B70*B68,SQRT(SUMSQ(O66:O67))) -> 0.028867513 | C71: =C68 -> mg/L | D71: ux | K71: Promedio | M71: ºC
A72: U exp. Relat. | B72: =B70*2*100 -> #DIV/0! | C72: % | D72: Ux/x
A73: Factor expansión | B73: 2 | C73: - | D73: k
A74: Grados libertad efectivos | B74: =B71^4/(N14^4/W14+N24^4/W24+N35^4/W35+N39^4/W39+N44^4/W44+N48^4/W48+N52^4/W52) -> #DIV/0! | C74: - | D74: nef
A75: Factor expansión teórico | B75: =TINV(0.05,B74) -> #DIV/0! | C75: - | D75: kp
A76: La incertidumbre se calculó con un nivel de confianza de aproximadamente 95%
A80: Concentración del patrón
A81: CP | B81: =B18*B20*B28*1000000/(B21*B25) -> #DIV/0! | C81: =C68 -> mg/L
A82: [Patrón], NP | B82: =B18/(B25/B64*B21)*1000 -> #DIV/0! | C82: eq/L
A83: [Patrón], MP | B83: =B18/(B25*B21)*1000 -> #DIV/0! | C83: mol/L
A84: CP (sin PM) | B84: =B18*B20*1000000/(B21) -> #DIV/0! | C84: =C68 -> mg/L
A85: Concentración del titulante
A86: [Titulante], NT | B86: =B18*B32/(B25/B64*B36) -> #DIV/0! | C86: eq/L
A87: [Titulante], MT | B87: =B18*B32/(B25*B36) -> #DIV/0! | C87: mol/L
A89: Cálculo paso a paso
A90: Resultado | B90: =B45*B91*B92/B41 -> #DIV/0! | C90: mg/L
A91: [Titulante], NT | B91: =B32*B18/(B36*B93) -> #DIV/0! | C91: eq/L
A92: Factor 1 | B92: =B28*1000/B64 -> #DIV/0!
A93: Factor 2 | B93: =B25*B21/(B20*B64*1000) -> #DIV/0!
A94: Diferencia modelos | B94: =B66-B90 -> #DIV/0!

Sheet Material
B1: =Informe!C1 -> ESTIMACIÓN DE LA INCERTIDUMBRE DE MEDICIÓN | V1: =Informe!F1 -> Código: | W1: R-7.2-03
V2: =Informe!F2 -> Versión: | W2: 7
B3: CORPORACION PARA EL DESARROLLO SOSTENIBLE DEL URABA | V3: =Informe!F3 -> Página: | W3: 1 de 5
A5: INFORMACIÓN DE LOS IMPLEMENTOS DE MEDICIÓN Y/O ENSAYO
A6: CARACTERÍSTICAS | I6: ENSAYOS DE REPETIBILIDAD DE MEDICIÓN
A7: Instrumento | B7: Clase | C7: Capacidad, mL | D7: Unidad | E7: Resolución | F7: Tolerancia | G7: Calibración | H7: Factor k | I7: Resultados de mediciones de repetibilidad | S7: Promedio | T7: Desviación estándar | U7: Nº Datos | V7: Código | W7: Observaciones calibración
I8: Nº 1 | J8: Nº 2 | K8: Nº 3 | L8: Nº 4 | M8: Nº 5 | N8: Nº 6 | O8: Nº 7 | P8: Nº 8 | Q8: Nº 9 | R8: Nº 10

Sheet Equipo
B1: =Informe!C1 -> ESTIMACIÓN DE LA INCERTIDUMBRE DE MEDICIÓN | V1: =Informe!F1 -> Código: | W1: =Informe!G1 -> R-7.6-01
V2: =Informe!F2 -> Versión: | W2: =Informe!G2 -> 08
B3: CORPORACION PARA EL DESARROLLO SOSTENIBLE DEL URABA | V3: =Informe!F3 -> Página: | W3: =Informe!G3 -> 1 de 5
A5: INFORMACIÓN DE LOS EQUIPOS DE MEDICIÓN Y/O ENSAYO
A6: CARACTERÍSTICAS | I6: ENSAYOS DE REPETIBILIDAD DE MEDICIÓN
A7: Instrumento | B7: Clase | C7: Capacidad, mL | D7: Unidad | E7: Resolución | F7: Tolerancia | G7: Calibración | H7: Factor k | I7: Resultados de mediciones de repetibilidad | S7: Promedio | T7: Desviación estándar | U7: Nº Datos | V7: Código | W7: Certificado
I8: Nº 1 | J8: Nº 2 | K8: Nº 3 | L8: Nº 4 | M8: Nº 5 | N8: Nº 6 | O8: Nº 7 | P8: Nº 8 | Q8: Nº 9 | R8: Nº 10
