Workbook
Name Afectacion: Cálculo_Gen!$D$66:$D$70
Name Categoria: Esp_Decreto!$C$2:$C$188
Name CUM: Cálculo_Gen!$C$14:$C$17
Name Especie: Esp_Decreto!$B$2:$B$188
Name Nacional: Cálculo_Gen!$C$20:$C$21
Name Otras: Otras_Sp!$A$2:$A$1015
Name SISF: SISF_Nombres!$A$2:$A$1099

Sheet Cálculo_Gen
B1: Calculo Tasa Compensatoria Por Aprovechamiento Forestal Maderable En Bosque Natural
B2: R-AA-151
B3: Versión 07
A5: Expediente | D5: Fecha Cálculo
A7: Usuario | D7: Municipio
E8: Nota: Si la evaluación comprende dos o mas municipios, deberá calcularse volumen/especie/ municipio
E9: Esta hoja puede emplearse para dos ocasiones, cuando se va a calcular la tasa para 10 especies o menos y/o cuando se es principiante en el cálculo de la misma.
A11: Tarifa mímima ™ | B11: 44100
A14: Coeficiente de Uso de la madera: CUM | B14: Arboles aislados | C14: 0.5
B15: Aprovechamiento domestico | C15: 0.1
B16: Aprovechamiento persistente | C16: 1
B17: Aprovechamiento único | C17: 1.25
A18: CUM | B18: 0.5
A20: Variable de Nacionalidad: N | B20: Nacionales | C20: 0
B21: Extranjeros | C21: 1
A22: N | B22: 1
A24: Coeficiente de Disponibilidad Regional de Bosques: CDRB CDRB=2- CEB
A25: Coeficiente de escasez de Bosques: CEB
A26: Area Total Bosques: ATBN (ha) | B26: 865670
A27: Area Total de Areas Protegidas en el RUNAP: ATAP (ha) | B27: 236844.95
A28: Area Total Jurisdiccion (ATJ) ha | B28: 1892333
A29: CEB | B29: =(B26-B27)/B28 -> 0.33230148
A31: CDRB | B31: =2-B29 -> 1.6676985
A33: Coeficiente de categorización de especies : CCE
A34: CCE | B34: Muy especiales | C34: 2.7
B35: Especiales | C35: 1.7
B36: Otras | C36: 1
A38: Especies que se recomienda otorgar El siguiente recuadro contiene el listado de las especies Muy Especiales y Especiales, si la que requiere no aparece en él diríjase al recuadro seguiente.
A39: Nombre comun | B39: Nombre científico | C39: Valor CCE | D39: V m3 Bruto a otorgar
C40: =IFERROR(VLOOKUP(B40,Esp_Decreto!$B:$D,3,FALSE),0) -> 0
C41: =IFERROR(VLOOKUP(B41,Esp_Decreto!$B:$D,3,FALSE),0) -> 0
C42: =IFERROR(VLOOKUP(B42,Esp_Decreto!$B:$D,3,FALSE),0) -> 0
C43: =IFERROR(VLOOKUP(B43,Esp_Decreto!$B:$D,3,FALSE),0) -> 0
C44: =IFERROR(VLOOKUP(B44,Esp_Decreto!$B:$D,3,FALSE),0) -> 0
C45: =IFERROR(VLOOKUP(B45,Esp_Decreto!$B:$D,3,FALSE),0) -> 0
C46: =IFERROR(VLOOKUP(B46,Esp_Decreto!$B:$D,3,FALSE),0) -> 0
C47: =IFERROR(VLOOKUP(B47,Esp_Decreto!$B:$D,3,FALSE),0) -> 0
C48: =IFERROR(VLOOKUP(B48,Esp_Decreto!$B:$D,3,FALSE),0) -> 0
C49: =IFERROR(VLOOKUP(B49,Esp_Decreto!$B:$D,3,FALSE),0) -> 0
C50: =IFERROR(VLOOKUP(B50,Esp_Decreto!$B:$D,3,FALSE),0) -> 0
...

Sheet Por_Esp
B1: Calculo Tasa Compensatoria Por Aprovechamiento Forestal Maderable En Bosque Natural
B2: R-AA-151
B3: Versión 07
A5: Expediente | D5: Fecha Cálculo
A7: Usuario | D7: Municipio
E10: El uso de ésta hoja se realiza para el cálculo de mas de 10 especies y/o para técnicos con mayor conocimiento de las variables de la tasa a calcular
A13: Tarifa Mímima ™ | B13: 44100
A14: CUM | B14: 0.5
A15: N | B15: 0
A16: CEB | B16: =Cálculo_Gen!B29 -> 0.33230148
A17: CDRB | B17: =2-B16 -> 1.6676985
A18: CAA | B18: 1.4
A20: Nombre comun | B20: Nombre científico | C20: Valor CCE | D20: V m3 Bruto a otorgar | E20: Tasa por especie ($/m3 en bruto) | F20: Monto a pagar
A21: =IFERROR(VLOOKUP(Tabla1[[#This Row],[Nombre científico]],SISF_Nombres!$A$2:$B$1099,2,FALSE),0) -> Frijolillo | B21: Abarema barbouriana | C21: 1 | E21: =IFERROR(Tabla1[[#This Row],[Monto a pagar]]/Tabla1[[#This Row],[V m3 Bruto a otorgar]],0) -> 0 | F21: =IFERROR((($B$14+$B$15)*(($B$17+Tabla1[[#This Row],[Valor CCE]]+$B$18)/3))*$B$13*Tabla1[[#This Row],[V m3 Bruto a otorgar]],0) -> 0
A22: =IFERROR(VLOOKUP(Tabla1[[#This Row],[Nombre científico]],SISF_Nombres!$A$2:$B$1099,2,FALSE),0) -> Carbonero | B22: Abarema ganymedea | C22: 1 | E22: =IFERROR(Tabla1[[#This Row],[Monto a pagar]]/Tabla1[[#This Row],[V m3 Bruto a otorgar]],0) -> 0 | F22: =IFERROR((($B$14+$B$15)*(($B$17+Tabla1[[#This Row],[Valor CCE]]+$B$18)/3))*$B$13*Tabla1[[#This Row],[V m3 Bruto a otorgar]],0) -> 0
A23: =IFERROR(VLOOKUP(Tabla1[[#This Row],[Nombre científico]],SISF_Nombres!$A$2:$B$1099,2,FALSE),0) -> Carbonero | B23: Abarema jupumba | C23: 1.7 | E23: =IFERROR(Tabla1[[#This Row],[Monto a pagar]]/Tabla1[[#This Row],[V m3 Bruto a otorgar]],0) -> 0 | F23: =IFERROR((($B$14+$B$15)*(($B$17+Tabla1[[#This Row],[Valor CCE]]+$B$18)/3))*$B$13*Tabla1[[#This Row],[V m3 Bruto a otorgar]],0) -> 0
A24: =IFERROR(VLOOKUP(Tabla1[[#This Row],[Nombre científico]],SISF_Nombres!$A$2:$B$1099,2,FALSE),0) -> Carbonero | B24: Abarema lehmannii | C24: 1 | E24: =IFERROR(Tabla1[[#This Row],[Monto a pagar]]/Tabla1[[#This Row],[V m3 Bruto a otorgar]],0) -> 0 | F24: =IFERROR((($B$14+$B$15)*(($B$17+Tabla1[[#This Row],[Valor CCE]]+$B$18)/3))*$B$13*Tabla1[[#This Row],[V m3 Bruto a otorgar]],0) -> 0
A25: =IFERROR(VLOOKUP(Tabla1[[#This Row],[Nombre científico]],SISF_Nombres!$A$2:$B$1099,2,FALSE),0) -> Chirrinchao | B25: Abarema sp. | C25: 1 | E25: =IFERROR(Tabla1[[#This Row],[Monto a pagar]]/Tabla1[[#This Row],[V m3 Bruto a otorgar]],0) -> 0 | F25: =IFERROR((($B$14+$B$15)*(($B$17+Tabla1[[#This Row],[Valor CCE]]+$B$18)/3))*$B$13*Tabla1[[#This Row],[V m3 Bruto a otorgar]],0) -> 0
A26: =IFERROR(VLOOKUP(Tabla1[[#This Row],[Nombre científico]],SISF_Nombres!$A$2:$B$1099,2,FALSE),0) -> Chirlobirlo | B26: Abatia parviflora | C26: 1 | E26: =IFERROR(Tabla1[[#This Row],[Monto a pagar]]/Tabla1[[#This Row],[V m3 Bruto a otorgar]],0) -> 0 | F26: =IFERROR((($B$14+$B$15)*(($B$17+Tabla1[[#This Row],[Valor CCE]]+$B$18)/3))*$B$13*Tabla1[[#This Row],[V m3 Bruto a otorgar]],0) -> 0
A27: =IFERROR(VLOOKUP(Tabla1[[#This Row],[Nombre científico]],SISF_Nombres!$A$2:$B$1099,2,FALSE),0) -> 0 | B27: Acacia famesiana | C27: 1.7 | E27: =IFERROR(Tabla1[[#This Row],[Monto a pagar]]/Tabla1[[#This Row],[V m3 Bruto a otorgar]],0) -> 0 | F27: =IFERROR((($B$14+$B$15)*(($B$17+Tabla1[[#This Row],[Valor CCE]]+$B$18)/3))*$B$13*Tabla1[[#This Row],[V m3 Bruto a otorgar]],0) -> 0
A28: =IFERROR(VLOOKUP(Tabla1[[#This Row],[Nombre científico]],SISF_Nombres!$A$2:$B$1099,2,FALSE),0) -> Acacia | B28: Acacia mangium NO USAR PARA TCF | C28: 1 | E28: =IFERROR(Tabla1[[#This Row],[Monto a pagar]]/Tabla1[[#This Row],[V m3 Bruto a otorgar]],0) -> 0 | F28: =IFERROR((($B$14+$B$15)*(($B$17+Tabla1[[#This Row],[Valor CCE]]+$B$18)/3))*$B$13*Tabla1[[#This Row],[V m3 Bruto a otorgar]],0) -> 0
A29: =IFERROR(VLOOKUP(Tabla1[[#This Row],[Nombre científico]],SISF_Nombres!$A$2:$B$1099,2,FALSE),0) -> Acacia Japonesa | B29: Acacia melanoxylon NO USAR PARA TCF | C29: 1 | E29: =IFERROR(Tabla1[[#This Row],[Monto a pagar]]/Tabla1[[#This Row],[V m3 Bruto a otorgar]],0) -> 0 | F29: =IFERROR((($B$14+$B$15)*(($B$17+Tabla1[[#This Row],[Valor CCE]]+$B$18)/3))*$B$13*Tabla1[[#This Row],[V m3 Bruto a otorgar]],0) -> 0
A30: =IFERROR(VLOOKUP(Tabla1[[#This Row],[Nombre científico]],SISF_Nombres!$A$2:$B$1099,2,FALSE),0) -> Zancamula | B30: Acalypha macrostachya | C30: 1 | E30: =IFERROR(Tabla1[[#This Row],[Monto a pagar]]/Tabla1[[#This Row],[V m3 Bruto a otorgar]],0) -> 0 | F30: =IFERROR((($B$14+$B$15)*(($B$17+Tabla1[[#This Row],[Valor CCE]]+$B$18)/3))*$B$13*Tabla1[[#This Row],[V m3 Bruto a otorgar]],0) -> 0
A31: =IFERROR(VLOOKUP(Tabla1[[#This Row],[Nombre científico]],SISF_Nombres!$A$2:$B$1099,2,FALSE),0) -> Varita | B31: Acalypha obovata | C31: 1 | E31: =IFERROR(Tabla1[[#This Row],[Monto a pagar]]/Tabla1[[#This Row],[V m3 Bruto a otorgar]],0) -> 0 | F31: =IFERROR((($B$14+$B$15)*(($B$17+Tabla1[[#This Row],[Valor CCE]]+$B$18)/3))*$B$13*Tabla1[[#This Row],[V m3 Bruto a otorgar]],0) -> 0
A32: =IFERROR(VLOOKUP(Tabla1[[#This Row],[Nombre científico]],SISF_Nombres!$A$2:$B$1099,2,FALSE),0) -> Vara de Alcalde | B32: Acalypha villosa | C32: 1 | E32: =IFERROR(Tabla1[[#This Row],[Monto a pagar]]/Tabla1[[#This Row],[V m3 Bruto a otorgar]],0) -> 0 | F32: =IFERROR((($B$14+$B$15)*(($B$17+Tabla1[[#This Row],[Valor CCE]]+$B$18)/3))*$B$13*Tabla1[[#This Row],[V m3 Bruto a otorgar]],0) -> 0
... A674: =IFERROR(VLOOKUP(Tabla1[[#This Row],[Nombre científico]],SISF_Nombres!$A$2:$B$1099,2,FALSE),0) -> Laurel | B674: Licaria triandra | C674: 1 | E674: =IFERROR(Tabla1[[#This Row],[Monto a pagar]]/Tabla1[[#This Row],[V m3 Bruto a otorgar]],0) -> 0 | F674: =IFERROR((($B$14+$B$15)*(($B$17+Tabla1[[#This Row],[Valor CCE]]+$B$18)/3))*$B$13*Tabla1[[#This Row],[V m3 Bruto a otorgar]],0) -> 0
A675: =IFERROR(VLOOKUP(Tabla1[[#This Row],[Nombre científico]],SISF_Nombres!$A$2:$B$1099,2,FALSE),0) -> candelo | B675: Lindackeria laurina | E675: =IFERROR(Tabla1[[#This Row],[Monto a pagar]]/Tabla1[[#This Row],[V m3 Bruto a otorgar]],0) -> 0 | F675: =IFERROR((($B$14+$B$15)*(($B$17+Tabla1[[#This Row],[Valor CCE]]+$B$18)/3))*$B$13*Tabla1[[#This Row],[V m3 Bruto a otorgar]],0) -> 0
A676: =IFERROR(VLOOKUP(Tabla1[[#This Row],[Nombre científico]],SISF_Nombres!$A$2:$B$1099,2,FALSE),0) -> Ficus | B676: Litsea glaucescens | C676: 1 | E676: =IFERROR(Tabla1[[#This Row],[Monto a pagar]]/Tabla1[[#This Row],[V m3 Bruto a otorgar]],0) -> 0 | F676: =IFERROR((($B$14+$B$15)*(($B$17+Tabla1[[#This Row],[Valor CCE]]+$B$18)/3))*$B$13*Tabla1[[#This Row],[V m3 Bruto a otorgar]],0) -> 0
A677: =IFERROR(VLOOKUP(Tabla1[[#This Row],[Nombre científico]],SISF_Nombres!$A$2:$B$1099,2,FALSE),0) -> Reseda | B677: Lobularia maritima | C677: 1 | E677: =IFERROR(Tabla1[[#This Row],[Monto a pagar]]/Tabla1[[#This Row],[V m3 Bruto a otorgar]],0) -> 0 | F677: =IFERROR((($B$14+$B$15)*(($B$17+Tabla1[[#This Row],[Valor CCE]]+$B$18)/3))*$B$13*Tabla1[[#This Row],[V m3 Bruto a otorgar]],0) -> 0
A678: =IFERROR(VLOOKUP(Tabla1[[#This Row],[Nombre científico]],SISF_Nombres!$A$2:$B$1099,2,FALSE),0) -> Barbasquillo | B678: Lonchocarpus alternifoliolatus | C678: 1 | E678: =IFERROR(Tabla1[[#This Row],[Monto a pagar]]/Tabla1[[#This Row],[V m3 Bruto a otorgar]],0) -> 0 | F678: =IFERROR((($B$14+$B$15)*(($B$17+Tabla1[[#This Row],[Valor CCE]]+$B$18)/3))*$B$13*Tabla1[[#This Row],[V m3 Bruto a otorgar]],0) -> 0
A679: =IFERROR(VLOOKUP(Tabla1[[#This Row],[Nombre científico]],SISF_Nombres!$A$2:$B$1099,2,FALSE),0) -> Barbasco | B679: Lonchocarpus densiflorus | C679: 1 | E679: =IFERROR(Tabla1[[#This Row],[Monto a pagar]]/Tabla1[[#This Row],[V m3 Bruto a otorgar]],0) -> 0 | F679: =IFERROR((($B$14+$B$15)*(($B$17+Tabla1[[#This Row],[Valor CCE]]+$B$18)/3))*$B$13*Tabla1[[#This Row],[V m3 Bruto a otorgar]],0) -> 0
A680: =IFERROR(VLOOKUP(Tabla1[[#This Row],[Nombre científico]],SISF_Nombres!$A$2:$B$1099,2,FALSE),0) -> Palo de José | B680: Lonchocarpus latifolius | C680: 1 | E680: =IFERROR(Tabla1[[#This Row],[Monto a pagar]]/Tabla1[[#This Row],[V m3 Bruto a otorgar]],0) -> 0 | F680: =IFERROR((($B$14+$B$15)*(($B$17+Tabla1[[#This Row],[Valor CCE]]+$B$18)/3))*$B$13*Tabla1[[#This Row],[V m3 Bruto a otorgar]],0) -> 0
A681: =IFERROR(VLOOKUP(Tabla1[[#This Row],[Nombre científico]],SISF_Nombres!$A$2:$B$1099,2,FALSE),0) -> Barbasco | B681: Lonchocarpus macrophyllus | C681: 1 | E681: =IFERROR(Tabla1[[#This Row],[Monto a pagar]]/Tabla1[[#This Row],[V m3 Bruto a otorgar]],0) -> 0 | F681: =IFERROR((($B$14+$B$15)*(($B$17+Tabla1[[#This Row],[Valor CCE]]+$B$18)/3))*$B$13*Tabla1[[#This Row],[V m3 Bruto a otorgar]],0) -> 0
A682: =IFERROR(VLOOKUP(Tabla1[[#This Row],[Nombre científico]],SISF_Nombres!$A$2:$B$1099,2,FALSE),0) -> Barbasco | B682: Lonchocarpus pentaphyllus | C682: 1 | E682: =IFERROR(Tabla1[[#This Row],[Monto a pagar]]/Tabla1[[#This Row],[V m3 Bruto a otorgar]],0) -> 0 | F682: =IFERROR((($B$14+$B$15)*(($B$17+Tabla1[[#This Row],[Valor CCE]]+$B$18)/3))*$B$13*Tabla1[[#This Row],[V m3 Bruto a otorgar]],0) -> 0
A683: =IFERROR(VLOOKUP(Tabla1[[#This Row],[Nombre científico]],SISF_Nombres!$A$2:$B$1099,2,FALSE),0) -> Matapez | B683: Lonchocarpus sericeus | C683: 1 | E683: =IFERROR(Tabla1[[#This Row],[Monto a pagar]]/Tabla1[[#This Row],[V m3 Bruto a otorgar]],0) -> 0 | F683: =IFERROR((($B$14+$B$15)*(($B$17+Tabla1[[#This Row],[Valor CCE]]+$B$18)/3))*$B$13*Tabla1[[#This Row],[V m3 Bruto a otorgar]],0) -> 0
A684: =IFERROR(VLOOKUP(Tabla1[[#This Row],[Nombre científico]],SISF_Nombres!$A$2:$B$1099,2,FALSE),0) -> Churumbeles | B684: Lonchocarpus sp. | C684: 1 | E684: =IFERROR(Tabla1[[#This Row],[Monto a pagar]]/Tabla1[[#This Row],[V m3 Bruto a otorgar]],0) -> 0 | F684: =IFERROR((($B$14+$B$15)*(($B$17+Tabla1[[#This Row],[Valor CCE]]+$B$18)/3))*$B$13*Tabla1[[#This Row],[V m3 Bruto a otorgar]],0) -> 0
A685: =IFERROR(VLOOKUP(Tabla1[[#This Row],[Nombre científico]],SISF_Nombres!$A$2:$B$1099,2,FALSE),0) -> Arbustillo Amarillo | B685: Lozania mutisiana | C685: 1 | E685: =IFERROR(Tabla1[[#This Row],[Monto a pagar]]/Tabla1[[#This Row],[V m3 Bruto a otorgar]],0) -> 0 | F685: =IFERROR((($B$14+$B$15)*(($B$17+Tabla1[[#This Row],[Valor CCE]]+$B$18)/3))*$B$13*Tabla1[[#This Row],[V m3 Bruto a otorgar]],0) -> 0
A686: =IFERROR(VLOOKUP(Tabla1[[#This Row],[Nombre científico]],SISF_Nombres!$A$2:$B$1099,2,FALSE),0) -> Algodón | B686: Luehea seemannii | C686: 1 | E686: =IFERROR(Tabla1[[#This Row],[Monto a pagar]]/Tabla1[[#This Row],[V m3 Bruto a otorgar]],0) -> 0 | F686: =IFERROR((($B$14+$B$15)*(($B$17+Tabla1[[#This Row],[Valor CCE]]+$B$18)/3))*$B$13*Tabla1[[#This Row],[V m3 Bruto a otorgar]],0) -> 0
A687: =IFERROR(VLOOKUP(Tabla1[[#This Row],[Nombre científico]],SISF_Nombres!$A$2:$B$1099,2,FALSE),0) -> Algodoncillo | B687: Luehea sp. | C687: 1 | E687: =IFERROR(Tabla1[[#This Row],[Monto a pagar]]/Tabla1[[#This Row],[V m3 Bruto a otorgar]],0) -> 0 | F687: =IFERROR((($B$14+$B$15)*(($B$17+Tabla1[[#This Row],[Valor CCE]]+$B$18)/3))*$B$13*Tabla1[[#This Row],[V m3 Bruto a otorgar]],0) -> 0
... A1164: =IFERROR(VLOOKUP(Tabla1[[#This Row],[Nombre científico]],SISF_Nombres!$A$2:$B$1099,2,FALSE),0) -> Suribio | B1164: Zygia longifolia | C1164: 1.7 | E1164: =IFERROR(Tabla1[[#This Row],[Monto a pagar]]/Tabla1[[#This Row],[V m3 Bruto a otorgar]],0) -> 0 | F1164: =IFERROR((($B$14+$B$15)*(($B$17+Tabla1[[#This Row],[Valor CCE]]+$B$18)/3))*$B$13*Tabla1[[#This Row],[V m3 Bruto a otorgar]],0) -> 0
...

Sheet Esp_Decreto
A1: Categoria | B1: Especie | C1: Categoria Especie | D1: Valor | E1: Autor | F1: Familia | G1: Nombres Comunes
A2: Muy_Especial | B2: Abarema jupumba | C2: Especial | D2: 1.7 | E2: (Willd.) Britton & Killip | F2: Leguminosae | G2: Rayo
A3: Especial | B3: Acacia famesiana | C3: Especial | D3: 1.7 | E3: (L.) Willd. | F3: Leguminosae | G3: Baranoa
A4: Otras Especies | B4: Albizia carbonaria | C4: Especial | D4: 1.7 | E4: Britton | F4: Leguminosae | G4: Ateno, Carbonero, Jalapo, Guacamayo
B5: Albizia caribaea | C5: Especial | D5: 1.7 | E5: (Urb.) Britton & Rose | F5: Leguminosae | G5: Guacamayo
B6: Albizia lebbeck | C6: Especial | D6: 1.7 | E6: (L.) Benth. | F6: Leguminosae | G6: Carbonero
B7: Albizia niopoides var. Colombiana | C7: Especial | D7: 1.7 | E7: (Britton & Killip) Bameby & J. | F7: Leguminosae | G7: Guacamayo
B8: Alnus jorullensis | C8: Especial | D8: 1.7 | E8: Kunth | F8: Betulaceae | G8: Aliso
B9: Anacardium excelsum | C9: Especial | D9: 1.7 | E9: (Bertero ex Kunth) Skeels | F9: Anacardiaceae | G9: Caracoli, Aspave
B10: Anadenanthera peregrina | C10: Especial | D10: 1.7 | E10: (L.) Speg. | F10: Leguminosae | G10: Yopo
B11: Andira inermis | C11: Especial | D11: 1.7 | E11: (Wright) DC. | F11: Leguminosae | G11: Amargo, Purga, Arroz con Coco
B12: Aniba hostmanniana | C12: Especial | D12: 1.7 | E12: (Nees) Mez | F12: Lauraceae | G12: Amarillo Comino
B13: Aniba peturilis | C13: Muy_Especial | D13: 2.7 | E13: Hemsl. | F13: Lauraceae | G13: Comino crespo, Comino, Cachajo, Incibe
B14: Aniba puchury-minor | C14: Especial | D14: 1.7 | E14: (Mart.) Mez | F14: Lauraceae | G14: Caidita
B15: Aniba rosaeodora | C15: Muy_Especial | D15: 2.7 | E15: Ducke | F15: Lauraceae | G15: Palo de Rosa
B16: Apeiba glabra | C16: Especial | D16: 1.7 | E16: Aubl. | F16: Tiliaceae | G16: Peine mono, Corcho
... B188: Zygia longifolia | C188: Especial | D188: 1.7 | E188: (Willd.) Britton & Rose | F188: Leguminosae | G188: Chipero

Sheet SISF_Nombres
A1: Especie | B1: Nombre Común
A2: Abarema barbouriana | B2: Frijolillo
A3: Abarema ganymedea | B3: Carbonero
A4: Abarema jupumba | B4: Carbonero
A5: Abarema lehmannii | B5: Carbonero
A6: Abarema sp. | B6: Chirrinchao
A7: Abatia parviflora | B7: Chirlobirlo
A8: Acacia mangium NO USAR PARA TCF | B8: Acacia
A9: Acacia melanoxylon NO USAR PARA TCF | B9: Acacia Japonesa
A10: Acalypha macrostachya | B10: Zancamula
A11: Acalypha obovata | B11: Varita
A12: Acalypha villosa | B12: Vara de Alcalde
... A1099: Zygia longifolia | B1099: Suribio

Sheet Otras_Sp
A1: Otras
A2: Abarema barbouriana
A3: Abarema ganymedea
A4: Abarema lehmannii
A5: Abarema sp.
A6: Abatia parviflora
A7: Acacia famesiana
A8: Acacia mangium NO USAR PARA TCF
A9: Acacia melanoxylon NO USAR PARA TCF
A10: Acalypha macrostachya
A11: Acalypha obovata
A12: Acalypha villosa
... A113: Bellucia grossularioides
