Workbook
Name Profesionales: Tablasalarios2018!$A$4:$A$18

Sheet  R-FC-88
C1: TABLA UNICA PARA LA LIQUIDACIÓN DE LA TARIFA
C2: R-FC-88
C3: 02
A4: Expediente / solicitud: | G4: Información del propietario
A5: Usuario | G5: Dirección de la empresa:
A6: NIT y/o CC: | G6: Correo:
A7: Tipo de Permiso | G7: Contacto:
A8: Actuación | G8: Información del predio
A9: Fecha de Liquidación: | G9: Municipio, vereda o cgto:
G10: Nombre del predio:
A14: TABLA ÚNICA
A15: Honorarios y Viáticos
A16: Categoria MADS | B16: Especialidad | C16: Grado | D16: No. Profesionales | E16: Honorarios Mensuales | F16: Dedicación mensual (Hombre/mes) | G16: No. De Visitas (b) | H16: Duración de cada visita (c ) | I16: Duración del pronunciamiento (d) | J16: Duración Total(e) (b(c+d)) | K16: Viáticos diarios(f) | L16: Viáticos Totales (g) (b*c*f) | M16: Subtotales (h) ((a*e)+g))
E17: =IFERROR(SUMIFS('Tabla Honorarios 2023'!$G$3:$G$19,'Tabla Honorarios 2023'!$A$3:$A$19,' R-FC-88'!A17,'Tabla Honorarios 2023'!$C$3:$C$19,' R-FC-88'!C17),0) -> 0 | F17: =IFERROR((J17/D17)/30,0) -> 0 | J17: =(G17*H17)+I17 -> 0 | K17: =IFERROR(IF(G17>0,VLOOKUP(CONCATENATE(A17,C17),TablaViaticos2021!$A$26:$E$40,5),0),0) -> 0 | L17: =(G17*H17*D17)*K17 -> 0 | M17: =((E17*D17/30))*J17+L17 -> 0 | Q17: Juridica Inicial
E18: =IFERROR(SUMIFS('Tabla Honorarios 2023'!$G$3:$G$19,'Tabla Honorarios 2023'!$A$3:$A$19,' R-FC-88'!A18,'Tabla Honorarios 2023'!$C$3:$C$19,' R-FC-88'!C18),0) -> 0 | F18: =IFERROR((J18/D18)/30,0) -> 0 | J18: =(G18*H18)+I18 -> 0 | K18: 0 | L18: =(G18*H18*D18)*K18 -> 0 | M18: =((E18*D18/30))*J18+L18 -> 0 | Q18: Firma auto de inicio
E19: =IFERROR(SUMIFS('Tabla Honorarios 2023'!$G$3:$G$19,'Tabla Honorarios 2023'!$A$3:$A$19,' R-FC-88'!A19,'Tabla Honorarios 2023'!$C$3:$C$19,' R-FC-88'!C19),0) -> 0 | F19: =IFERROR((J19/D19)/30,0) -> 0 | J19: =(G19*H19)+I19 -> 0 | K19: =IFERROR(IF(G19>0,VLOOKUP(CONCATENATE(A19,C19),TablaViaticos2021!$A$26:$E$40,5),0),0) -> 0 | L19: 0 | M19: =((E19*D19/30))*J19+L19 -> 0 | Q19: Evaluación y Visita Técnica
E20: =IFERROR(SUMIFS('Tabla Honorarios 2023'!$G$3:$G$19,'Tabla Honorarios 2023'!$A$3:$A$19,' R-FC-88'!A20,'Tabla Honorarios 2023'!$C$3:$C$19,' R-FC-88'!C20),0) -> 0 | F20: =IFERROR((J20/D20)/30,0) -> 0 | J20: =(G20*H20)+I20 -> 0 | K20: =IFERROR(IF(G20>0,VLOOKUP(CONCATENATE(A20,C20),TablaViaticos2021!$A$26:$E$40,5),0),0) -> 0 | L20: =(G20*H20*D20)*K20 -> 0 | M20: =((E20*D20/30))*J20+L20 -> 0 | Q20: Análisis Cartográfico
E21: =IFERROR(SUMIFS('Tabla Honorarios 2023'!$G$3:$G$19,'Tabla Honorarios 2023'!$A$3:$A$19,' R-FC-88'!A21,'Tabla Honorarios 2023'!$C$3:$C$19,' R-FC-88'!C21),0) -> 0 | F21: =IFERROR((J21/D21)/30,0) -> 0 | J21: =(G21*H21)+I21 -> 0 | K21: =IFERROR(IF(G21>0,VLOOKUP(CONCATENATE(A21,C21),TablaViaticos2021!$A$26:$E$40,5),0),0) -> 0 | L21: =(G21*H21*D21)*K21 -> 0 | M21: =((E21*D21/30))*J21+L21 -> 0 | Q21: Revisión coordinador Inf Tco
E22: =IFERROR(SUMIFS('Tabla Honorarios 2023'!$G$3:$G$19,'Tabla Honorarios 2023'!$A$3:$A$19,' R-FC-88'!A22,'Tabla Honorarios 2023'!$C$3:$C$19,' R-FC-88'!C22),0) -> 0 | F22: =IFERROR((J22/D22)/30,0) -> 0 | J22: =(G22*H22)+I22 -> 0 | K22: =IFERROR(IF(G22>0,VLOOKUP(CONCATENATE(A22,C22),TablaViaticos2021!$A$26:$E$40,5),0),0) -> 0 | L22: =(G22*H22*D22)*K22 -> 0 | M22: =((E22*D22/30))*J22+L22 -> 0 | Q22: Proyección acto administrativo
E23: =IFERROR(SUMIFS('Tabla Honorarios 2023'!$G$3:$G$19,'Tabla Honorarios 2023'!$A$3:$A$19,' R-FC-88'!A23,'Tabla Honorarios 2023'!$C$3:$C$19,' R-FC-88'!C23),0) -> 0 | F23: =IFERROR((J23/D23)/30,0) -> 0 | J23: =(G23*H23)+I23 -> 0 | K23: =IFERROR(IF(G23>0,VLOOKUP(CONCATENATE(A23,C23),TablaViaticos2021!$A$26:$E$40,5),0),0) -> 0 | L23: =(G23*H23*D23)*K23 -> 0 | M23: =((E23*D23/30))*J23+L23 -> 0 | Q23: Revisión Acto Administrativo
E24: =IFERROR(SUMIFS('Tabla Honorarios 2023'!$G$3:$G$19,'Tabla Honorarios 2023'!$A$3:$A$19,' R-FC-88'!A24,'Tabla Honorarios 2023'!$C$3:$C$19,' R-FC-88'!C24),0) -> 0 | F24: =IFERROR((J24/D24)/30,0) -> 0 | J24: =(G24*H24)+I24 -> 0 | K24: =IFERROR(IF(G24>0,VLOOKUP(CONCATENATE(A24,C24),TablaViaticos2021!$A$26:$E$40,5),0),0) -> 0 | L24: =(G24*H24*D24)*K24 -> 0 | M24: =((E24*D24/30))*J24+L24 -> 0 | Q24: Revisón coordinador SGAA
E25: =IFERROR(SUMIFS('Tabla Honorarios 2023'!$G$3:$G$19,'Tabla Honorarios 2023'!$A$3:$A$19,' R-FC-88'!A25,'Tabla Honorarios 2023'!$C$3:$C$19,' R-FC-88'!C25),0) -> 0 | F25: =IFERROR((J25/D25)/30,0) -> 0 | J25: =(G25*H25)+I25 -> 0 | K25: =IFERROR(IF(G25>0,VLOOKUP(CONCATENATE(A25,C25),TablaViaticos2021!$A$26:$E$40,5),0),0) -> 0 | L25: =(G25*H25*D25)*K25 -> 0 | M25: =((E25*D25/30))*J25+L25 -> 0 | Q25: Revisión secretario general
E26: =IFERROR(SUMIFS('Tabla Honorarios 2023'!$G$3:$G$19,'Tabla Honorarios 2023'!$A$3:$A$19,' R-FC-88'!A26,'Tabla Honorarios 2023'!$C$3:$C$19,' R-FC-88'!C26),0) -> 0 | F26: =IFERROR((J26/D26)/30,0) -> 0 | J26: =(G26*H26)+I26 -> 0 | K26: =IFERROR(IF(G26>0,VLOOKUP(CONCATENATE(A26,C26),TablaViaticos2021!$A$26:$E$40,5),0),0) -> 0 | L26: =(G26*H26*D26)*K26 -> 0 | M26: =((E26*D26/30))*J26+L26 -> 0 | Q26: Firma del acto administrativo
E27: =IFERROR(SUMIFS('Tabla Honorarios 2023'!$G$3:$G$19,'Tabla Honorarios 2023'!$A$3:$A$19,' R-FC-88'!A27,'Tabla Honorarios 2023'!$C$3:$C$19,' R-FC-88'!C27),0) -> 0 | F27: =IFERROR((J27/D27)/30,0) -> 0 | J27: =(G27*H27)+I27 -> 0 | K27: =IFERROR(IF(G27>0,VLOOKUP(A27,TablaViaticos2021!$B$26:$E$40,4),0),0) -> 0 | L27: =(G27*H27*D27)*K27 -> 0 | M27: =((E27*D27/30))*I27+L27 -> 0
E28: =IFERROR(SUMIFS('Tabla Honorarios 2023'!$G$3:$G$19,'Tabla Honorarios 2023'!$A$3:$A$19,' R-FC-88'!A28,'Tabla Honorarios 2023'!$C$3:$C$19,' R-FC-88'!C28),0) -> 0 | F28: =IFERROR((J28/D28)/30,0) -> 0 | J28: =(G28*H28)+I28 -> 0 | K28: =IFERROR(IF(G28>0,VLOOKUP(A28,TablaViaticos2021!$B$26:$E$40,4),0),0) -> 0 | L28: =(G28*H28*D28)*K28 -> 0 | M28: =((E28*D28/30))*I28+L28 -> 0
E29: =IFERROR(SUMIFS('Tabla Honorarios 2023'!$G$3:$G$19,'Tabla Honorarios 2023'!$A$3:$A$19,' R-FC-88'!A29,'Tabla Honorarios 2023'!$C$3:$C$19,' R-FC-88'!C29),0) -> 0 | F29: =IFERROR((J29/D29)/30,0) -> 0 | J29: =(G29*H29)+I29 -> 0 | K29: =IFERROR(IF(G29>0,VLOOKUP(A29,TablaViaticos2021!$B$26:$E$40,4),0),0) -> 0 | L29: =(G29*H29*D29)*K29 -> 0 | M29: =((E29*D29/30))*I29+L29 -> 0
E30: =IFERROR(SUMIFS('Tabla Honorarios 2023'!$G$3:$G$19,'Tabla Honorarios 2023'!$A$3:$A$19,' R-FC-88'!A30,'Tabla Honorarios 2023'!$C$3:$C$19,' R-FC-88'!C30),0) -> 0 | F30: =IFERROR((J30/D30)/30,0) -> 0 | J30: =(G30*H30)+I30 -> 0 | K30: =IFERROR(IF(G30>0,VLOOKUP(A30,TablaViaticos2021!$B$26:$E$40,4),0),0) -> 0 | L30: =(G30*H30*D30)*K30 -> 0 | M30: =((E30*D30/30))*I30+L30 -> 0
E31: =IFERROR(SUMIFS('Tabla Honorarios 2023'!$G$3:$G$19,'Tabla Honorarios 2023'!$A$3:$A$19,' R-FC-88'!A31,'Tabla Honorarios 2023'!$C$3:$C$19,' R-FC-88'!C31),0) -> 0 | F31: =IFERROR((J31/D31)/30,0) -> 0 | J31: =(G31*H31)+I31 -> 0 | K31: =IFERROR(IF(G31>0,VLOOKUP(A31,TablaViaticos2021!$B$26:$E$40,4),0),0) -> 0 | L31: =(G31*H31*D31)*K31 -> 0 | M31: =((E31*D31/30))*I31+L31 -> 0
E32: =IFERROR(SUMIFS('Tabla Honorarios 2023'!$G$3:$G$19,'Tabla Honorarios 2023'!$A$3:$A$19,' R-FC-88'!A32,'Tabla Honorarios 2023'!$C$3:$C$19,' R-FC-88'!C32),0) -> 0 | F32: =IFERROR((J32/D32)/30,0) -> 0 | J32: =(G32*H32)+I32 -> 0 | K32: =IFERROR(IF(G32>0,VLOOKUP(A32,TablaViaticos2021!$B$26:$E$40,4),0),0) -> 0 | L32: =(G32*H32*D32)*K32 -> 0 | M32: =((E32*D32/30))*I32+L32 -> 0
E33: =IFERROR(SUMIFS('Tabla Honorarios 2023'!$G$3:$G$19,'Tabla Honorarios 2023'!$A$3:$A$19,' R-FC-88'!A33,'Tabla Honorarios 2023'!$C$3:$C$19,' R-FC-88'!C33),0) -> 0 | F33: =IFERROR((J33/D33)/30,0) -> 0 | J33: =(G33*H33)+I33 -> 0 | K33: =IFERROR(IF(G33>0,VLOOKUP(A33,TablaViaticos2021!$B$26:$E$40,4),0),0) -> 0 | L33: =(G33*H33*D33)*K33 -> 0 | M33: =((E33*D33/30))*I33+L33 -> 0
E34: =IFERROR(SUMIFS('Tabla Honorarios 2023'!$G$3:$G$19,'Tabla Honorarios 2023'!$A$3:$A$19,' R-FC-88'!A34,'Tabla Honorarios 2023'!$C$3:$C$19,' R-FC-88'!C34),0) -> 0 | F34: =IFERROR((J34/D34)/30,0) -> 0 | J34: =(G34*H34)+I34 -> 0 | K34: =IFERROR(IF(G34>0,VLOOKUP(A34,TablaViaticos2021!$B$26:$E$40,4),0),0) -> 0 | L34: =(G34*H34*D34)*K34 -> 0 | M34: =((E34*D34/30))*I34+L34 -> 0
E35: =IFERROR(SUMIFS('Tabla Honorarios 2023'!$G$3:$G$19,'Tabla Honorarios 2023'!$A$3:$A$19,' R-FC-88'!A35,'Tabla Honorarios 2023'!$C$3:$C$19,' R-FC-88'!C35),0) -> 0 | F35: =IFERROR((J35/D35)/30,0) -> 0 | J35: =(G35*H35)+I35 -> 0 | K35: =IFERROR(IF(G35>0,VLOOKUP(A35,TablaViaticos2021!$B$26:$E$40,4),0),0) -> 0 | L35: =(G35*H35*D35)*K35 -> 0 | M35: =((E35*D35/30))*I35+L35 -> 0
E36: =IFERROR(SUMIFS('Tabla Honorarios 2023'!$G$3:$G$19,'Tabla Honorarios 2023'!$A$3:$A$19,' R-FC-88'!A36,'Tabla Honorarios 2023'!$C$3:$C$19,' R-FC-88'!C36),0) -> 0 | F36: =IFERROR((J36/D36)/30,0) -> 0 | J36: =(G36*H36)+I36 -> 0 | K36: =IFERROR(IF(G36>0,VLOOKUP(A36,TablaViaticos2021!$B$26:$E$40,4),0),0) -> 0 | L36: =(G36*H36*D36)*K36 -> 0 | M36: =((E36*D36/30))*I36+L36 -> 0
E37: =IFERROR(SUMIFS('Tabla Honorarios 2023'!$G$3:$G$19,'Tabla Honorarios 2023'!$A$3:$A$19,' R-FC-88'!A37,'Tabla Honorarios 2023'!$C$3:$C$19,' R-FC-88'!C37),0) -> 0 | F37: =IFERROR((J37/D37)/30,0) -> 0 | J37: =(G37*H37)+I37 -> 0 | K37: =IFERROR(IF(G37>0,VLOOKUP(A37,TablaViaticos2021!$B$26:$E$40,4),0),0) -> 0 | L37: =(G37*H37*D37)*K37 -> 0 | M37: =((E37*D37/30))*I37+L37 -> 0
E38: =IFERROR(SUMIFS('Tabla Honorarios 2023'!$G$3:$G$19,'Tabla Honorarios 2023'!$A$3:$A$19,' R-FC-88'!A38,'Tabla Honorarios 2023'!$C$3:$C$19,' R-FC-88'!C38),0) -> 0 | F38: =IFERROR((J38/D38)/30,0) -> 0 | J38: =(G38*H38)+I38 -> 0 | K38: =IFERROR(IF(G38>0,VLOOKUP(A38,TablaViaticos2021!$B$26:$E$40,4),0),0) -> 0 | L38: =(G38*H38*D38)*K38 -> 0 | M38: =((E38*D38/30))*I38+L38 -> 0
... E43: =IFERROR(SUMIFS('Tabla Honorarios 2023'!$G$3:$G$19,'Tabla Honorarios 2023'!$A$3:$A$19,' R-FC-88'!A43,'Tabla Honorarios 2023'!$C$3:$C$19,' R-FC-88'!C43),0) -> 0 | F43: =IFERROR((J43/D43)/30,0) -> 0 | J43: =(G43*H43)+I43 -> 0 | K43: =IFERROR(IF(G43>0,VLOOKUP(A43,TablaViaticos2021!$B$26:$E$40,4),0),0) -> 0 | L43: =(G43*H43*D43)*K43 -> 0 | M43: =((E43*D43/30))*I43+L43 -> 0
A45: Valor proyecto* | E45: 0 | I45: (A) Costo honorarios y Viáticos | M45: =SUM(M17:M43) -> 0
A46: Valor Salario Minimo | E46: =+bdMacroeconomicos!C20 -> 1750905 | I46: (B) Gastos de viaje | M46: =35000*H19*8 -> 0
A47: # de Salarios mínimos | E47: =+E45/E46 -> 0 | I47: (C) Costo analisis de laboratorio y otros | M47: 0
A48: Porcentaje aplicable | E48: =IF(E47>=2115,(IF(E47=2115,0.6%,IF(E47<8458,0.5%,0.4%))),"0"%) -> 0 | I48: Costo Total (A+B+C) | M48: =M45+M46+M47 -> 0
...

Sheet Instructivo
C1: TABLA UNICA PARA LA LIQUIDACIÓN DE LA TARIFA
C2: R-FC-88
C3: 01
B4: Instructivo para diligenciar el formato R-FC-88: Tabla Única Para la Liquidación de la Tarifa
A7: Paso 1 | B7: IDENTIFICACIÓN DEL USUARIO | C7: Ingresa los datos del usuario, tipo y número de permiso, fecha y objeto de solicitud en el encabezado de la TABLA UNICA PARA LA LIQUIDACIÓN DE LA TARIFA.
B9: IDENTIFICACIÓN DEL COSTO.
B10: Art. 96 de la ley 0633 de 2000 y Resolución 1280 de 2010
A11: Paso 2 | B11: a. El valor total de los honorarios de los profesionales requeridos para la realización de la tarea propuesta; | C11: Profesionales o contratistas: Se debe estimar el personal requerido para el permiso . Una vez estimados se define la cantidad y dedicación (días) que tendrán para realizan este tipo de labor, así: a) Cantidad: Escoge de la lista desplegable (columna "A") la "Categoría de(los) profesional(es) o contratista(s)" que debe participar en evaluación o seguimiento, luego se escoge la especialidad a la que corresponde el (los) profesional(es) o contratista(s) (columna "B"), a continuación se escoge grado al que corresponde (columna "C") y por último se define el número de profesional(es) o contratista(s) en la columna "D". El modelo selecciona en la columna "E" las asignaciones salariales respectivas. b) Dedicación: Se ingresa en la columna "I" la cantidad de días que emplean el(os) profesional(es) para ejecutar las tareas asignadas. el modelo calcula en la columna "M" el valor total de los honorarios de los profesionales requeridos para la realización de la tarea propuesta Se adicionan tantas líneas como tipo de profesionales diferentes se requieran.
A12: Paso 3 | B12: b. El valor total de los viáticos y gastos de viaje de los profesionales que se ocasionen para el estudio, la expedición, el seguimiento y/o el monitoreo de la licencia ambiental, permisos, concesiones o autorizaciones y demás instrumentos de control y manejo ambiental establecidos en la Ley y los reglamentos. | C12: Viáticos: Para calcular estos costos, se selecciona la fila donde se encuentra el tipo de profesional o contratistas que debe realizar visita de campo, en la columna "G" se digita el número de visitas a realizar y en la columna "H" la duración (días) de cada visita, para este cálculo la columna "L" debe quedar en blanco o llenar con cero (0) si la duración de la visita es menor a un día. Se repite el proceso por cada profesional o contratista que debe realizar visita de campo. Una vez se ingresada esta información se calculará, en la columna "M", el valor total de los honorarios de los profesionales requeridos para la realización de la tarea propuesta. Gastos de viaje: sobre el estimativo de visitas a la zona del proyecto se calculará el monto de los gastos de viaje necesarios, valor del transporte de la lista de tarifas D-FC-01. El valor por concepto de gastos de viaje se debe ingresar o calcular en la celda "M43".
A13: Paso 4 | B13: c. El valor total de los análisis de laboratorio u otros estudios y diseños técnicos que sean requeridos tanto para la evaluación como para el seguimiento. | C13: Si el trámite de evaluación o seguimiento requiere análisis de laboratorio u otros estudios y diseños técnicos, estos se cobrarán conforme a las tarifas vigentes fijadas en el “D-FC-01 LISTA DE TARIFA DE SERVICIOS” o a valor de referencia del mercado. Dichos valores se deben digitar en la celda "M44".
A15: Paso 5 | B15: Costo de la evaluación o seguimiento, que se obtiene con Tabla 1: | C15: Una vez ingresado todos los conceptos de costos requeridos en el proceso de evaluación o seguimiento, se obtiene el costo del trámite, cuya cifra se ubica en la celda "M48"
B18: LIQUIDACIÓN POR EL VALOR DEL PROYECTO
A19: Paso 6 | B19: Valor del Proyecto | C19: Ingresar el valor del proyecto reportado por el usuario en la celda "E43": Ver resolución 100-03-10-99-0001-2026 ARTÍCULO 10°. El sujeto pasivo de la obligación deberá suministrar el valor del proyecto, obra o actividad, actualizado en pesos colombianos (COP$), de manera veraz y ajustada a las condiciones reales del mismo. (Incluyendo Costos de Inversión y Costos de Operación durante la vigencia)
A20: Paso 7 | B20: Proyectos menores a 2115 SMMV. Se aplica lo establecido en Resolución 1280 de 2010, Artículo 1°. Establecer la siguiente escala tarifaría para el cobro de los servicios de evaluación y seguimiento de las licencias ambientales, permisos, concesiones, autorizaciones y demás instrumentos de manejo y control ambiental que deban tramitar las Corporaciones Autónomas Regionales, las de Desarrollo Sostenible, los Grandes Centros Urbanos y las autoridades ambientales creadas mediante la Ley 768 de 2002, para proyectos, obras o actividades cuyo valor sea inferior a 2.115 salarios mínimos mensuales (smmv): ver tabla 2. | C20: A) La TABLA UNICA PARA LA LIQUIDACIÓN DE LA TARIFA calcula el valor del costo del servicio con base al valor del proyecto ingresado y busca el valor máximo a cobrar, dicho resultado lo ubica en la celda "E48", automáticamente busca el menor valor entre el costo de la celda "E48" y "E48", el menor valor resultante es asignado a la celda "J50", Finalmente se ingresa en celda "M49" el valor de cualquier otro gasto no contemplado y que se puede buscar en la “D-FC-01 LISTA DE TARIFA DE SERVICIOS”, este valor se suma a la celda "J50" y se obtiene el TOTAL A PAGAR.
B21: Proyectos mayores a 2115 SMMV. Las tarifas que se cobran por concepto de la prestación de los servicios de evaluación y de los servicios de seguimiento ambiental, según sea el caso, no podrán exceder los siguientes topes: 1. Aquellos que tengan un valor de dos mil ciento quince (2.115) salarios mínimos mensuales vigentes, tendrán una tarifa máxima del cero punto seis por ciento (0.6%). 2. Aquellos que tengan un valor superior a los dos mil ciento quince (2.115) salarios mínimos mensuales vigentes e inferior a los ocho mil cuatrocientos cincuenta y ocho (8.458) salarios mínimos mensuales vigentes tendrán una tarifa máxima del cero punto cinco por ciento (0.5%). 3. Aquellos que tengan un valor superior a los ocho mil cuatrocientos cincuenta y ocho (8.458) salarios mínimos mensuales vigentes, tendrá una tarifa máxima del cero punto cuatro por ciento (0.4%). | C21: o B) La TABLA UNICA PARA LA LIQUIDACIÓN DE LA TARIFA verifica si valor de proyecto es superior o igual a 2.115 SMMV, si lo es, compara con los SMMV de la Tabla 3 y escoge la escala (0.6%, 0.5%, 0.4%) que le corresponda, este resultado lo ubica en "E48", luego se busca el menor valor entre el costo de la celda "E48" y "E48", el menor valor resultante es llevado a celda "J49", Finalmente se ingresa en celda "M49" el valor de las publicaciones de acuerdo a tarifa fijada en “D-FC-01 LISTA DE TARIFA DE SERVICIOS”, este valor se suma a la celda "J50" y se obtiene el TOTAL A PAGAR.
A22: Nota | B22: Tramites que no requieren reportar valor del proyecto | C22: Para estos tramites solo se ralizan los pasos 1 y 5, el valor resultante será el que se cobre al Usuario. Mas los otros gastos que implique el tramite.
B25: NOTA: Cada año se debe actualizar los valores de honorarios y viaticos de los funcionarios vigentes , igualmente registrar el IPC y salario minimo vigente.

Sheet CALCULO TARIFA FINAL
A1: CALCULO DE LA TARIFA DE EVALUACIÓN Y SEGUIMIENTO - CORPOURABÁ
A2: TARIFA POR CONCEPTO DE PRESTACIÓN DE SERVICIOS DE EVALUACIÓN Y SERVICIOS DE SEGUIMIENTO AMBIENTAL (CONSIDERANDO TOPES) | K2: =ROUND(SMALL($J$17:$J$18,1),2) -> 1682400
A4: CALCULO DE LA TARIFA POR PROYECTO | K4: TARIFA X VR. PROYECTO
A5: VALOR DEL PROYECTO | H5: SMMV | I5: =J5/bdMacroeconomicos!$C$12 -> 320.00328 | J5: =IF('VALOR DEL PROYECTO'!B1<(2114*bdMacroeconomicos!C12),'VALOR DEL PROYECTO'!B1,0) -> 250000000 | K5: =+IF($I$5<25,$C$31,IF($I$5<35,$C$32,IF($I$5<50,$C$33,IF($I$5<70,$C$34,IF($I$5<100,$C$35,IF($I$5<200,$C$36,IF($I$5<300,$C$37,IF($I$5<400,$C$38,IF($I$5<500,$C$39,IF($I$5<700,$C$40,IF($I$5<900,$C$41,IF($I$5<1500,$C$42,IF($I$5<2115,$C$43,0))))))))))))) -> 1682400
A7: CALCULO DE LA TARIFA DE EVALUACIÓN Y SEGUIMIENTO POR: HONORARIOS + VIATICOS + GASTOS DE VIAJES
A8: ELIJA EL TRAMITE: | C8: Diagnóstico Ambiental de Alternativas | J8: Costos
A10: A. HONORARIOS | J10: =ROUND(SUMIFS(Calculos!$K$3:$K$162,Calculos!$A$3:$A$162,'CALCULO TARIFA FINAL'!C8),-2) -> 18363700
A11: B. VIÁTICOS Y GASTOS DE VIAJE | J11: =SUM(J12:J13) -> 1975100
A12: B.1 VIÁTICOS | J12: =ROUND(SUMIFS(Calculos!$N$3:$N$162,Calculos!$A$3:$A$162,'CALCULO TARIFA FINAL'!C8),-2) -> 1681000
A13: B.2 GASTOS DE VIAJES | J13: =ROUND(TarifasTransporte!K11,-2) -> 294100
A14: C. OTROS: ANALISIS LAB. Y ESTUDIOS | J14: =ROUND(Tarifaslab!M2,-2) -> 0
A15: COSTO DEL SERVICIO (A+B+C) | J15: =J10+J11+J14 -> 20338800
A16: Gasto de Administración (25%) | J16: =ROUND(J15*0.25,-2) -> 5084700
A17: COSTO TOTAL DEL SERVICIO INCLUIDO LOS GASTOS DE ADMINISTRACIÓN: | J17: =J15+J16 -> 25423500
A18: COSTO DE ACUERDO A CALCULO SOBRE EL PROYECTO | J18: =K5 -> 1682400
A19: Cifras aproximadas a centenas
A20: Fuente: Resolución 0006358 de 2013 Ministerio de Transporte (Honorarios), Resolución 2613 del 29 de diciembre de 2009 del MAVDT (costo administración 25%)
I22: Valor total del proyecto
A23: TARIFA PARA PROYECTOS QUE TENGAN UN VALOR IGUAL O SUPERIOR A LOS 2.115 SMMV | H23: Máximo | I23: =$J$23/bdMacroeconomicos!$C$12 -> 15168.155 | J23: ='VALOR DEL PROYECTO'!B1+11600000000 -> 11850000000
A24: Dos mil ciento quince (2.115) SMMV | H24: 0.006 | J24: =IF($I$23=2115,J23*(1+H24),0) -> 0
A25: Valor superior a dos mil ciento quince (2.115) SMMV e inferior a ocho mil cuatrocientos cincuenta y ocho (8.458) SMMV | H25: 0.005 | J25: =IF(AND(I23>2115,I23<8458),J23*$H$25,0) -> 0
A26: Valor superior a ocho mil cuatrocientos cincuenta y ocho (8.458) salarios mínimos mensuales vigentes | H26: 0.004 | J26: =IF(AND(I23>=8458),J23*$H$26,0) -> 47400000
A30: Valor proyecto | B30: Tarifa máxima 2010 | C30: Tarifa máxima 2017
A31: Menores a 25 SMMV | B31: 76941 | C31: =ROUND(B31*(1+bdMacroeconomicos!$B$4)*(1+bdMacroeconomicos!$B$5)*(1+bdMacroeconomicos!$B$6)*(1+bdMacroeconomicos!$B$7)*(1+bdMacroeconomicos!$B$8)*(1+bdMacroeconomicos!$B$9)*(1+bdMacroeconomicos!$B$10)*(1+bdMacroeconomicos!$B$11),-2) -> 104800
A32: Igual o superior a 25 SMMV e inferior a 35 SMMV | B32: 107841 | C32: =ROUND(B32*(1+bdMacroeconomicos!$B$4)*(1+bdMacroeconomicos!$B$5)*(1+bdMacroeconomicos!$B$6)*(1+bdMacroeconomicos!$B$7)*(1+bdMacroeconomicos!$B$8)*(1+bdMacroeconomicos!$B$9)*(1+bdMacroeconomicos!$B$10)*(1+bdMacroeconomicos!$B$11),-2) -> 146800
A33: Igual o superior a 35 SMMV e inferior a 50 SMMV | B33: 154191 | C33: =ROUND(B33*(1+bdMacroeconomicos!$B$4)*(1+bdMacroeconomicos!$B$5)*(1+bdMacroeconomicos!$B$6)*(1+bdMacroeconomicos!$B$7)*(1+bdMacroeconomicos!$B$8)*(1+bdMacroeconomicos!$B$9)*(1+bdMacroeconomicos!$B$10)*(1+bdMacroeconomicos!$B$11),-2) -> 209900
A34: Igual o superior a 50 SMMV e inferior a 70 SMMV | B34: 215991 | C34: =ROUND(B34*(1+bdMacroeconomicos!$B$4)*(1+bdMacroeconomicos!$B$5)*(1+bdMacroeconomicos!$B$6)*(1+bdMacroeconomicos!$B$7)*(1+bdMacroeconomicos!$B$8)*(1+bdMacroeconomicos!$B$9)*(1+bdMacroeconomicos!$B$10)*(1+bdMacroeconomicos!$B$11),-2) -> 294100
A35: Igual o superior a 70 SMMV e inferior a 100 SMMV | B35: 308691 | C35: =ROUND(B35*(1+bdMacroeconomicos!$B$4)*(1+bdMacroeconomicos!$B$5)*(1+bdMacroeconomicos!$B$6)*(1+bdMacroeconomicos!$B$7)*(1+bdMacroeconomicos!$B$8)*(1+bdMacroeconomicos!$B$9)*(1+bdMacroeconomicos!$B$10)*(1+bdMacroeconomicos!$B$11),-2) -> 420300
A36: Igual o superior a 100 SMMV e inferior a 200 SMMV | B36: 617691 | C36: =ROUND(B36*(1+bdMacroeconomicos!$B$4)*(1+bdMacroeconomicos!$B$5)*(1+bdMacroeconomicos!$B$6)*(1+bdMacroeconomicos!$B$7)*(1+bdMacroeconomicos!$B$8)*(1+bdMacroeconomicos!$B$9)*(1+bdMacroeconomicos!$B$10)*(1+bdMacroeconomicos!$B$11),-2) -> 841000
A37: Igual o superior a 200 SMMV e inferior a 300 SMMV | B37: 926691 | C37: =ROUND(B37*(1+bdMacroeconomicos!$B$4)*(1+bdMacroeconomicos!$B$5)*(1+bdMacroeconomicos!$B$6)*(1+bdMacroeconomicos!$B$7)*(1+bdMacroeconomicos!$B$8)*(1+bdMacroeconomicos!$B$9)*(1+bdMacroeconomicos!$B$10)*(1+bdMacroeconomicos!$B$11),-2) -> 1261700
A38: Igual o superior a 300 SMMV e inferior a 400 SMMV | B38: 1235691 | C38: =ROUND(B38*(1+bdMacroeconomicos!$B$4)*(1+bdMacroeconomicos!$B$5)*(1+bdMacroeconomicos!$B$6)*(1+bdMacroeconomicos!$B$7)*(1+bdMacroeconomicos!$B$8)*(1+bdMacroeconomicos!$B$9)*(1+bdMacroeconomicos!$B$10)*(1+bdMacroeconomicos!$B$11),-2) -> 1682400
A39: Igual o superior a 400 SMMV e inferior a 500 SMMV | B39: 1544691 | C39: =ROUND(B39*(1+bdMacroeconomicos!$B$4)*(1+bdMacroeconomicos!$B$5)*(1+bdMacroeconomicos!$B$6)*(1+bdMacroeconomicos!$B$7)*(1+bdMacroeconomicos!$B$8)*(1+bdMacroeconomicos!$B$9)*(1+bdMacroeconomicos!$B$10)*(1+bdMacroeconomicos!$B$11),-2) -> 2103100
A40: Igual o superior a 500 SMMV e inferior a 700 SMMV | B40: 2162691 | C40: =ROUND(B40*(1+bdMacroeconomicos!$B$4)*(1+bdMacroeconomicos!$B$5)*(1+bdMacroeconomicos!$B$6)*(1+bdMacroeconomicos!$B$7)*(1+bdMacroeconomicos!$B$8)*(1+bdMacroeconomicos!$B$9)*(1+bdMacroeconomicos!$B$10)*(1+bdMacroeconomicos!$B$11),-2) -> 2944500
A41: Igual o superior a 700 SMMV e inferior a 900 SMMV | B41: 2780691 | C41: =ROUND(B41*(1+bdMacroeconomicos!$B$4)*(1+bdMacroeconomicos!$B$5)*(1+bdMacroeconomicos!$B$6)*(1+bdMacroeconomicos!$B$7)*(1+bdMacroeconomicos!$B$8)*(1+bdMacroeconomicos!$B$9)*(1+bdMacroeconomicos!$B$10)*(1+bdMacroeconomicos!$B$11),-2) -> 3785900
A42: Igual o superior a 900 SMMV e inferior a 1500 SMMV | B42: 4634691 | C42: =ROUND(B42*(1+bdMacroeconomicos!$B$4)*(1+bdMacroeconomicos!$B$5)*(1+bdMacroeconomicos!$B$6)*(1+bdMacroeconomicos!$B$7)*(1+bdMacroeconomicos!$B$8)*(1+bdMacroeconomicos!$B$9)*(1+bdMacroeconomicos!$B$10)*(1+bdMacroeconomicos!$B$11),-2) -> 6310200
A43: Igual o superior a 1500 SMMV e inferior a 2115 SMMV | B43: 6535041 | C43: =ROUND(B43*(1+bdMacroeconomicos!$B$4)*(1+bdMacroeconomicos!$B$5)*(1+bdMacroeconomicos!$B$6)*(1+bdMacroeconomicos!$B$7)*(1+bdMacroeconomicos!$B$8)*(1+bdMacroeconomicos!$B$9)*(1+bdMacroeconomicos!$B$10)*(1+bdMacroeconomicos!$B$11),-2) -> 8897500
A44: Fuente: Resolución 1280 de 2010 Ministerio de Ambiente, Vivienda y Desarrollo Territorial

Sheet Calculos
A1: Nota: Los profesionales incluyen los de la fase de evaluación y seguimiento
A2: PROCEDIMIENTO | B2: PROFESIONALES | C2: No. de profesionales | D2: No. de profesionales | E2: Honorario mensual | F2: Dedicación mensual (Hombre/mes) | G2: No. de visitas | H2: Duaración (días) | I2: Total No. de días | J2: Total Honorarios por Profesional | K2: TOTAL HONORARIO | L2: Viaticos diarios | M2: Total Viaticos por Profesional | N2: TOTAL VIATICOS | O2: Costo Total
A3: Diagnóstico Ambiental de Alternativas | B3: PROFESIONAL ESPECIALIZADO GRADO 13 | C3: 1J | D3: 1 | E3: =IFERROR(VLOOKUP(B3,'Tabla Honorarios 2023'!$A$27:$H$60,7,0),0) -> 10270180 | F3: 0.25 | G3: 2 | H3: 1 | I3: =G3*H3 -> 2 | J3: =(E3*F3)*I3 -> 5135090.1 | K3: =SUM(J3:J12) -> 18363687 | L3: =SUMIFS(TablaViaticos2021!$D$6:$D$17,TablaViaticos2021!$A$6:$A$17,Calculos!B3) -> 456561 | M3: =I3*L3 -> 913122 | N3: =SUM(M3:M12) -> 1681045 | O3: =K3+N3 -> 20044732
B4: TECNICO ADMINISTRATIVO GRADO 14 | C4: 1A | D4: 2 | E4: =IFERROR(VLOOKUP(B4,'Tabla Honorarios 2023'!$A$27:$H$60,7,0),0) -> 4743615 | F4: 0.75 | G4: 1 | H4: 1 | I4: =G4*H4 -> 1 | J4: =(E4*F4)*I4 -> 3557711.3 | L4: =SUMIFS(TablaViaticos2021!$D$6:$D$17,TablaViaticos2021!$A$6:$A$17,Calculos!B4) -> 184753 | M4: =I4*L4 -> 184753
B5: OPERARIOS CALIFICADOS GRADO 15 | C5: 3F | D5: 1 | E5: =IFERROR(VLOOKUP(B5,'Tabla Honorarios 2023'!$A$27:$H$60,7,0),0) -> 3025474.3 | F5: 0.5 | G5: 1 | H5: 2 | I5: =G5*H5 -> 2 | J5: =(E5*F5)*I5 -> 3025474.3 | L5: =SUMIFS(TablaViaticos2021!$D$6:$D$17,TablaViaticos2021!$A$6:$A$17,Calculos!B5) -> 152268 | M5: =I5*L5 -> 304536
B6: PROFESIONAL UNIVERSITARIO GRADO 8 | C6: 3B | D6: 3 | E6: =IFERROR(VLOOKUP(B6,'Tabla Honorarios 2023'!$A$27:$H$60,7,0),0) -> 6645410.8 | F6: 1 | G6: 1 | H6: 1 | I6: =G6*H6 -> 1 | J6: =(E6*F6)*I6 -> 6645410.8 | L6: =SUMIFS(TablaViaticos2021!$D$6:$D$17,TablaViaticos2021!$A$6:$A$17,Calculos!B6) -> 278634 | M6: =I6*L6 -> 278634
C7: 1S | E7: =IFERROR(VLOOKUP(B7,'Tabla Honorarios 2023'!$A$27:$H$60,7,0),0) -> 0 | I7: =G7*H7 -> 0 | J7: =(E7*F7)*I7 -> 0 | L7: =SUMIFS(TablaViaticos2021!$D$6:$D$17,TablaViaticos2021!$A$6:$A$17,Calculos!B7) -> 0 | M7: =I7*L7 -> 0
E8: =IFERROR(VLOOKUP(B8,'Tabla Honorarios 2023'!$A$27:$H$60,7,0),0) -> 0 | I8: =G8*H8 -> 0 | J8: =(E8*F8)*I8 -> 0 | L8: =SUMIFS(TablaViaticos2021!$D$6:$D$17,TablaViaticos2021!$A$6:$A$17,Calculos!B8) -> 0 | M8: =I8*L8 -> 0
E9: =IFERROR(VLOOKUP(B9,'Tabla Honorarios 2023'!$A$27:$H$60,7,0),0) -> 0 | I9: =G9*H9 -> 0 | J9: =(E9*F9)*I9 -> 0 | L9: =SUMIFS(TablaViaticos2021!$D$6:$D$17,TablaViaticos2021!$A$6:$A$17,Calculos!B9) -> 0 | M9: =I9*L9 -> 0
E10: =IFERROR(VLOOKUP(B10,'Tabla Honorarios 2023'!$A$27:$H$60,7,0),0) -> 0 | I10: =G10*H10 -> 0 | J10: =(E10*F10)*I10 -> 0 | L10: =SUMIFS(TablaViaticos2021!$D$6:$D$17,TablaViaticos2021!$A$6:$A$17,Calculos!B10) -> 0 | M10: =I10*L10 -> 0
E11: =IFERROR(VLOOKUP(B11,'Tabla Honorarios 2023'!$A$27:$H$60,7,0),0) -> 0 | I11: =G11*H11 -> 0 | J11: =(E11*F11)*I11 -> 0 | L11: =SUMIFS(TablaViaticos2021!$D$6:$D$17,TablaViaticos2021!$A$6:$A$17,Calculos!B11) -> 0 | M11: =I11*L11 -> 0
E12: =IFERROR(VLOOKUP(B12,'Tabla Honorarios 2023'!$A$27:$H$60,7,0),0) -> 0 | I12: =G12*H12 -> 0 | J12: =(E12*F12)*I12 -> 0 | L12: =SUMIFS(TablaViaticos2021!$D$6:$D$17,TablaViaticos2021!$A$6:$A$17,Calculos!B12) -> 0 | M12: =I12*L12 -> 0
A13: Licencia ambiental | C13: 1J | E13: =IFERROR(VLOOKUP(B13,'Tabla Honorarios 2023'!$A$27:$H$60,7,0),0) -> 0 | I13: =G13*H13 -> 0 | J13: =(E13*F13)*I13 -> 0 | K13: =SUM(J13:J22) -> 0 | L13: =SUMIFS(TablaViaticos2021!$D$6:$D$17,TablaViaticos2021!$A$6:$A$17,Calculos!B13) -> 0 | M13: =I13*L13 -> 0 | N13: =SUM(M13:M22) -> 0 | O13: =K13+N13 -> 0
C14: 1A | E14: =IFERROR(VLOOKUP(B14,'Tabla Honorarios 2023'!$A$27:$H$60,7,0),0) -> 0 | I14: =G14*H14 -> 0 | J14: =(E14*F14)*I14 -> 0 | L14: =SUMIFS(TablaViaticos2021!$D$6:$D$17,TablaViaticos2021!$A$6:$A$17,Calculos!B14) -> 0 | M14: =I14*L14 -> 0
C15: 4F | E15: =IFERROR(VLOOKUP(B15,'Tabla Honorarios 2023'!$A$27:$H$60,7,0),0) -> 0 | I15: =G15*H15 -> 0 | J15: =(E15*F15)*I15 -> 0 | L15: =SUMIFS(TablaViaticos2021!$D$6:$D$17,TablaViaticos2021!$A$6:$A$17,Calculos!B15) -> 0 | M15: =I15*L15 -> 0
C16: 3B | E16: =IFERROR(VLOOKUP(B16,'Tabla Honorarios 2023'!$A$27:$H$60,7,0),0) -> 0 | I16: =G16*H16 -> 0 | J16: =(E16*F16)*I16 -> 0 | L16: =SUMIFS(TablaViaticos2021!$D$6:$D$17,TablaViaticos2021!$A$6:$A$17,Calculos!B16) -> 0 | M16: =I16*L16 -> 0
C17: 1S | E17: =IFERROR(VLOOKUP(B17,'Tabla Honorarios 2023'!$A$27:$H$60,7,0),0) -> 0 | I17: =G17*H17 -> 0 | J17: =(E17*F17)*I17 -> 0 | L17: =SUMIFS(TablaViaticos2021!$D$6:$D$17,TablaViaticos2021!$A$6:$A$17,Calculos!B17) -> 0 | M17: =I17*L17 -> 0
E18: =IFERROR(VLOOKUP(B18,'Tabla Honorarios 2023'!$A$27:$H$60,7,0),0) -> 0 | I18: =G18*H18 -> 0 | J18: =(E18*F18)*I18 -> 0 | L18: =SUMIFS(TablaViaticos2021!$D$6:$D$17,TablaViaticos2021!$A$6:$A$17,Calculos!B18) -> 0 | M18: =I18*L18 -> 0
E19: =IFERROR(VLOOKUP(B19,'Tabla Honorarios 2023'!$A$27:$H$60,7,0),0) -> 0 | I19: =G19*H19 -> 0 | J19: =(E19*F19)*I19 -> 0 | L19: =SUMIFS(TablaViaticos2021!$D$6:$D$17,TablaViaticos2021!$A$6:$A$17,Calculos!B19) -> 0 | M19: =I19*L19 -> 0
E20: =IFERROR(VLOOKUP(B20,'Tabla Honorarios 2023'!$A$27:$H$60,7,0),0) -> 0 | I20: =G20*H20 -> 0 | J20: =(E20*F20)*I20 -> 0 | L20: =SUMIFS(TablaViaticos2021!$D$6:$D$17,TablaViaticos2021!$A$6:$A$17,Calculos!B20) -> 0 | M20: =I20*L20 -> 0
E21: =IFERROR(VLOOKUP(B21,'Tabla Honorarios 2023'!$A$27:$H$60,7,0),0) -> 0 | I21: =G21*H21 -> 0 | J21: =(E21*F21)*I21 -> 0 | L21: =SUMIFS(TablaViaticos2021!$D$6:$D$17,TablaViaticos2021!$A$6:$A$17,Calculos!B21) -> 0 | M21: =I21*L21 -> 0
E22: =IFERROR(VLOOKUP(B22,'Tabla Honorarios 2023'!$A$27:$H$60,7,0),0) -> 0 | I22: =G22*H22 -> 0 | J22: =(E22*F22)*I22 -> 0 | L22: =SUMIFS(TablaViaticos2021!$D$6:$D$17,TablaViaticos2021!$A$6:$A$17,Calculos!B22) -> 0 | M22: =I22*L22 -> 0
A23: Plan de Manejo Ambiental (PMA) | C23: 1J | E23: =IFERROR(VLOOKUP(B23,'Tabla Honorarios 2023'!$A$27:$H$60,7,0),0) -> 0 | I23: =G23*H23 -> 0 | J23: =(E23*F23)*I23 -> 0 | K23: =SUM(J23:J32) -> 0 | L23: =SUMIFS(TablaViaticos2021!$D$6:$D$17,TablaViaticos2021!$A$6:$A$17,Calculos!B23) -> 0 | M23: =I23*L23 -> 0 | N23: =SUM(M23:M32) -> 0 | O23: =K23+N23 -> 0
C24: 1A | E24: =IFERROR(VLOOKUP(B24,'Tabla Honorarios 2023'!$A$27:$H$60,7,0),0) -> 0 | I24: =G24*H24 -> 0 | J24: =(E24*F24)*I24 -> 0 | L24: =SUMIFS(TablaViaticos2021!$D$6:$D$17,TablaViaticos2021!$A$6:$A$17,Calculos!B24) -> 0 | M24: =I24*L24 -> 0
C25: 3F | E25: =IFERROR(VLOOKUP(B25,'Tabla Honorarios 2023'!$A$27:$H$60,7,0),0) -> 0 | I25: =G25*H25 -> 0 | J25: =(E25*F25)*I25 -> 0 | L25: =SUMIFS(TablaViaticos2021!$D$6:$D$17,TablaViaticos2021!$A$6:$A$17,Calculos!B25) -> 0 | M25: =I25*L25 -> 0
C26: 2B | E26: =IFERROR(VLOOKUP(B26,'Tabla Honorarios 2023'!$A$27:$H$60,7,0),0) -> 0 | I26: =G26*H26 -> 0 | J26: =(E26*F26)*I26 -> 0 | L26: =SUMIFS(TablaViaticos2021!$D$6:$D$17,TablaViaticos2021!$A$6:$A$17,Calculos!B26) -> 0 | M26: =I26*L26 -> 0
C27: 1S | E27: =IFERROR(VLOOKUP(B27,'Tabla Honorarios 2023'!$A$27:$H$60,7,0),0) -> 0 | I27: =G27*H27 -> 0 | J27: =(E27*F27)*I27 -> 0 | L27: =SUMIFS(TablaViaticos2021!$D$6:$D$17,TablaViaticos2021!$A$6:$A$17,Calculos!B27) -> 0 | M27: =I27*L27 -> 0
E28: =IFERROR(VLOOKUP(B28,'Tabla Honorarios 2023'!$A$27:$H$60,7,0),0) -> 0 | I28: =G28*H28 -> 0 | J28: =(E28*F28)*I28 -> 0 | L28: =SUMIFS(TablaViaticos2021!$D$6:$D$17,TablaViaticos2021!$A$6:$A$17,Calculos!B28) -> 0 | M28: =I28*L28 -> 0
E29: =IFERROR(VLOOKUP(B29,'Tabla Honorarios 2023'!$A$27:$H$60,7,0),0) -> 0 | I29: =G29*H29 -> 0 | J29: =(E29*F29)*I29 -> 0 | L29: =SUMIFS(TablaViaticos2021!$D$6:$D$17,TablaViaticos2021!$A$6:$A$17,Calculos!B29) -> 0 | M29: =I29*L29 -> 0
E30: =IFERROR(VLOOKUP(B30,'Tabla Honorarios 2023'!$A$27:$H$60,7,0),0) -> 0 | I30: =G30*H30 -> 0 | J30: =(E30*F30)*I30 -> 0 | L30: =SUMIFS(TablaViaticos2021!$D$6:$D$17,TablaViaticos2021!$A$6:$A$17,Calculos!B30) -> 0 | M30: =I30*L30 -> 0
E31: =IFERROR(VLOOKUP(B31,'Tabla Honorarios 2023'!$A$27:$H$60,7,0),0) -> 0 | I31: =G31*H31 -> 0 | J31: =(E31*F31)*I31 -> 0 | L31: =SUMIFS(TablaViaticos2021!$D$6:$D$17,TablaViaticos2021!$A$6:$A$17,Calculos!B31) -> 0 | M31: =I31*L31 -> 0
E32: =IFERROR(VLOOKUP(B32,'Tabla Honorarios 2023'!$A$27:$H$60,7,0),0) -> 0 | I32: =G32*H32 -> 0 | J32: =(E32*F32)*I32 -> 0 | L32: =SUMIFS(TablaViaticos2021!$D$6:$D$17,TablaViaticos2021!$A$6:$A$17,Calculos!B32) -> 0 | M32: =I32*L32 -> 0
A33: Permiso de exploración de aguas subterráneas | C33: 1J | D33: 3 visitas | E33: =IFERROR(VLOOKUP(B33,'Tabla Honorarios 2023'!$A$27:$H$60,7,0),0) -> 0 | I33: =G33*H33 -> 0 | J33: =(E33*F33)*I33 -> 0 | K33: =SUM(J33:J42) -> 0 | L33: =SUMIFS(TablaViaticos2021!$D$6:$D$17,TablaViaticos2021!$A$6:$A$17,Calculos!B33) -> 0 | M33: =I33*L33 -> 0 | N33: =SUM(M33:M42) -> 0 | O33: =K33+N33 -> 0
C34: 1A | E34: =IFERROR(VLOOKUP(B34,'Tabla Honorarios 2023'!$A$27:$H$60,7,0),0) -> 0 | I34: =G34*H34 -> 0 | J34: =(E34*F34)*I34 -> 0 | L34: =SUMIFS(TablaViaticos2021!$D$6:$D$17,TablaViaticos2021!$A$6:$A$17,Calculos!B34) -> 0 | M34: =I34*L34 -> 0
C35: 2F | E35: =IFERROR(VLOOKUP(B35,'Tabla Honorarios 2023'!$A$27:$H$60,7,0),0) -> 0 | I35: =G35*H35 -> 0 | J35: =(E35*F35)*I35 -> 0 | L35: =SUMIFS(TablaViaticos2021!$D$6:$D$17,TablaViaticos2021!$A$6:$A$17,Calculos!B35) -> 0 | M35: =I35*L35 -> 0
E36: =IFERROR(VLOOKUP(B36,'Tabla Honorarios 2023'!$A$27:$H$60,7,0),0) -> 0 | I36: =G36*H36 -> 0 | J36: =(E36*F36)*I36 -> 0 | L36: =SUMIFS(TablaViaticos2021!$D$6:$D$17,TablaViaticos2021!$A$6:$A$17,Calculos!B36) -> 0 | M36: =I36*L36 -> 0
E37: =IFERROR(VLOOKUP(B37,'Tabla Honorarios 2023'!$A$27:$H$60,7,0),0) -> 0 | I37: =G37*H37 -> 0 | J37: =(E37*F37)*I37 -> 0 | L37: =SUMIFS(TablaViaticos2021!$D$6:$D$17,TablaViaticos2021!$A$6:$A$17,Calculos!B37) -> 0 | M37: =I37*L37 -> 0
E38: =IFERROR(VLOOKUP(B38,'Tabla Honorarios 2023'!$A$27:$H$60,7,0),0) -> 0 | I38: =G38*H38 -> 0 | J38: =(E38*F38)*I38 -> 0 | L38: =SUMIFS(TablaViaticos2021!$D$6:$D$17,TablaViaticos2021!$A$6:$A$17,Calculos!B38) -> 0 | M38: =I38*L38 -> 0
E39: =IFERROR(VLOOKUP(B39,'Tabla Honorarios 2023'!$A$27:$H$60,7,0),0) -> 0 | I39: =G39*H39 -> 0 | J39: =(E39*F39)*I39 -> 0 | L39: =SUMIFS(TablaViaticos2021!$D$6:$D$17,TablaViaticos2021!$A$6:$A$17,Calculos!B39) -> 0 | M39: =I39*L39 -> 0
E40: =IFERROR(VLOOKUP(B40,'Tabla Honorarios 2023'!$A$27:$H$60,7,0),0) -> 0 | I40: =G40*H40 -> 0 | J40: =(E40*F40)*I40 -> 0 | L40: =SUMIFS(TablaViaticos2021!$D$6:$D$17,TablaViaticos2021!$A$6:$A$17,Calculos!B40) -> 0 | M40: =I40*L40 -> 0
...

Sheet Tabla Honorarios 2023
A1: REMUNERACION PARA CONTRATOS DE 2023 | L1: Tabla de especialidades tecnicas
A2: DENOMINACION | B2: NIVEL | C2: GRADO | D2: Honorarios CORPOURABA | E2: Vr hora | F2: Experiencia (en meses) | G2: MADS | L2: Abogado
A3: ASESOR | B3: NIVEL ASESOR | C3: 3 | D3: 4802698 | E3: =D3/30/8 -> 20011.242 | L3: Biología
A4: DIRECTOR@ GENERAL | B4: DIRECTIVO | C4: 20 | D4: 12941445 | E4: =D4/30/8 -> 53922.688 | G4: =+G52 -> 17519719 | L4: Cartografía
A5: SUBDIRECTOR@ | B5: DIRECTIVO | C5: 14 | D5: 9245042 | E5: =D5/30/8 -> 38521.008 | G5: =+G51 -> 15707335 | L5: Director@ General
A6: JEFE OFICINA JURIDICA | B6: DIRECTIVO | C6: 14 | D6: 9245042 | E6: =D6/30/8 -> 38521.008 | G6: =+G50 -> 15707335 | L6: Ecología
A7: PROFESIONAL ESPECIALIZADO | B7: NIVEL PROFESIONAL | C7: 13 | D7: 5525378 | E7: =D7/30/8 -> 23022.408 | F7: 10 MES | G7: =+G43 -> 10270180 | L7: Experto SIG
A8: PROFESIONAL UNIVERSITARIO | B8: NIVEL PROFESIONAL | C8: 11 | D8: 4806804 | E8: =D8/30/8 -> 20028.35 | F8: 30 MESES | G8: =+G36 -> 7551603.2 | L8: Geología
A9: PROFESIONAL UNIVERSITARIO | B9: NIVEL PROFESIONAL | C9: 8 | D9: 4276330 | E9: =D9/30/8 -> 17818.042 | F9: 21 MESES | G9: =+G33 -> 6645410.8 | L9: Ingeniería Acuícola
A10: PROFESIONAL UNIVERSITARIO | B10: NIVEL PROFESIONAL | C10: 1 | D10: 2915041 | E10: =D10/30/8 -> 12146.004 | G10: =+G32 -> 6282933.8 | L10: Ingeniería Agropecuario
A11: TECNICO ADMINISTRATIVO | B11: NIVEL TECNICO | C11: 16 | D11: 3804925 | E11: =D11/30/8 -> 15853.854 | F11: 6 MESES | G11: =+G31 -> 5200336 | L11: Ingeniería Ambiental
A12: TECNICO ADMINISTRATIVO | B12: NIVEL TECNICO | C12: 14 | D12: 3222201 | E12: =D12/30/8 -> 13425.837 | F12: 6 MESES | G12: =+G30 -> 4743615 | L12: Ingeniería civil
A13: TECNICO ADMINISTRATIVO | B13: NIVEL TECNICO | C13: 13 | D13: 3108654 | E13: =D13/30/8 -> 12952.725 | L13: Ingeniería Forestal
A14: SECRETARIA EJECUTIVA | B14: NIVEL ASISTENCIAL | C14: 18 | D14: 2607573 | E14: =D14/30/8 -> 10864.888 | F14: 15 | L14: Ingeniería Geólogo
A15: SECRETARIA EJECUTIVA | B15: NIVEL ASISTENCIAL | C15: 16 | D15: 2491836 | E15: =D15/30/8 -> 10382.65 | F15: 5 | L15: Ingeniería Oceanográfico
A16: SECRETARIA EJECUTIVA | B16: NIVEL ASISTENCIAL | C16: 14 | D16: 2313840 | E16: =D16/30/8 -> 9641 | L16: Ingeniería Sanitario
A17: OPERARIOS CALIFICADOS | B17: NIVEL ASISTENCIAL | C17: 15 | D17: 2385758 | E17: =D17/30/8 -> 9940.6583 | G17: =+G27 -> 3025474.3 | L17: Microbiólogía
A18: OPERARIOS CALIFICADOS | B18: NIVEL ASISTENCIAL | C18: 11 | D18: 2042712 | E18: =D18/30/8 -> 8511.3 | L18: Oceanógrafía
A19: AUXILIAR SERVICIOS GENERAL | B19: NIVEL ASISTENCIAL | C19: 11 | D19: 2042712 | E19: =D19/30/8 -> 8511.3 | L19: Otras Ingenierías
L20: Otras tecnologías y/o técnicas
L21: Subdirector@
L22: Tecnología Forestal
L23: Trabajador Social
A26: DENOMINACION | B26: Clasificación | C26: Estudios | D26: Estudios | E26: Experiencia (en meses) | F26: Honorarios 2023 MADS (hasta) | G26: Honorarios 2026 (IPC 2023 a 2025) | H26: Equivalencias Tabla Corporación | I26: Grado
A27: =CONCATENATE(A17," ", "GRADO"," ",C17) -> OPERARIOS CALIFICADOS GRADO 15 | B27: 1 | C27: TB | D27: Título Bachiller | E27: 12 MER O L | F27: 2504000 | G27: =F27*(1+bdMacroeconomicos!$B$17)*(1+bdMacroeconomicos!$B$18)*(1+bdMacroeconomicos!$B$19) -> 3025474.3 | H27: =+A17 -> OPERARIOS CALIFICADOS | I27: 15
B28: =B27+1 -> 2 | C28: TFTP | D28: Título de Formación Tecnica Profesional | E28: 6 MER O L | F28: 3826000 | G28: =F28*(1+bdMacroeconomicos!$B$17)*(1+bdMacroeconomicos!$B$18)*(1+bdMacroeconomicos!$B$19) -> 4622789.4 | L28: DENOMINACION DE CARGOS | N28: Grado Salarial | O28: Cant | P28: Asignación Básica
B29: =B28+1 -> 3 | C29: TFTP | D29: Título de Formación Tecnica Profesional | E29: 12 MER O L | F29: 4204000 | G29: =F29*(1+bdMacroeconomicos!$B$17)*(1+bdMacroeconomicos!$B$18)*(1+bdMacroeconomicos!$B$19) -> 5079510.3 | M29: Nivel | P29: Mensual | Q29: Prima Antigüedad (Quinquenio)
A30: =CONCATENATE(A12," ", "GRADO"," ",C12) -> TECNICO ADMINISTRATIVO GRADO 14 | B30: =B29+1 -> 4 | C30: TFT | D30: Título de Formación Tecnológica | E30: 6 MER O L | F30: 3926000 | G30: =F30*(1+bdMacroeconomicos!$B$17)*(1+bdMacroeconomicos!$B$18)*(1+bdMacroeconomicos!$B$19) -> 4743615 | H30: =+A13 -> TECNICO ADMINISTRATIVO | I30: 14 | L30: DIRECTOR GENERAL | M30: NIVEL DIRECTIVO | N30: 20 | O30: 1 | P30: 8554717.6
A31: =CONCATENATE(A11," ", "GRADO"," ",C11) -> TECNICO ADMINISTRATIVO GRADO 16 | B31: =B30+1 -> 5 | C31: TFT | D31: Título de Formación Tecnológica | E31: 7-24 MER O L | F31: 4304000 | G31: =F31*(1+bdMacroeconomicos!$B$17)*(1+bdMacroeconomicos!$B$18)*(1+bdMacroeconomicos!$B$19) -> 5200336 | H31: =+A11 -> TECNICO ADMINISTRATIVO | I31: 16 | L31: SUBDIRECTOR | M31: NIVEL DIRECTIVO | N31: 14 | O31: 4 | P31: 6111274
A32: =CONCATENATE(A10," ", "GRADO"," ",C10) -> PROFESIONAL UNIVERSITARIO GRADO 1 | B32: =B31+1 -> 6 | C32: TP | D32: Título Profesional | E32: 0 | F32: 5200000 | G32: =F32*(1+bdMacroeconomicos!$B$17)*(1+bdMacroeconomicos!$B$18)*(1+bdMacroeconomicos!$B$19) -> 6282933.8 | H32: =+A10 -> PROFESIONAL UNIVERSITARIO | I32: 1 | L32: JEFE DE OFICINA | M32: NIVEL ASESOR | N32: 10 | O32: 1 | P32: 5305948.9
A33: =CONCATENATE(A9," ", "GRADO"," ",C9) -> PROFESIONAL UNIVERSITARIO GRADO 8 | B33: =B32+1 -> 7 | C33: TP | D33: Título Profesional | E33: 6 | F33: 5500000 | G33: =F33*(1+bdMacroeconomicos!$B$17)*(1+bdMacroeconomicos!$B$18)*(1+bdMacroeconomicos!$B$19) -> 6645410.8 | H33: =+A9 -> PROFESIONAL UNIVERSITARIO | I33: 8 | L33: ASESOR | M33: NIVEL ASESOR | N33: 6 | O33: 1 | P33: 4978519.5
B34: =B33+1 -> 8 | C34: TP | D34: Título Profesional | E34: 12 | F34: 5500000 | G34: =F34*(1+bdMacroeconomicos!$B$17)*(1+bdMacroeconomicos!$B$18)*(1+bdMacroeconomicos!$B$19) -> 6645410.8 | L34: PROFESIONAL ESPECIALIZADO | M34: NIVEL PROFESIONAL | N34: 13 | O34: 12 | P34: 3652453
B35: =B34+1 -> 9 | C35: TP | D35: Título Profesional | E35: 24 | F35: 5800000 | G35: =F35*(1+bdMacroeconomicos!$B$17)*(1+bdMacroeconomicos!$B$18)*(1+bdMacroeconomicos!$B$19) -> 7007887.7 | L35: PROFESIONAL UNIVERSITARIO | M35: NIVEL PROFESIONAL | N35: 11 | O35: 19 | P35: 3177452.7
A36: =CONCATENATE(A8," ", "GRADO"," ",C8) -> PROFESIONAL UNIVERSITARIO GRADO 11 | B36: =B35+1 -> 10 | C36: TP | D36: Título Profesional | E36: 36 | F36: 6250000 | G36: =F36*(1+bdMacroeconomicos!$B$17)*(1+bdMacroeconomicos!$B$18)*(1+bdMacroeconomicos!$B$19) -> 7551603.2 | H36: =+A8 -> PROFESIONAL UNIVERSITARIO | I36: 11 | L36: PROFESIONAL UNIVERSITARIO | M36: NIVEL PROFESIONAL | N36: 8 | O36: 1 | P36: 2826791.8
B37: =B36+1 -> 11 | C37: TP | D37: Título Profesional | E37: 48 | F37: 6250000 | G37: =F37*(1+bdMacroeconomicos!$B$17)*(1+bdMacroeconomicos!$B$18)*(1+bdMacroeconomicos!$B$19) -> 7551603.2 | L37: TECNICO ADMINISTRATIVO | M37: NIVEL TECNICO | N37: 16 | O37: 15 | P37: 2515176.9
A38: =CONCATENATE(A8," ", "GRADO"," ",C8) -> PROFESIONAL UNIVERSITARIO GRADO 11 | B38: =B37+1 -> 12 | C38: TP | D38: Título Profesional | E38: 60 | F38: 7000000 | G38: =F38*(1+bdMacroeconomicos!$B$17)*(1+bdMacroeconomicos!$B$18)*(1+bdMacroeconomicos!$B$19) -> 8457795.5 | L38: TECNICO ADMINISTRATIVO | M38: NIVEL TECNICO | N38: 14 | O38: 3 | P38: 2129976.2
B39: =B38+1 -> 13 | C39: TP | D39: Título Profesional | E39: 60 | F39: 7000000 | G39: =F39*(1+bdMacroeconomicos!$B$17)*(1+bdMacroeconomicos!$B$18)*(1+bdMacroeconomicos!$B$19) -> 8457795.5 | L39: SECRETARIA EJECUTIVA | M39: NIVEL ASISTENCIAL | N39: 18 | O39: 2 | P39: 1723689.8
B40: =B39+1 -> 14 | C40: TP+E ó TP+TA | D40: Título Profesional | E40: 60 | F40: 7000000 | G40: =F40*(1+bdMacroeconomicos!$B$17)*(1+bdMacroeconomicos!$B$18)*(1+bdMacroeconomicos!$B$19) -> 8457795.5 | L40: SECRETARIA EJECUTIVA | M40: NIVEL ASISTENCIAL | N40: 16 | O40: 3 | P40: 1647181.1
B41: =B40+1 -> 15 | C41: TP+E ó TP+TA | D41: Título Profesional | E41: =E40+6 -> 66 | F41: 5500000 | G41: =F41*(1+bdMacroeconomicos!$B$17)*(1+bdMacroeconomicos!$B$18)*(1+bdMacroeconomicos!$B$19) -> 6645410.8 | L41: SECRETARIA EJECUTIVA | M41: NIVEL ASISTENCIAL | N41: 14 | O41: 3 | P41: 1529521
B42: =B41+1 -> 16 | C42: TP+E ó TP+TA | D42: Título Profesional | E42: =E41+6 -> 72 | F42: 5800000 | G42: =F42*(1+bdMacroeconomicos!$B$17)*(1+bdMacroeconomicos!$B$18)*(1+bdMacroeconomicos!$B$19) -> 7007887.7 | L42: OPERARIOS CALIFICADOS | M42: NIVEL ASISTENCIAL | N42: 15 | O42: 7 | P42: 1577061.2
...

Sheet TablaViaticos2021
B1: Tabla de viaticos
B3: COMISIONES DE SERVICIO EN EL INTERIOR DEL PAÍS
A4: DENOMINACION | B4: REMUNERACIÓN MENSUAL | D4: VIÁTICOS DIARIOS EN PESOS | E4: VIÁTICOS DIARIOS EN PESOS no pernotado 25% | F4: items
B5: DE $ | C5: HASTA $ | D5: HASTA $
A6: NA | B6: 0 | C6: 1228413 | D6: 111414 | E6: =D6*25% -> 27853.5 | F6: 1
A7: OPERARIOS CALIFICADOS GRADO 15 | B7: 1228413 | C7: 1930333 | D7: 152268 | E7: =D7*25% -> 38067 | F7: =F6+1 -> 2
A8: TECNICO ADMINISTRATIVO GRADO 14 | B8: 1930333 | C8: 2577679 | D8: 184753 | E8: =D8*25% -> 46188.25 | F8: =F7+1 -> 3
A9: TECNICO ADMINISTRATIVO GRADO 16 | B9: 2577679 | C9: 3269437 | D9: 214980 | E9: =D9*25% -> 53745 | F9: =F8+1 -> 4
A10: NA | B10: 3269437 | C10: 3948523 | D10: 246864 | E10: =D10*25% -> 61716 | F10: =F9+1 -> 5
A11: PROFESIONAL UNIVERSITARIO GRADO 8 | B11: 3948523 | C11: 5954970 | D11: 278634 | E11: =D11*25% -> 69658.5 | F11: =F10+1 -> 6
A12: PROFESIONAL UNIVERSITARIO GRADO 11 | B12: 5954970 | C12: 8322997 | D12: 338443 | E12: =D12*25% -> 84610.75 | F12: =F11+1 -> 7
A13: PROFESIONAL ESPECIALIZADO GRADO 13 | B13: 8322997 | C13: 9882403 | D13: 456561 | E13: =D13*25% -> 114140.25 | F13: =F12+1 -> 8
A14: NA | B14: 9882403 | C14: 12165606 | D14: 593522 | E14: =D14*25% -> 148380.5 | F14: =F13+1 -> 9
A15: PROFESIONAL ESPECIALIZADO CON TITULO ADICIONAL - CONTRATISTA | B15: 12165606 | C15: 14710550 | D15: 717923 | E15: =D15*25% -> 179480.75 | F15: =F14+1 -> 10
A16: PROFESIONAL CON MAESTRIA - CONTRATISTA | B16: 14710550 | C16: En adelante | D16: 845463 | E16: =D16*25% -> 211365.75 | F16: =F15+1 -> 11
E17: =D17*25% -> 0
A18: Fuente:
B19: PARAGRAFO 2: Cuando no se requiera pernoctar en el lugar de la comision, se reconocera el veinticinco por ciento (25%) del valor fijado en la escala de viaticos. Este aplica para comisiones fuera de la jurisdiccion de Corpouraba y para comisiones en municipios dentro de la jurisdiccion de Corpouraba, toda vez la permanencia en el lugar dure seis (6) horas o mas ejecutando actividades propias del cargo debidamente autorizadas.
B24: Tabla viaticos por cargo
B25: DENOMINACION DE CARGOS | C25: GRADO | D25: Salario | E25: Día | F25: 25% no pernotado | G25: Item
A26: =+CONCATENATE(B26,C26) -> DIRECTOR GENERAL20 | B26: DIRECTOR GENERAL | C26: 20 | D26: 8872530 | E26: 300257 | F26: 75064.25 | G26: 8
A27: =+CONCATENATE(B27,C27) -> SUBDIRECTOR14 | B27: SUBDIRECTOR | C27: 14 | D27: 6338312 | E27: 247196 | F27: 61799 | G27: 7
A28: =+CONCATENATE(B28,C28) -> JEFE DE OFICINA10 | B28: JEFE DE OFICINA | C28: 10 | D28: 5503067 | E28: 247196 | F28: 61799 | G28: 6
A29: =+CONCATENATE(B29,C29) -> ASESOR6 | B29: ASESOR | C29: 6 | D29: 5163475 | E29: 219010 | F29: 54752.5 | G29: 5
A30: =+CONCATENATE(B30,C30) -> PROFESIONAL ESPECIALIZADO13 | B30: PROFESIONAL ESPECIALIZADO | C30: 13 | D30: 3788145 | E30: 219010 | F30: 54752.5 | G30: 5
A31: =+CONCATENATE(B31,C31) -> PROFESIONAL UNIVERSITARIO11 | B31: PROFESIONAL UNIVERSITARIO | C31: 11 | D31: 3295498 | E31: 219010 | F31: 54752.5 | G31: 5
A32: =+CONCATENATE(B32,C32) -> PROFESIONAL UNIVERSITARIO8 | B32: PROFESIONAL UNIVERSITARIO | C32: 8 | D32: 2931810 | E32: 190723 | F32: 47680.75 | G32: 4
A33: =+CONCATENATE(B33,C33) -> TECNICO ADMINISTRATIVO16 | B33: TECNICO ADMINISTRATIVO | C33: 16 | D33: 2608619 | E33: 190723 | F33: 47680.75 | G33: 4
A34: =+CONCATENATE(B34,C34) -> TECNICO ADMINISTRATIVO14 | B34: TECNICO ADMINISTRATIVO | C34: 14 | D34: 2209108 | E34: 163907 | F34: 40976.75 | G34: 3
A35: =+CONCATENATE(B35,C35) -> SECRETARIA EJECUTIVA18 | B35: SECRETARIA EJECUTIVA | C35: 18 | D35: 1787727 | E35: 135087 | F35: 33771.75 | G35: 2
A36: =+CONCATENATE(B36,C36) -> SECRETARIA EJECUTIVA16 | B36: SECRETARIA EJECUTIVA | C36: 16 | D36: 1708377 | E36: 135087 | F36: 33771.75 | G36: 2
A37: =+CONCATENATE(B37,C37) -> SECRETARIA14 | B37: SECRETARIA | C37: 14 | D37: 1586345 | E37: 135087 | F37: 33771.75 | G37: 2
... A40: =+CONCATENATE(B40,C40) -> AUXILIAR SERVICIOS GENERAL11 | B40: AUXILIAR SERVICIOS GENERAL | C40: 11 | D40: 1242451 | E40: 135087 | F40: 33771.75 | G40: 2
B74: VIA TICOS DIARIOS EN PESOS

Sheet TarifasTransporte
I1: TERRESTRE | J1: TERRESTRE | K1: FLUVIAL
A2: Origen | B2: Destino | C2: ida y vuelta | D2: un trayecto | E2: Observaciones | F2: Costos | G2: Km Intraurbano | H2: Vr/Km Intraurbano | I2: Promedio Vr/Km Intraurbano | J2: Promedio Vr/Km Veredal | K2: Promedio Vr/Km | N2: Resolución 3600 del 9 de mayo de 2001
A3: Apartado | B3: San Pedro | C3: =D3*2 -> 48000 | D3: 24000 | G3: 72.6 | H3: =D3/G3 -> 330.57851 | I3: =300*1.0318 -> 309.54 | J3: =1250*1.0318 -> 1289.75 | K3: =500*1.0318 -> 515.9
A4: Apartado | B4: Arboletes | C4: =D4*2 -> 76000 | D4: 38000 | G4: 146.8 | H4: =D4/G4 -> 258.85559 | I4: 270 | J4: 1017 | K4: 433
A5: Apartado | B5: Necocli | C5: =D5*2 -> 34000 | D5: 17000 | G5: 71 | H5: =D5/G5 -> 239.43662
A6: Apartado | B6: Totumo | C6: =D6*2 -> 26000 | D6: 13000 | H6: =D6/G6 -> #DIV/0! | I6: TRANSPORTE REQUERIDO
A7: Apartado | B7: Turbo | C7: =D7*2 -> 12000 | D7: 6000 | G7: 33 | H7: =D7/G7 -> 181.81818 | I7: Tipo de Transporte | J7: KILOMETROS TOTAL por cada tipo de transporte | K7: VALOR TOTAL POR TIPO DE TRANSPORTE
A8: Apartado | B8: Carepa | C8: =D8*2 -> 4000 | D8: 2000 | G8: 15 | H8: =D8/G8 -> 133.33333 | I8: TERRESTRE INTERMUNICIPAL | J8: 200 | K8: =+J8*I3 -> 61908
A9: Apartado | B9: Chigorodó | C9: =D9*2 -> 8000 | D9: 4000 | G9: 26 | H9: =D9/G9 -> 153.84615 | I9: TERRESTRE VEREDAL | J9: 100 | K9: =J9*J3 -> 128975
A10: Apartado | B10: Mutatá | C10: =D10*2 -> 30000 | D10: 15000 | G10: 83 | H10: =D10/G10 -> 180.72289 | I10: FLUVIAL | J10: 200 | K10: =J10*K3 -> 103180
A11: Apartado | B11: Bajirá | C11: =D11*2 -> 0 | I11: VALOR TOTAL TRANSPORTE | K11: =SUM(K8:K10) -> 294063
A12: Apartado | B12: Brisas | C12: =D12*2 -> 0 | I12: Coloque cantidad estimado de cada tipo de transporte en Kilometros (total)
A13: Apartado | B13: Dabeiba | C13: =D13*2 -> 54000 | D13: 27000 | H13: =D13/G13 -> #DIV/0!
A14: Apartado | B14: Uramita | C14: =D14*2 -> 62000 | D14: 31000 | H14: =D14/G14 -> #DIV/0!
A15: Apartado | B15: Cañasgorda | C15: =D15*2 -> 82000 | D15: 41000 | H15: =D15/G15 -> #DIV/0!
A16: Cañasgorda | B16: Uramita | C16: =D16*2 -> 20000 | D16: 10000 | G16: 32 | H16: =D16/G16 -> 312.5
A17: Cañasgorda | B17: Rio Verde | C17: =D17*2 -> 28000 | D17: 14000 | G17: 34.4 | H17: =D17/G17 -> 406.97674
A18: Cañasgorda | B18: Cajòn | C18: =D18*2 -> 28000 | D18: 14000 | H18: =D18/G18 -> #DIV/0!
A19: Cañasgorda | B19: Pital | C19: =D19*2 -> 18000 | D19: 9000 | G19: 25 | H19: =D19/G19 -> 360
A20: Cañasgorda | B20: Dabeiba | C20: =D20*2 -> 32000 | D20: 16000 | G20: 67 | H20: =D20/G20 -> 238.80597
A21: Cañasgorda | B21: Santa Teresa | C21: =D21*2 -> 44000 | D21: 22000 | G21: 90 | H21: =D21/G21 -> 244.44444
A22: Cañasgorda | B22: Frontino | C22: =D22*2 -> 50000 | D22: 25000 | G22: 30 | H22: =D22/G22 -> 833.33333
A23: Cañasgorda | B23: Giraldo | C23: =D23*2 -> 20000 | D23: 10000 | H23: =D23/G23 -> #DIV/0!
A24: Cañasgorda | B24: Peque | C24: =D24*2 -> 60000 | D24: 30000 | G24: 161 | H24: =D24/G24 -> 186.3354
A25: Cañasgorda | B25: Cestillal | C25: =D25*2 -> 24000 | D25: 12000 | G25: 25 | H25: =D25/G25 -> 480
A26: Cañasgorda | B26: San Pascual | C26: =D26*2 -> 24000 | D26: 12000 | G26: 25 | H26: =D26/G26 -> 480
A27: Cañasgorda | B27: Nutibara | C27: =D27*2 -> 70000 | D27: 35000 | G27: 60 | H27: =D27/G27 -> 583.33333
A28: Cañasgorda | B28: Pinguro | C28: =D28*2 -> 36000 | D28: 18000 | G28: 40 | H28: =D28/G28 -> 450
A29: Cañasgorda | B29: Manglar | C29: =D29*2 -> 20000 | D29: 10000 | G29: 30 | H29: =D29/G29 -> 333.33333
A30: Cañasgorda | B30: Veredas - Caballo | C30: =D30*2 -> 100000 | D30: 50000 | E30: un día | G30: 20 | H30: =D30/G30 -> 2500
A31: Urrao | B31: Corregimientos | C31: =D31*2 -> 20000 | D31: 10000 | E31: Taxi | H31: =D31/G31 -> #DIV/0!
A32: Urrao | B32: Corregimientos | C32: =D32*1 -> 180000 | D32: 180000 | E32: Viaje día camioneta | G32: 50 | H32: =D32/G32 -> 3600
A33: Urrao | B33: Corregimientos - veredas | C33: =D33*2 -> 240000 | D33: 120000 | E33: en mula | H33: =D33/G33 -> #DIV/0!
A34: Urrao | B34: Medellin | C34: =D34*2 -> 70000 | D34: 35000 | G34: 175 | H34: =D34/G34 -> 200
A35: Urrao | B35: Santa fé | C35: =D35*2 -> 50000 | D35: 25000 | H35: =D35/G35 -> #DIV/0!
A36: Arboletes | B36: Corregimientos | C36: =D36*2 -> 70000 | D36: 35000 | H36: =D36/G36 -> #DIV/0!
A37: Arboletes | B37: Corregimientos - veredas | C37: =D37*2 -> 20000 | D37: 10000 | H37: =D37/G37 -> #DIV/0!
A38: Arboletes | B38: Corregimientos - veredas | C38: =D38 -> 35000 | D38: 35000 | E38: Caballo | G38: 20 | H38: =D38/G38 -> 1750
A40: Fluvial
A41: Brisas | B41: Murindo | C41: =D41*2 -> 140000 | D41: 70000 | H41: =D41/G41 -> #DIV/0!
...

Sheet Tarifaslab
C1: LISTA DE TARIFA DE SERVICIOS | M1: VALOR TOTAL DE LOS SERVICIOS DE LABORATORIO Y/O EVALUACIÓN
C2: Corporación para el Desarrollo Sostenible del Urabá | M2: =SUM(M3:M69) -> 0
C3: Código: D-FC-01 | D3: Versión: 25 | M3: =SUM(M74:M121) -> 0 | N3: QUÍMICOS
C4: Revisó: Sub. Administrativa y Financiera | D4: Aprobó: Director (a) General | M4: =SUM(M126:M139) -> 0 | N4: BIOLÓGICOS
C5: Fecha: 7 de marzo de 2018 | D5: Fecha: 7 de marzo de 2018 | M5: =SUM(M144:M157) -> 0 | N5: FÍSICOS
C6: Resolución: 300-03-10-23-0331-2018 | D6: Páginas: 1 de 10 | M6: =SUM(M162:M182) -> 0 | N6: METALES Y TÓXICOS
M7: =SUM(M186:M191) -> 0 | N7: PESTICIDAS
A8: VIGENCIA 2019 | I8: IPC | J8: 0.0409 | M8: =SUM(M196:M202) -> 0 | N8: Valor Transporte y Visita de Muestreo
A9: 1. TARIFAS APLICACIÓN DE LA AUTORIDAD AMBIENTAL | I9: Tarifa IVA | J9: 0.19 | M9: =SUM(M218) -> 0 | N9: Copias Heliográficas, Planos y Ploteos
A10: CONCESION DE AGUAS SUPERFICIALES-SUBTERRANEAS | C10: TARIFA DERECHOS DE PUBLICACION | D10: TARIFA DE SERVICIOS | E10: TOTAL A LIQUIDAR AL USUARIO
A11: Concesión de aguas | C11: =ROUND('[1]2017'!B8*(1+'[1]2018'!$J$8),-2) -> 70100 | D11: =ROUND('[1]2017'!C8*(1+'[1]2018'!$J$8),-2) -> 584500 | E11: =SUM(C11:D11) -> 654600
A12: Ocupación de Cauces | C12: =ROUND('[1]2017'!B9*(1+'[1]2018'!$J$8),-2) -> 70100 | D12: =ROUND('[1]2017'!C9*(1+'[1]2018'!$J$8),-2) -> 584500 | E12: =SUM(C12:D12) -> 654600
A13: Permiso de Perforación de Pozos | C13: =ROUND('[1]2017'!B10*(1+'[1]2018'!$J$8),-2) -> 70100 | D13: =ROUND('[1]2017'!C10*(1+'[1]2018'!$J$8),-2) -> 584500 | E13: =SUM(C13:D13) -> 654600
A14: Permiso de Vertimientos | C14: =ROUND('[1]2017'!B11*(1+'[1]2018'!$J$8),-2) -> 70100 | D14: =ROUND('[1]2017'!C11*(1+'[1]2018'!$J$8),-2) -> 584500 | E14: =SUM(C14:D14) -> 654600
A15: Viabilidad Ambiental | C15: =ROUND('[1]2017'!B12*(1+'[1]2018'!$J$8),-2) -> 70100 | D15: =ROUND('[1]2017'!C12*(1+'[1]2018'!$J$8),-2) -> 584500 | E15: =SUM(C15:D15) -> 654600
A18: VISITAS TECNICAS, APROVECHAMIENTO FORESTAL | C18: TARIFA DERECHOS DE PUBLICACION | D18: TARIFA DE SERVICIOS | E18: TOTAL A LIQUIDAR AL USUARIO
A19: Aprovechamientos Forestales
A20: Visita Técnica de un (1) día | C20: =ROUND('[1]2017'!B16*(1+'[1]2018'!$J$8),-2) -> 70100 | D20: =ROUND('[1]2017'!C16*(1+'[1]2018'!$J$8),-2) -> 233900 | E20: =SUM(C20:D20) -> 304000
A21: Visita Técnica de dos (2) días | C21: =ROUND('[1]2017'!B17*(1+'[1]2018'!$J$8),-2) -> 70100 | D21: =+D20*2 -> 467800 | E21: =SUM(C21:D21) -> 537900 | J21: =+D21-D20 -> 233900
A22: Visita Técnica de tres (3) días | C22: =ROUND('[1]2017'!B18*(1+'[1]2018'!$J$8),-2) -> 70100 | D22: =+D20*3 -> 701700 | E22: =SUM(C22:D22) -> 771800 | J22: =+D22-D21 -> 233900
A23: Registro Libro de Operaciones | C23: =ROUND('[1]2017'!B19*(1+'[1]2018'!$J$8),-2) -> 70100 | D23: =ROUND('[1]2017'!C19*(1+'[1]2018'!$J$8),-2) -> 163700 | E23: =SUM(C23:D23) -> 233800
A24: Aprovechamiento Forestal domestico | C24: 70100 | D24: 0 | E24: =SUM(C24:D24) -> 70100 | I24: Nuevo
A25: Aprovechamiento de productos de la flora silvestre con fines comerciales | C25: 70100 | D25: 654700 | E25: =SUM(C25:D25) -> 724800 | I25: Nuevo
A26: Registro de plantaciones Forestales | C26: 70100 | D26: 163700 | E26: =SUM(C26:D26) -> 233800 | I26: Nuevo
A28: PARAGRAFO 1. El aprovechamiento forestal incluye el persistente, único y de árboles aislados. | I28: Revisar con DD
A29: PARAGRAFO 2. Para el caso de los aprovechamientos de árboles aislados por tema de riesgos no tendrá ningún cobro. | I29: Revisar con DD
A30: LICENCIAS AMBIENTALES Y PLANES DE MANEJO | C30: TARIFA DERECHOS DE PUBLICACION | D30: TARIFA DE SERVICIOS | E30: TOTAL A LIQUIDAR AL USUARIO
A31: Licencias Ambientales | C31: =ROUND('[1]2017'!B23*(1+'[1]2018'!$J$8),-2) -> 187200 | D31: Ver Parágrafo 3 | E31: Ver Parágrafo 3
A32: Planes de Manejo Ambiental | C32: =ROUND('[1]2017'!B24*(1+'[1]2018'!$J$8),-2) -> 70100 | D32: =ROUND('[1]2017'!C24*(1+'[1]2018'!$J$8),-2) -> 584500 | E32: =SUM(C32:D32) -> 654600
A33: Levantamiento de Veda | C33: =ROUND('[1]2017'!B24*(1+'[1]2018'!$J$8),-2) -> 70100 | D33: Ver Parágrafo 3 | E33: Ver Parágrafo 3
A34: Evaluación de DAA | C34: 70100 | D34: Ver Parágrafo 3 | E34: Ver Parágrafo 3 | I34: Nuevo
A35: PARAGRAFO 3. El valor de la evaluación o tarifa de servicios se establecerá una vez se haya revisado toda la documentación. Esta evaluación se desarrollará con base en la Ley 633 de diciembre de 2000.
A37: PERMISO DE EMISIONES Y OTROS | C37: TARIFA DERECHOS DE PUBLICACION | D37: TARIFA DE SERVICIOS | E37: TOTAL A LIQUIDAR AL USUARIO
A38: Permisos de Emisiones Atmosféricas | C38: =ROUND('[1]2017'!B30*(1+'[1]2018'!$J$8),-2) -> 70100 | D38: =ROUND('[1]2017'!C30*(1+'[1]2018'!$J$8),-2) -> 584500 | E38: =SUM(C38:D38) -> 654600
A39: Conceptos de Carácter Ambiental | C39: 0 | D39: =ROUND('[1]2017'!C32*(1+'[1]2018'!$J$8),-2) -> 163700 | E39: =SUM(C39:D39) -> 163700 | I39: Modificado
A40: Implementación Guías Ambientales | C40: =ROUND('[1]2017'!B33*(1+'[1]2018'!$J$8),-2) -> 70100 | D40: =ROUND('[1]2017'!C33*(1+'[1]2018'!$J$8),-2) -> 584500 | E40: =SUM(C40:D40) -> 654600
A41: Permisos de Estudio (Del Recurso Hídrico, de Diversidad Biológica y Estudios Ambientales) | C41: =ROUND('[1]2017'!B34*(1+'[1]2018'!$J$8),-2) -> 70100 | D41: Ver Parágrafo 4 | E41: Ver Parágrafo 4
A42: Plan de contingencias para almacenamiento y transporte de sustancias peligrosas- e hidrocarburos | C42: 70100 | D42: 584500 | E42: =SUM(C42:D42) -> 654600 | I42: Nuevo
A43: Otros permisos, concesiones o autorizaciones no contempladas | C43: =ROUND('[1]2017'!B35*(1+'[1]2018'!$J$8),-2) -> 70100 | D43: =ROUND('[1]2017'!C35*(1+'[1]2018'!$J$8),-2) -> 584500 | E43: =SUM(C43:D43) -> 654600
A44: PARAGRAFO 4. El valor se establecerá una vez se haya revisado la documentación y definido el número de profesionales y de visitas que se requieren para la evaluación del trámite.
...

Sheet VALOR DEL PROYECTO
A1: VALOR DEL PROYECTO >>>>>>>>>>>>>>>>>>>>>>>> | B1: =B5+B14 -> 250000000 | K1: VALOR DEL PROYECTO
K2: Articulo 1 de la Resolución 1280 de 2010 (Escal tarifaria: para proyectos, obras o actividades cuyo valor sea inferior a 2.115 salarios mínimos mensuales (smmv))
A3: DETERMINACIÓN DEL VALOR DEL PROYECTO. El valor estimado del proyecto, obra o actividad, comprende la sumatoria de los costos de inversión y operación, definidos de la siguiente manera: | B3: VALOR REPORTADO POR EL INTERESADO | K3: RANGO DEL VALOR DEL PROYECTO (En SMMV y en PESOS) | O3: TARIFA MÁXIMA
B4: Valor en Pesos Colombianos COSTO DE INVERSIÓN ($) | K4: 0 | L4: 25 | N4: =L4*781242 -> 19531050 | O4: ='CALCULO TARIFA FINAL'!C31 -> 104800
A5: COSTOS DE INVERSIÓN a) Costos de inversión: Incluyen los valores correspondientes a: | B5: =B7+B8+B9+B10+B11 -> 250000000 | C5: Plan de inversion forzosa certificado | K5: 25 | L5: 35 | N5: =L5*781242 -> 27343470 | O5: ='CALCULO TARIFA FINAL'!C32 -> 146800
C6: Plan de manejo | K6: 35 | L6: 50 | N6: =L6*781242 -> 39062100 | O6: ='CALCULO TARIFA FINAL'!C33 -> 209900
A7: -- Valor del predio objeto del proyecto: | B7: 250000000 | K7: 50 | L7: 70 | N7: =L7*781242 -> 54686940 | O7: ='CALCULO TARIFA FINAL'!C34 -> 294100
A8: -- Obras civiles (diseño y construcción): | K8: 70 | L8: 100 | N8: =L8*781242 -> 78124200 | O8: ='CALCULO TARIFA FINAL'!C35 -> 420300
A9: -- Adquisición y alquiler de maquinaria y equipo utilizados en las obras civiles: | K9: 100 | L9: 200 | N9: =L9*781242 -> 156248400 | O9: ='CALCULO TARIFA FINAL'!C36 -> 841000
A10: -- Constitución de servidumbres: | K10: 200 | L10: 300 | N10: =L10*781242 -> 234372600 | O10: ='CALCULO TARIFA FINAL'!C37 -> 1261700
A11: -- Otros bienes e inversiones relacionados con la actividad económica: | B11: 0 | D11: Articulo 1 de la Resolución 1280 de 2010 (Escal tarifaria: para proyectos, obras o actividades cuyo valor sea inferior a 2.115 salarios mínimos mensuales (smmv)) | K11: 300 | L11: 400 | N11: =L11*781242 -> 312496800 | O11: ='CALCULO TARIFA FINAL'!C38 -> 1682400
