Workbook

Sheet Ayuda
A3: Orden de diligenciamiento del formato R-TH-33
A5: 1. Primero se llena la hoja "R-TH-33 (año)" con los objetivos concertados para el periodo, con esta información se alimentan auntomaticamente las hojas de seguimiento "R-TH-33 (semestre 1)" y "R-TH-33 (semestre 1)"
A6: 2. El seguimiento se debe hacer en las hojas "R-TH-33 (semestre 1)" y "R-TH-33 (semestre 1)", estas a su vez alimentan el consolidaddo del año, hoja "R-TH-33 (año)".
A7: 3. La hoja "R-TH-33 (año)", se llena para fijar objetivos y para consolidar semestre, no se diligencia para los seguimientos.
A9: Porcentajes en seguimientos
A11: Compromisos | B11: Peso Total
A12: Compromisos funcionales | B12: 0.85
A13: Compromisos comportamentales | B13: 0.15
A14: Total | B14: =+B12+B13 -> 1
A16: Niveles de Desarrollo
B17: DESCRIPCIÓN | C17: RESULTADOS
A18: BAJO | B18: El nivel de desarrollo de la competencia no se evidencia, ni tampoco se observa un impacto positivo que permita la obtención de las metas y logros esperados. | C18: 4 a 6
A20: ACEPTABE | B20: El nivel de desarrollo de la competencia se evidencia con mediana frecuencia, con un impacto parcial en la obtención de las metas y logros esperados. | C20: 7 a 9
A22: ALTO | B22: El nivel de desarrollo de la competencia se evidencia de manera permanente e impacta ampliamente y de manera positiva en la obtención de las metas y logros esperados. | C22: 10 a 12
A24: MUY ALTO | B24: El nivel de desarrollo de la competencia se evidencia de manera permanente, impactando amplia y positivamente la obtención de las metas y logros esperados, e igualmente agregando valor en los procesos y resultados | C24: 13 a 15
A28: Escala de Calificación
A29: Nivel | B29: Porcentaje
A30: Sobresaliente | B30: Mayor o igual al 90%
A31: Satisfactorio | B31: Mayor al 65% y menor al 90%
A32: No Satisfactorio | B32: Menor o igual al 65%

Sheet R-TH-33  (semestre 1)
C1: SEGUIMIENTO SERVIDORES PÚBLICOS PROVISIONALES, LIBRE NOMBRAMIENTO Y REMOCIÓN Y/O DE PLANTA TEMPORAL
C2: R-TH-33
C3: 10
A5: Este formato es un instrumento diseñado por CORPOURABA como política institucional en el Sistema de Gestión Corporativo, dentro de un marco de apoyo y seguimiento a la gestión de La Corporación. Esta no generará derechos de carrera, ni privilegios que la Ley establece para los servidores públicos que ostentan esta condición, ni acceso a los incentivos previstos en la entidad para los funcionarios escalafonados.
N6: 1
A7: Nombre del Funcionario: | D7: =+'R-TH-33 (año)'!D7:H7 -> XX | N7: =+N6+1 -> 2
A8: Cargo que Desempeña: | D8: =+'R-TH-33 (año)'!D8:H8 -> xx | N8: =+N7+1 -> 3
A9: Identificación: | D9: =+'R-TH-33 (año)'!D9:H9 -> xx | N9: =+N8+1 -> 4
A10: Periodo: | D10: =+'R-TH-33 (año)'!D10:H10 -> xx | N10: =+N9+1 -> 5
A11: Área: | D11: =+'R-TH-33 (año)'!D11:H11 -> xx | N11: =+N10+1 -> 6
N12: =+N11+1 -> 7
N13: =+N12+1 -> 8
A14: Seguimiento Objetivos Funcionales - 85% | N14: =+N13+1 -> 9
A15: No. | B15: Descripción | E15: Peso % | G15: 1o Semestre | N15: =+N14+1 -> 10
G16: Seguimiento (1-100) | H16: Resultado | N16: =+N15+1 -> 11
A17: 1 | B17: =+'R-TH-33 (año)'!B17:D17 -> xxx | E17: =+'R-TH-33 (año)'!E17 -> 0 | G17: 0 | H17: =+E17*G17 -> 0 | N17: =+N16+1 -> 12
A18: 2 | B18: =+'R-TH-33 (año)'!B18:D18 -> xxx | E18: =+'R-TH-33 (año)'!E18 -> 0 | G18: 0 | H18: =+E18*G18 -> 0 | N18: =+N17+1 -> 13
A19: 3 | B19: =+'R-TH-33 (año)'!B19:D19 -> xxx | E19: =+'R-TH-33 (año)'!E19 -> 0 | G19: 0 | H19: =+E19*G19 -> 0 | N19: =+N18+1 -> 14
A20: 4 | B20: =+'R-TH-33 (año)'!B20:D20 -> xxx | E20: =+'R-TH-33 (año)'!E20 -> 0 | G20: 0 | H20: =+E20*G20 -> 0 | N20: =+N19+1 -> 15
A21: 5 | B21: =+'R-TH-33 (año)'!B21:D21 -> xxx | E21: =+'R-TH-33 (año)'!E21 -> 0 | G21: 0 | H21: =+E21*G21 -> 0
A22: Total | E22: =SUM(E17:E21) -> 0 | G22: Total | H22: =IF(H23>0,"",SUMIF(H17:H21,"<100",H17:H21)) -> 0
C23: Seguimiento Eventual
C24: Seguimiento objetivos funcionales | G24: 0.85 | H24: =+H22*G24 -> 0
A27: Seguimiento Factores Comportamentales - 15%
A28: Factor (Manual de Funciones y Competencias Laborales de los Cargos de la Planta Temporal y M-TH-01 Manual especifico de funciones y competencias) | D28: Cumplimiento de acuerdo a escala: (bajo=6, Aceptable=9, Alto=12, Muy alto=15) Si no aplica dejar en blanco
G29: 1o Semestre | M29: Conductas asociadas
A30: =+'R-TH-33 (año)'!A30:G30 -> 0 | M30: =VLOOKUP(A30,Comportamentales!$A$5:$C$25,3,FALSE) -> #N/A
A31: =+'R-TH-33 (año)'!A31:G31 -> 0 | M31: =VLOOKUP(A31,Comportamentales!$A$5:$C$25,3,FALSE) -> #N/A
A32: =+'R-TH-33 (año)'!A32:G32 -> 0 | M32: =VLOOKUP(A32,Comportamentales!$A$5:$C$25,3,FALSE) -> #N/A
A33: =+'R-TH-33 (año)'!A33:G33 -> 0 | M33: =VLOOKUP(A33,Comportamentales!$A$5:$C$25,3,FALSE) -> #N/A
A34: =+'R-TH-33 (año)'!A34:G34 -> 0 | M34: =VLOOKUP(A34,Comportamentales!$A$5:$C$25,3,FALSE) -> #N/A
A35: TOTAL | H35: =IFERROR(AVERAGE(H30:H34),0) -> 0
A36: Periodo de Prueba? | C36: S/N
A37: Tipo de seguimiento | H37: Resultados
A38: Seguimiento Objetivos Funcionales | H38: =+H24 -> 0
A39: Seguimiento Factores Comportamentales | H39: =+H35 -> 0
A40: Seguimiento total semestre 1o y 2o | H40: =SUM(H38:H39) -> 0
A42: Definiciones de Acciones de Mejoramiento
A46: Firma Subdirector del Área:
A47: Firma Funcionario:

Sheet R-TH-33 (semestre 2)
C1: SEGUIMIENTO SERVIDORES PÚBLICOS PROVISIONALES, LIBRE NOMBRAMIENTO Y REMOCIÓN Y/O DE PLANTA TEMPORAL
C2: R-TH-33
C3: 10
A5: Este formato es un instrumento diseñado por CORPOURABA como política institucional en el Sistema de Gestión Corporativo, dentro de un marco de apoyo y seguimiento a la gestión de La Corporación. Esta no generará derechos de carrera, ni privilegios que la Ley establece para los servidores públicos que ostentan esta condición, ni acceso a los incentivos previstos en la entidad para los funcionarios escalafonados.
N6: 1
A7: Nombre del Funcionario: | D7: =+'R-TH-33 (año)'!D7:H7 -> XX | N7: =+N6+1 -> 2
A8: Cargo que Desempeña: | D8: =+'R-TH-33 (año)'!D8:H8 -> xx | N8: =+N7+1 -> 3
A9: Identificación: | D9: =+'R-TH-33 (año)'!D9:H9 -> xx | N9: =+N8+1 -> 4
A10: Periodo: | D10: =+'R-TH-33 (año)'!D10:H10 -> xx | N10: =+N9+1 -> 5
A11: Área: | D11: =+'R-TH-33 (año)'!D11:H11 -> xx | N11: =+N10+1 -> 6
N12: =+N11+1 -> 7
N13: =+N12+1 -> 8
A14: Seguimiento Objetivos Funcionales - 85% | N14: =+N13+1 -> 9
A15: No. | B15: Descripción | E15: Peso % | G15: 2o Semestre | N15: =+N14+1 -> 10
G16: Seguimiento (1-100) | H16: Resultado | N16: =+N15+1 -> 11
A17: 1 | B17: =+'R-TH-33 (año)'!B17:D17 -> xxx | E17: =+'R-TH-33 (año)'!E17 -> 0 | G17: 0 | H17: =+E17*G17 -> 0 | N17: =+N16+1 -> 12
A18: 2 | B18: =+'R-TH-33 (año)'!B18:D18 -> xxx | E18: =+'R-TH-33 (año)'!E18 -> 0 | G18: 0 | H18: =+E18*G18 -> 0 | N18: =+N17+1 -> 13
A19: 3 | B19: =+'R-TH-33 (año)'!B19:D19 -> xxx | E19: =+'R-TH-33 (año)'!E19 -> 0 | G19: 0 | H19: =+E19*G19 -> 0 | N19: =+N18+1 -> 14
A20: 4 | B20: =+'R-TH-33 (año)'!B20:D20 -> xxx | E20: =+'R-TH-33 (año)'!E20 -> 0 | G20: 0 | H20: =+E20*G20 -> 0 | N20: =+N19+1 -> 15
A21: 5 | B21: =+'R-TH-33 (año)'!B21:D21 -> xxx | E21: =+'R-TH-33 (año)'!E21 -> 0 | G21: 0 | H21: =+E21*G21 -> 0
A22: Total | E22: =SUM(E17:E21) -> 0 | G22: Total | H22: =IF(H23>0,"",SUMIF(H17:H21,"<100",H17:H21)) -> 0
C23: Seguimiento Eventual
C24: Seguimiento objetivos funcionales | G24: 0.85 | H24: =+H22*G24 -> 0
A27: Seguimiento Factores Comportamentales - 15%
A28: Factor (Manual de Funciones y Competencias Laborales de los Cargos de la Planta Temporal y M-TH-01 Manual especifico de funciones y competencias) | D28: Cumplimiento de acuerdo a escala: (bajo=6, Aceptable=9, Alto=12, Muy alto=15) Si no aplica dejar en blanco
G29: 2o Semestre | M29: Conductas asociadas
A30: =+'R-TH-33 (año)'!A30:G30 -> 0 | M30: =VLOOKUP(A30,Comportamentales!$A$5:$C$25,3,FALSE) -> #N/A
A31: =+'R-TH-33 (año)'!A31:G31 -> 0 | M31: =VLOOKUP(A31,Comportamentales!$A$5:$C$25,3,FALSE) -> #N/A
A32: =+'R-TH-33 (año)'!A32:G32 -> 0 | M32: =VLOOKUP(A32,Comportamentales!$A$5:$C$25,3,FALSE) -> #N/A
A33: =+'R-TH-33 (año)'!A33:G33 -> 0 | M33: =VLOOKUP(A33,Comportamentales!$A$5:$C$25,3,FALSE) -> #N/A
A34: =+'R-TH-33 (año)'!A34:G34 -> 0 | M34: =VLOOKUP(A34,Comportamentales!$A$5:$C$25,3,FALSE) -> #N/A
A35: TOTAL | H35: =IFERROR(AVERAGE(H30:H34),0) -> 0
A36: Periodo de Prueba? | C36: S/N
A37: Tipo de seguimiento | H37: Resultados
A38: Seguimiento Objetivos Funcionales | H38: =+H24 -> 0
A39: Seguimiento Factores Comportamentales | H39: =+H35 -> 0
A40: Seguimiento total semestre 1o y 2o | H40: =SUM(H38:H39) -> 0
A42: Definiciones de Acciones de Mejoramiento
A43: Primero
A44: Segundo
...

Sheet R-TH-33 (año)
C1: SEGUIMIENTO SERVIDORES PÚBLICOS PROVISIONALES, LIBRE NOMBRAMIENTO Y REMOCIÓN Y/O DE PLANTA TEMPORAL
C2: R-TH-33
C3: 10
A5: Este formato es un instrumento diseñado por CORPOURABA como política institucional en el Sistema de Gestión Corporativo, dentro de un marco de apoyo y seguimiento a la gestión de La Corporación. Esta no generará derechos de carrera, ni privilegios que la Ley establece para los servidores públicos que ostentan esta condición, ni acceso a los incentivos previstos en la entidad para los funcionarios escalafonados.
N6: 1
A7: Nombre del Funcionario: | D7: XX | N7: =+N6+1 -> 2
A8: Cargo que Desempeña: | D8: xx | N8: =+N7+1 -> 3
A9: Identificación: | D9: xx | N9: =+N8+1 -> 4
A10: Periodo: | D10: xx | N10: =+N9+1 -> 5
A11: Área: | D11: xx | N11: =+N10+1 -> 6
N12: =+N11+1 -> 7
N13: =+N12+1 -> 8
A14: Seguimiento Objetivos Funcionales - 85% | N14: =+N13+1 -> 9
A15: No. | B15: Descripción | E15: Peso % | G15: Año | N15: =+N14+1 -> 10
G16: Seguimiento (1-100) | H16: Resultado | N16: =+N15+1 -> 11
A17: 1 | B17: xxx | G17: =AVERAGE('R-TH-33 (semestre 1)'!G17,'R-TH-33 (semestre 2)'!G17) -> 0 | H17: =+E17*G17 -> 0 | N17: =+N16+1 -> 12
A18: 2 | B18: xxx | G18: =AVERAGE('R-TH-33 (semestre 1)'!G18,'R-TH-33 (semestre 2)'!G18) -> 0 | H18: =+E18*G18 -> 0 | N18: =+N17+1 -> 13
A19: 3 | B19: xxx | G19: =AVERAGE('R-TH-33 (semestre 1)'!G19,'R-TH-33 (semestre 2)'!G19) -> 0 | H19: =+E19*G19 -> 0 | N19: =+N18+1 -> 14
A20: 4 | B20: xxx | G20: =AVERAGE('R-TH-33 (semestre 1)'!G20,'R-TH-33 (semestre 2)'!G20) -> 0 | H20: =+E20*G20 -> 0 | N20: =+N19+1 -> 15
A21: 5 | B21: xxx | G21: =AVERAGE('R-TH-33 (semestre 1)'!G21,'R-TH-33 (semestre 2)'!G21) -> 0 | H21: =+E21*G21 -> 0
A22: Total | E22: =SUM(E17:E21) -> 0 | G22: Total | H22: =IF(H23>0,"",SUMIF(H17:H21,"<100",H17:H21)) -> 0
C23: Seguimiento Eventual
C24: Seguimiento objetivos funcionales | G24: 0.85 | H24: =+H22*G24 -> 0
A27: Seguimiento Factores Comportamentales - 15%
A28: Factor (Manual de Funciones y Competencias Laborales de los Cargos de la Planta Temporal y M-TH-01 Manual especifico de funciones y competencias) | D28: Cumplimiento de acuerdo a escala: (bajo=6, Aceptable=9, Alto=12, Muy alto=15) Si no aplica dejar en blanco
G29: Año | M29: Conductas asociadas
H30: =(+'R-TH-33 (semestre 1)'!H30+'R-TH-33 (semestre 2)'!H30)/2 -> 0 | M30: =VLOOKUP(A30,Comportamentales!$A$5:$C$25,3,FALSE) -> #N/A
H31: =(+'R-TH-33 (semestre 1)'!H31+'R-TH-33 (semestre 2)'!H31)/2 -> 0 | M31: =VLOOKUP(A31,Comportamentales!$A$5:$C$25,3,FALSE) -> #N/A
H32: =(+'R-TH-33 (semestre 1)'!H32+'R-TH-33 (semestre 2)'!H32)/2 -> 0 | M32: =VLOOKUP(A32,Comportamentales!$A$5:$C$25,3,FALSE) -> #N/A
H33: =(+'R-TH-33 (semestre 1)'!H33+'R-TH-33 (semestre 2)'!H33)/2 -> 0 | M33: =VLOOKUP(A33,Comportamentales!$A$5:$C$25,3,FALSE) -> #N/A
H34: =(+'R-TH-33 (semestre 1)'!H34+'R-TH-33 (semestre 2)'!H34)/2 -> 0 | M34: =VLOOKUP(A34,Comportamentales!$A$5:$C$25,3,FALSE) -> #N/A
A35: TOTAL | H35: =SUM(H30:H34)/2 -> 0
A36: Periodo de Prueba? | C36: S/N
A37: Tipo de seguimiento | H37: Resultados
A38: Seguimiento Objetivos Funcionales | H38: =+H24 -> 0
A39: Seguimiento Factores Comportamentales | H39: =+H35 -> 0
A40: Seguimiento total semestre 1o y 2o | H40: =SUM(H38:H39) -> 0
A42: Definiciones de Acciones de Mejoramiento
A43: Primero
A44: Segundo
...

Sheet Comportamentales
A3: Competencia | B3: Definición de la competencia | C3: Conductas asociadas
A5: Orientación a resultados | B5: Realizar las funciones y cumplir los compromisos organizacionales con eficacia y calidad. | C5: ▪ Cumple con oportunidad en función de estándares, objetivos y metas establecidas por la entidad, las funciones que le son asignadas. ▪ Asume la responsabilidad por sus resultados. ▪ Compromete recursos y tiempos para mejorar la productividad tomando las medidas necesarias para minimizar los riesgos. ▪ Realiza todas las acciones necesarias para alcanzar los objetivos propuestos enfrentando los obstáculos que se presentan.
A6: Orientación al usuario y al ciudadano | B6: Dirigir las decisiones y acciones a la satisfacción de las necesidades e intereses de los usuarios internos y externos, de conformidad con las responsabilidades públicas asignadas a la entidad. | C6: ▪ Atiende y valora las necesidades y peticiones de los usuarios y de ciudadanos en general. ▪Considera las necesidades de los usuarios al diseñar proyectos o servicios. ▪Da respuesta oportuna a las necesidades de los usuarios de conformidad con el servicio que ofrece la entidad. ▪Establece diferentes canales de comunicación con el usuario para conocer sus necesidades y propuestas y responde a las mismas. ▪Reconoce la interdependencia entre su trabajo y el de otros.
A7: Compromiso con la Organización | B7: Alinear el propio comportamiento a las necesidades, prioridades y metas organizacionales. | C7: ▪Promueve las metas de la organización y respeta sus normas. ▪Antepone las necesidades de la organización a sus propias necesidades. ▪Apoya a la organización en situaciones difíciles. ▪Demuestra sentido de pertenencia en todas sus actuaciones.
A8: Experticia profesional (Nivel Asesor) | B8: Aplicar el conocimiento profesional | C8: ▪Orienta el desarrollo de proyectos especiales para el logro de resultados de la alta dirección. ▪Aconseja y orienta la toma de decisiones en los temas que le han sido asignados. ▪Asesora en materias propias de su campo de conocimiento, emitiendo conceptos, juicios o propuestas ajustados a lineamientos teóricos y técnicos. ▪Se comunica de modo lógico, claro, efectivo y seguro.
A9: Conocimiento del entorno | B9: Conocer e interpretar la organización, su funcionamiento y sus relaciones políticas y administrativas. | C9: ▪Comprende el entorno organizacional que enmarca las situaciones objeto de asesoría y lo toma como referente obligado para emitir juicios, conceptos o propuestas a desarrollar. ▪Se informa permanentemente sobre políticas gubernamentales, problemas y demandas del entorno.
A10: Construcción de relaciones | B10: Establecer y mantener relaciones cordiales y recíprocas con redes o grupos de personas internas y externas a la organización que faciliten la consecución de los objetivos institucionales. | C10: ▪Utiliza sus contactos para conseguir objetivos. ▪Comparte información para establecer lazos. ▪Interactúa con otros de un modo efectivo y adecuado.
A11: Iniciativa | B11: Anticiparse a los problemas iniciando acciones para superar los obstáculos y alcanzar metas concretas | C11: ▪Prevé situaciones y alternativas de solución que orientan la toma de decisiones de la alta dirección. ▪Enfrenta los problemas y propone acciones concretas para solucionarlos. ▪Reconoce y hace viables las oportunidades.
A12: Aprendizaje Continuo | B12: Adquirir y desarrollar permanentemente conocimientos, destrezas y habilidades, con el fin de mantener altos estándares de eficacia organizacional. | C12: ▪Aprende de la experiencia de otros y de la propia. ▪Se adapta y aplica nuevas tecnologías que se implanten en la organización. ▪Aplica los conocimientos adquiridos a los desafíos que se presentan en el desarrollo del trabajo. ▪Investiga, indaga y profundiza en los temas de su entorno área de desempeño. ▪Reconoce las propias limitaciones y las necesidades de mejorar su preparación. ▪Asimila nueva información y la aplica correctamente.
A13: Experticia profesional (Nivel profesional) | B13: Aplicar el conocimiento profesional en la resolución de problemas y transferirlo a su entorno laboral. | C13: ▪Analiza de un modo sistemático y racional los aspectos del trabajo, basándose en la información relevante. ▪Aplica reglas básicas y conceptos complejos aprendidos ▪Identifica y reconoce con facilidad las causas de los problemas y sus soluciones. ▪Clarifica datos o situaciones complejas. ▪Planea, organiza y ejecuta múltiples tareas tendientes a alcanzar resultados institucionales.
A14: Trabajo en equipo y Colaboración | B14: Trabajar con otros de forma conjunta y de manera participativa, integrando esfuerzos para la consecución de metas institucionales comunes. | C14: ▪Coopera en distintas situaciones y comparte información. ▪Aporta sugerencias, ideas y opiniones. ▪Expresa expectativas positivas del equipo o de los miembros del mismo. ▪Planifica las propias acciones teniendo en cuenta la repercusión de las mismas para la consecución de los objetivos grupales. ▪Establece diálogo directo con los miembros del equipo que permita compartir información e ideas en condiciones de respeto y cordialidad. ▪Respeta criterios dispares y distintas opiniones del equipo.
A15: Creatividad e Innovación (Nivel profesional) | B15: Generar y desarrollar nuevas ideas, conceptos, métodos y soluciones. | C15: ▪Ofrece respuestas alternativas. ▪Aprovecha las oportunidades y problemas para dar soluciones novedosas. ▪Desarrolla nuevas formas de hacer y tecnologías. ▪Busca nuevas alternativas de solución y se arriesga a romper esquemas tradicionales. ▪Inicia acciones para superar los obstáculos y alcanzar metas específicas.
... A25: Colaboración | B25: Cooperar con los demás con el fin de alcanzar los objetivos institucionales | C25: ▪Ayuda al logro de los objetivos articulando sus actuaciones con los demás. ▪Cumple los compromisos que adquiere. ▪Facilita la labor de sus superiores y compañeros de trabajo.
