Workbook

Sheet Hoja1
B1: CARTA DE CONTROL MICROBIOLOGÍA
B2: R-7.7-04
B3: 02
A5: CARTA Nº: | D5: RESPONSABLE:
A7: PARÁMETRO: __________ | D7: UNIDAD: | E7: ________________________
A9: Hoja 1. Carta de control
A11: MUESTRA | B11: TC / Filtro Dup1 (a) | C11: TC / Filtro Dup2 (v) | D11: Log 1 | E11: Log 2 | F11: ABS | G11: ANALISTA | H11: FECHA
A12: 1 | D12: =LOG(B12) -> #NUM! | E12: =LOG(C12) -> #NUM! | F12: =ABS(D12-E12) -> #NUM!
A13: 2 | D13: =LOG(B13) -> #NUM! | E13: =LOG(C13) -> #NUM! | F13: =ABS(D13-E13) -> #NUM!
A14: 3 | D14: =LOG(B14) -> #NUM! | E14: =LOG(C14) -> #NUM! | F14: =ABS(D14-E14) -> #NUM!
A15: 4 | D15: =LOG(B15) -> #NUM! | E15: =LOG(C15) -> #NUM! | F15: =ABS(D15-E15) -> #NUM!
A16: 5 | D16: =LOG(B16) -> #NUM! | E16: =LOG(C16) -> #NUM! | F16: =ABS(D16-E16) -> #NUM!
A17: 6 | D17: =LOG(B17) -> #NUM! | E17: =LOG(C17) -> #NUM! | F17: =ABS(D17-E17) -> #NUM!
A18: 7 | D18: =LOG(B18) -> #NUM! | E18: =LOG(C18) -> #NUM! | F18: =ABS(D18-E18) -> #NUM!
A19: 8 | D19: =LOG(B19) -> #NUM! | E19: =LOG(C19) -> #NUM! | F19: =ABS(D19-E19) -> #NUM!
A20: 9 | D20: =LOG(B20) -> #NUM! | E20: =LOG(C20) -> #NUM! | F20: =ABS(D20-E20) -> #NUM!
A21: 10 | D21: =LOG(B21) -> #NUM! | E21: =LOG(C21) -> #NUM! | F21: =ABS(D21-E21) -> #NUM!
A22: 11 | D22: =LOG(B22) -> #NUM! | E22: =LOG(C22) -> #NUM! | F22: =ABS(D22-E22) -> #NUM!
A23: 12 | D23: =LOG(B23) -> #NUM! | E23: =LOG(C23) -> #NUM! | F23: =ABS(D23-E23) -> #NUM!
... A32: 21 | D32: =LOG(B32) -> #NUM! | E32: =LOG(C32) -> #NUM! | F32: =ABS(D32-E32) -> #NUM!
E33: SUMATORIA | F33: =SUM(F12:F32) -> #NUM!
E34: PROMEDIO | F34: =AVERAGE(F12:F32) -> #NUM!
D35: CRITERIOS DE PRECISIÓN | F35: =3.27*F34 -> #NUM!

Sheet Hoja2
B2: GRÁFICA O CARTA DE CONTROL MICROBIOLOGÍA
B3: R-7.7-04
B4: 02
A6: Hoja 2. Auxiliar
A8: N° | B8: LC
A9: 1 | B9: =Hoja1!$F$35 -> #NUM!
A10: 2 | B10: =Hoja1!$F$35 -> #NUM!
A11: 3 | B11: =Hoja1!$F$35 -> #NUM!
A12: 4 | B12: =Hoja1!$F$35 -> #NUM!
A13: 5 | B13: =Hoja1!$F$35 -> #NUM!
A14: 6 | B14: =Hoja1!$F$35 -> #NUM!
A15: 7 | B15: =Hoja1!$F$35 -> #NUM!
A16: 8 | B16: =Hoja1!$F$35 -> #NUM!
A17: 9 | B17: =Hoja1!$F$35 -> #NUM!
A18: 10 | B18: =Hoja1!$F$35 -> #NUM!
A19: 11 | B19: =Hoja1!$F$35 -> #NUM!
A20: 12 | B20: =Hoja1!$F$35 -> #NUM!
... A29: 21 | B29: =Hoja1!$F$35 -> #NUM!
