Workbook

Sheet CARTA X
B2: GRÁFICAS O CARTAS DE CONTROL
B3: R-7.7-02
B4: 06
A6: Hoja 1. Cartas X
A8: CARTA Nº: | C8: RESPONSABLE:
A10: PARÁMETRO: | D10: PATRÓN:
A12: CONCENTRACIÓN: | D12: UNIDAD:
A14: DATOS PARA LIMITES DE CONTROL | C14: DATOS A CONTROLAR | E14: ANALISTA | F14: FECHA | G14: ESTADO
A15: Nº | B15: Datos | C15: Nº | D15: Datos
A16: 1 | C16: 1 | G16: =IF($B$39 < D16,IF(D16<$B$38, "CONTROLADO",IF(D16<$B$40,"CONTROLADO",IF(D16<$B$42,"ALERTA","FUERA DE CONTROL"))),IF(D16<$B$41,IF(D16<$B$43,"FUERA DE CONTROL","ALERTA"),"CONTROLADO")) -> #DIV/0!
A17: 2 | C17: 2 | G17: =IF($B$39 < D17,IF(D17<$B$38, "CONTROLADO",IF(D17<$B$40,"CONTROLADO",IF(D17<$B$42,"ALERTA","FUERA DE CONTROL"))),IF(D17<$B$41,IF(D17<$B$43,"FUERA DE CONTROL","ALERTA"),"CONTROLADO")) -> #DIV/0!
A18: 3 | C18: 3 | G18: =IF($B$39 < D18,IF(D18<$B$38, "CONTROLADO",IF(D18<$B$40,"CONTROLADO",IF(D18<$B$42,"ALERTA","FUERA DE CONTROL"))),IF(D18<$B$41,IF(D18<$B$43,"FUERA DE CONTROL","ALERTA"),"CONTROLADO")) -> #DIV/0!
A19: 4 | C19: 4 | G19: =IF($B$39 < D19,IF(D19<$B$38, "CONTROLADO",IF(D19<$B$40,"CONTROLADO",IF(D19<$B$42,"ALERTA","FUERA DE CONTROL"))),IF(D19<$B$41,IF(D19<$B$43,"FUERA DE CONTROL","ALERTA"),"CONTROLADO")) -> #DIV/0!
A20: 5 | C20: 5 | G20: =IF($B$39 < D20,IF(D20<$B$38, "CONTROLADO",IF(D20<$B$40,"CONTROLADO",IF(D20<$B$42,"ALERTA","FUERA DE CONTROL"))),IF(D20<$B$41,IF(D20<$B$43,"FUERA DE CONTROL","ALERTA"),"CONTROLADO")) -> #DIV/0!
A21: 6 | C21: 6 | G21: =IF($B$39 < D21,IF(D21<$B$38, "CONTROLADO",IF(D21<$B$40,"CONTROLADO",IF(D21<$B$42,"ALERTA","FUERA DE CONTROL"))),IF(D21<$B$41,IF(D21<$B$43,"FUERA DE CONTROL","ALERTA"),"CONTROLADO")) -> #DIV/0!
A22: 7 | C22: 7 | G22: =IF($B$39 < D22,IF(D22<$B$38, "CONTROLADO",IF(D22<$B$40,"CONTROLADO",IF(D22<$B$42,"ALERTA","FUERA DE CONTROL"))),IF(D22<$B$41,IF(D22<$B$43,"FUERA DE CONTROL","ALERTA"),"CONTROLADO")) -> #DIV/0!
A23: 8 | C23: 8 | G23: =IF($B$39 < D23,IF(D23<$B$38, "CONTROLADO",IF(D23<$B$40,"CONTROLADO",IF(D23<$B$42,"ALERTA","FUERA DE CONTROL"))),IF(D23<$B$41,IF(D23<$B$43,"FUERA DE CONTROL","ALERTA"),"CONTROLADO")) -> #DIV/0!
A24: 9 | C24: 9 | G24: =IF($B$39 < D24,IF(D24<$B$38, "CONTROLADO",IF(D24<$B$40,"CONTROLADO",IF(D24<$B$42,"ALERTA","FUERA DE CONTROL"))),IF(D24<$B$41,IF(D24<$B$43,"FUERA DE CONTROL","ALERTA"),"CONTROLADO")) -> #DIV/0!
A25: 10 | C25: 10 | G25: =IF($B$39 < D25,IF(D25<$B$38, "CONTROLADO",IF(D25<$B$40,"CONTROLADO",IF(D25<$B$42,"ALERTA","FUERA DE CONTROL"))),IF(D25<$B$41,IF(D25<$B$43,"FUERA DE CONTROL","ALERTA"),"CONTROLADO")) -> #DIV/0!
A26: 11 | C26: 11 | G26: =IF($B$39 < D26,IF(D26<$B$38, "CONTROLADO",IF(D26<$B$40,"CONTROLADO",IF(D26<$B$42,"ALERTA","FUERA DE CONTROL"))),IF(D26<$B$41,IF(D26<$B$43,"FUERA DE CONTROL","ALERTA"),"CONTROLADO")) -> #DIV/0!
A27: 12 | C27: 12 | G27: =IF($B$39 < D27,IF(D27<$B$38, "CONTROLADO",IF(D27<$B$40,"CONTROLADO",IF(D27<$B$42,"ALERTA","FUERA DE CONTROL"))),IF(D27<$B$41,IF(D27<$B$43,"FUERA DE CONTROL","ALERTA"),"CONTROLADO")) -> #DIV/0!
... A35: 20 | C35: 20 | G35: =IF($B$39 < D35,IF(D35<$B$38, "CONTROLADO",IF(D35<$B$40,"CONTROLADO",IF(D35<$B$42,"ALERTA","FUERA DE CONTROL"))),IF(D35<$B$41,IF(D35<$B$43,"FUERA DE CONTROL","ALERTA"),"CONTROLADO")) -> #DIV/0!
A36: Promedio | B36: =AVERAGE(B16:B35) -> #DIV/0!
A37: Desviación Estándar | B37: =STDEV(B16:B35) -> #DIV/0!
A38: Xprom+1s | B38: =B36+1*B37 -> #DIV/0! | C38: VALOR MAX | D38: =MAX(D16:D35) -> 0
A39: Xprom-1s | B39: =B36-1*B37 -> #DIV/0! | C39: VALOR MIN | D39: =MIN(D16:D35) -> 0
A40: Xprom+2s | B40: =B36+2*B37 -> #DIV/0!
A41: Xprom-2s | B41: =B36-2*B37 -> #DIV/0!
A42: Xprom+3s | B42: =B36+3*B37 -> #DIV/0!
A43: Xprom-3s | B43: =B36-3*B37 -> #DIV/0!

Sheet CARTA R
B2: GRÁFICAS O CARTAS DE CONTROL
B3: R-7.7-02
B4: 06
A6: Hoja 2. Cartas R
A8: CARTA Nº: | C8: RESPONSABLE:
A10: PARÁMETRO:
A14: DATOS PARA LIMITES DE CONTROL | C14: DATOS A CONTROLAR | G14: ANALISTA | H14: FECHA | I14: ESTADO
A15: N° | B15: RPD | C15: N° | D15: Valor Muestra | E15: Valor Duplicado | F15: RPD
A16: 1 | C16: 1 | F16: =((ABS(D16-E16))/((D16+E16)/2))*100 -> #DIV/0! | I16: =IF(F16<$B$39,"CONTROLADO","FUERA DE CONTROL") -> #DIV/0!
A17: 2 | C17: 2 | F17: =((ABS(D17-E17))/((D17+E17)/2))*100 -> #DIV/0! | I17: =IF(F17<$B$39,"CONTROLADO","FUERA DE CONTROL") -> #DIV/0!
A18: 3 | C18: 3 | F18: =((ABS(D18-E18))/((D18+E18)/2))*100 -> #DIV/0! | I18: =IF(F18<$B$39,"CONTROLADO","FUERA DE CONTROL") -> #DIV/0!
A19: 4 | C19: 4 | F19: =((ABS(D19-E19))/((D19+E19)/2))*100 -> #DIV/0! | I19: =IF(F19<$B$39,"CONTROLADO","FUERA DE CONTROL") -> #DIV/0!
A20: 5 | C20: 5 | F20: =((ABS(D20-E20))/((D20+E20)/2))*100 -> #DIV/0! | I20: =IF(F20<$B$39,"CONTROLADO","FUERA DE CONTROL") -> #DIV/0!
A21: 6 | C21: 6 | F21: =((ABS(D21-E21))/((D21+E21)/2))*100 -> #DIV/0! | I21: =IF(F21<$B$39,"CONTROLADO","FUERA DE CONTROL") -> #DIV/0!
A22: 7 | C22: 7 | F22: =((ABS(D22-E22))/((D22+E22)/2))*100 -> #DIV/0! | I22: =IF(F22<$B$39,"CONTROLADO","FUERA DE CONTROL") -> #DIV/0!
A23: 8 | C23: 8 | F23: =((ABS(D23-E23))/((D23+E23)/2))*100 -> #DIV/0! | I23: =IF(F23<$B$39,"CONTROLADO","FUERA DE CONTROL") -> #DIV/0!
A24: 9 | C24: 9 | F24: =((ABS(D24-E24))/((D24+E24)/2))*100 -> #DIV/0! | I24: =IF(F24<$B$39,"CONTROLADO","FUERA DE CONTROL") -> #DIV/0!
A25: 10 | C25: 10 | F25: =((ABS(D25-E25))/((D25+E25)/2))*100 -> #DIV/0! | I25: =IF(F25<$B$39,"CONTROLADO","FUERA DE CONTROL") -> #DIV/0!
A26: 11 | C26: 11 | F26: =((ABS(D26-E26))/((D26+E26)/2))*100 -> #DIV/0! | I26: =IF(F26<$B$39,"CONTROLADO","FUERA DE CONTROL") -> #DIV/0!
A27: 12 | C27: 12 | F27: =((ABS(D27-E27))/((D27+E27)/2))*100 -> #DIV/0! | I27: =IF(F27<$B$39,"CONTROLADO","FUERA DE CONTROL") -> #DIV/0!
... A35: 20 | C35: 20 | F35: =((ABS(D35-E35))/((D35+E35)/2))*100 -> #DIV/0! | I35: =IF(F35<$B$39,"CONTROLADO","FUERA DE CONTROL") -> #DIV/0!
A36: Promedio RPD | B36: =AVERAGE(B16:B35) -> #DIV/0!
A37: Desviación Estándar | B37: =STDEV(B16:B35) -> #DIV/0!
A38: Criterio RPD | B38: 0.2
A39: LSC | B39: =B36+3*B37 -> #DIV/0! | C39: MAX | D39: =MAX(D16:D35) -> 0 | E39: =MAX(E16:E35) -> 0 | F39: =MAX(F16:F35) -> #DIV/0!
A40: LIC | B40: =0*B37 -> #DIV/0! | C40: MIN | D40: =MIN(D16:D35) -> 0 | E40: =MIN(E16:E35) -> 0 | F40: =MIN(F16:F35) -> #DIV/0!

Sheet AUXILIAR
B2: GRÁFICAS O CARTAS DE CONTROL
B3: R-7.7-02
B4: 06
A6: Hoja 3. Auxiliar
A8: N° | B8: LC X | D8: LB X | F8: LA X | H8: PROMEDIO X | I8: PROMEDIO R | J8: LSC R | K8: LIC R
A9: 1 | B9: ='CARTA X'!$B$38 -> #DIV/0! | C9: ='CARTA X'!$B$39 -> #DIV/0! | D9: ='CARTA X'!$B$40 -> #DIV/0! | E9: ='CARTA X'!$B$41 -> #DIV/0! | F9: ='CARTA X'!$B$42 -> #DIV/0! | G9: ='CARTA X'!$B$43 -> #DIV/0! | H9: ='CARTA X'!$B$36 -> #DIV/0! | I9: ='CARTA R'!$B$37 -> #DIV/0! | J9: ='CARTA R'!$B$39 -> #DIV/0! | K9: ='CARTA R'!$B$40 -> #DIV/0!
A10: 2 | B10: ='CARTA X'!$B$38 -> #DIV/0! | C10: ='CARTA X'!$B$39 -> #DIV/0! | D10: ='CARTA X'!$B$40 -> #DIV/0! | E10: ='CARTA X'!$B$41 -> #DIV/0! | F10: ='CARTA X'!$B$42 -> #DIV/0! | G10: ='CARTA X'!$B$43 -> #DIV/0! | H10: ='CARTA X'!$B$36 -> #DIV/0! | I10: ='CARTA R'!$B$37 -> #DIV/0! | J10: ='CARTA R'!$B$39 -> #DIV/0! | K10: ='CARTA R'!$B$40 -> #DIV/0!
A11: 3 | B11: ='CARTA X'!$B$38 -> #DIV/0! | C11: ='CARTA X'!$B$39 -> #DIV/0! | D11: ='CARTA X'!$B$40 -> #DIV/0! | E11: ='CARTA X'!$B$41 -> #DIV/0! | F11: ='CARTA X'!$B$42 -> #DIV/0! | G11: ='CARTA X'!$B$43 -> #DIV/0! | H11: ='CARTA X'!$B$36 -> #DIV/0! | I11: ='CARTA R'!$B$37 -> #DIV/0! | J11: ='CARTA R'!$B$39 -> #DIV/0! | K11: ='CARTA R'!$B$40 -> #DIV/0!
A12: 4 | B12: ='CARTA X'!$B$38 -> #DIV/0! | C12: ='CARTA X'!$B$39 -> #DIV/0! | D12: ='CARTA X'!$B$40 -> #DIV/0! | E12: ='CARTA X'!$B$41 -> #DIV/0! | F12: ='CARTA X'!$B$42 -> #DIV/0! | G12: ='CARTA X'!$B$43 -> #DIV/0! | H12: ='CARTA X'!$B$36 -> #DIV/0! | I12: ='CARTA R'!$B$37 -> #DIV/0! | J12: ='CARTA R'!$B$39 -> #DIV/0! | K12: ='CARTA R'!$B$40 -> #DIV/0!
A13: 5 | B13: ='CARTA X'!$B$38 -> #DIV/0! | C13: ='CARTA X'!$B$39 -> #DIV/0! | D13: ='CARTA X'!$B$40 -> #DIV/0! | E13: ='CARTA X'!$B$41 -> #DIV/0! | F13: ='CARTA X'!$B$42 -> #DIV/0! | G13: ='CARTA X'!$B$43 -> #DIV/0! | H13: ='CARTA X'!$B$36 -> #DIV/0! | I13: ='CARTA R'!$B$37 -> #DIV/0! | J13: ='CARTA R'!$B$39 -> #DIV/0! | K13: ='CARTA R'!$B$40 -> #DIV/0!
A14: 6 | B14: ='CARTA X'!$B$38 -> #DIV/0! | C14: ='CARTA X'!$B$39 -> #DIV/0! | D14: ='CARTA X'!$B$40 -> #DIV/0! | E14: ='CARTA X'!$B$41 -> #DIV/0! | F14: ='CARTA X'!$B$42 -> #DIV/0! | G14: ='CARTA X'!$B$43 -> #DIV/0! | H14: ='CARTA X'!$B$36 -> #DIV/0! | I14: ='CARTA R'!$B$37 -> #DIV/0! | J14: ='CARTA R'!$B$39 -> #DIV/0! | K14: ='CARTA R'!$B$40 -> #DIV/0!
A15: 7 | B15: ='CARTA X'!$B$38 -> #DIV/0! | C15: ='CARTA X'!$B$39 -> #DIV/0! | D15: ='CARTA X'!$B$40 -> #DIV/0! | E15: ='CARTA X'!$B$41 -> #DIV/0! | F15: ='CARTA X'!$B$42 -> #DIV/0! | G15: ='CARTA X'!$B$43 -> #DIV/0! | H15: ='CARTA X'!$B$36 -> #DIV/0! | I15: ='CARTA R'!$B$37 -> #DIV/0! | J15: ='CARTA R'!$B$39 -> #DIV/0! | K15: ='CARTA R'!$B$40 -> #DIV/0!
A16: 8 | B16: ='CARTA X'!$B$38 -> #DIV/0! | C16: ='CARTA X'!$B$39 -> #DIV/0! | D16: ='CARTA X'!$B$40 -> #DIV/0! | E16: ='CARTA X'!$B$41 -> #DIV/0! | F16: ='CARTA X'!$B$42 -> #DIV/0! | G16: ='CARTA X'!$B$43 -> #DIV/0! | H16: ='CARTA X'!$B$36 -> #DIV/0! | I16: ='CARTA R'!$B$37 -> #DIV/0! | J16: ='CARTA R'!$B$39 -> #DIV/0! | K16: ='CARTA R'!$B$40 -> #DIV/0!
A17: 9 | B17: ='CARTA X'!$B$38 -> #DIV/0! | C17: ='CARTA X'!$B$39 -> #DIV/0! | D17: ='CARTA X'!$B$40 -> #DIV/0! | E17: ='CARTA X'!$B$41 -> #DIV/0! | F17: ='CARTA X'!$B$42 -> #DIV/0! | G17: ='CARTA X'!$B$43 -> #DIV/0! | H17: ='CARTA X'!$B$36 -> #DIV/0! | I17: ='CARTA R'!$B$37 -> #DIV/0! | J17: ='CARTA R'!$B$39 -> #DIV/0! | K17: ='CARTA R'!$B$40 -> #DIV/0!
A18: 10 | B18: ='CARTA X'!$B$38 -> #DIV/0! | C18: ='CARTA X'!$B$39 -> #DIV/0! | D18: ='CARTA X'!$B$40 -> #DIV/0! | E18: ='CARTA X'!$B$41 -> #DIV/0! | F18: ='CARTA X'!$B$42 -> #DIV/0! | G18: ='CARTA X'!$B$43 -> #DIV/0! | H18: ='CARTA X'!$B$36 -> #DIV/0! | I18: ='CARTA R'!$B$37 -> #DIV/0! | J18: ='CARTA R'!$B$39 -> #DIV/0! | K18: ='CARTA R'!$B$40 -> #DIV/0!
A19: 11 | B19: ='CARTA X'!$B$38 -> #DIV/0! | C19: ='CARTA X'!$B$39 -> #DIV/0! | D19: ='CARTA X'!$B$40 -> #DIV/0! | E19: ='CARTA X'!$B$41 -> #DIV/0! | F19: ='CARTA X'!$B$42 -> #DIV/0! | G19: ='CARTA X'!$B$43 -> #DIV/0! | H19: ='CARTA X'!$B$36 -> #DIV/0! | I19: ='CARTA R'!$B$37 -> #DIV/0! | J19: ='CARTA R'!$B$39 -> #DIV/0! | K19: ='CARTA R'!$B$40 -> #DIV/0!
A20: 12 | B20: ='CARTA X'!$B$38 -> #DIV/0! | C20: ='CARTA X'!$B$39 -> #DIV/0! | D20: ='CARTA X'!$B$40 -> #DIV/0! | E20: ='CARTA X'!$B$41 -> #DIV/0! | F20: ='CARTA X'!$B$42 -> #DIV/0! | G20: ='CARTA X'!$B$43 -> #DIV/0! | H20: ='CARTA X'!$B$36 -> #DIV/0! | I20: ='CARTA R'!$B$37 -> #DIV/0! | J20: ='CARTA R'!$B$39 -> #DIV/0! | K20: ='CARTA R'!$B$40 -> #DIV/0!
... A28: 20 | B28: ='CARTA X'!$B$38 -> #DIV/0! | C28: ='CARTA X'!$B$39 -> #DIV/0! | D28: ='CARTA X'!$B$40 -> #DIV/0! | E28: ='CARTA X'!$B$41 -> #DIV/0! | F28: ='CARTA X'!$B$42 -> #DIV/0! | G28: ='CARTA X'!$B$43 -> #DIV/0! | H28: ='CARTA X'!$B$36 -> #DIV/0! | I28: ='CARTA R'!$B$37 -> #DIV/0! | J28: ='CARTA R'!$B$39 -> #DIV/0! | K28: ='CARTA R'!$B$40 -> #DIV/0!
