Workbook
Name N°_DE_EQUIPOS_ADQUIRIDOS_O_REPUESTOS_PARA_LA_PRESTACIÓN_DE_SERVICIOS_SOLICITADOS_POR_LOS_USUARIOS.: '[1]Hoja 11. TABLA DE CONTROL'!#REF!
Name N°_DE_EQUIPOS_ADQUIRIDOS_O_REPUESTOS_PARA_LA_PRESTACIÓN_DE_SERVICIOS_SOLICITADOS_POR_LOS_USUARIOS.: 'Hoja 11. TABLA DE CONTROL'!#REF!
Name N°_DE_EQUIPOS_ADQUIRIDOS_O_REPUESTOS_PARA_LA_PRESTACIÓN_DE_SERVICIOS_SOLICITADOS_POR_LOS_USUARIOS.: 'Hoja 11. TABLA DE CONTROL'!#REF!
Name N°_DE_EQUIPOS_ADQUIRIDOS_O_REPUESTOS_PARA_LA_PRESTACIÓN_DE_SERVICIOS_SOLICITADOS_POR_LOS_USUARIOS.: '[2]Hoja 11. TABLA DE CONTROL'!#REF!
Name N°_DE_EQUIPOS_ADQUIRIDOS_O_REPUESTOS_PARA_LA_PRESTACIÓN_DE_SERVICIOS_SOLICITADOS_POR_LOS_USUARIOS.: 'Hoja 11. TABLA DE CONTROL'!#REF!
Name N°_DE_EQUIPOS_ADQUIRIDOS_O_REPUESTOS_PARA_LA_PRESTACIÓN_DE_SERVICIOS_SOLICITADOS_POR_LOS_USUARIOS.: 'Hoja 11. TABLA DE CONTROL'!#REF!
Name N°_DE_EQUIPOS_ADQUIRIDOS_O_REPUESTOS_PARA_LA_PRESTACIÓN_DE_SERVICIOS_SOLICITADOS_POR_LOS_USUARIOS.: 'Hoja 11. TABLA DE CONTROL'!#REF!
Name N°_DE_EQUIPOS_ADQUIRIDOS_O_REPUESTOS_PARA_LA_PRESTACIÓN_DE_SERVICIOS_SOLICITADOS_POR_LOS_USUARIOS.: 'Hoja 11. TABLA DE CONTROL'!#REF!
Name N°_DE_EQUIPOS_ADQUIRIDOS_O_REPUESTOS_PARA_LA_PRESTACIÓN_DE_SERVICIOS_SOLICITADOS_POR_LOS_USUARIOS.: '[3]Hoja 11. TABLA DE CONTROL'!#REF!
Name N°_DE_EQUIPOS_ADQUIRIDOS_O_REPUESTOS_PARA_LA_PRESTACIÓN_DE_SERVICIOS_SOLICITADOS_POR_LOS_USUARIOS.: '[3]Hoja 11. TABLA DE CONTROL'!#REF!
Name N°_DE_EQUIPOS_ADQUIRIDOS_O_REPUESTOS_PARA_LA_PRESTACIÓN_DE_SERVICIOS_SOLICITADOS_POR_LOS_USUARIOS.: 'Hoja 11. TABLA DE CONTROL'!$B$67
Name PORCENTAJE_____DE_TRÁMITES_RESUELTOS_EN_UN_TIEMPO_IGUAL_O_INFERIOR_A_LO_REGLAMENTADO_EN_EL_SGC.__LICENCIAS_AMBIENTALES__115_DÍAS_HÁBILES_.__CONCESIONES_DE_AGUAS_SUBTERRÁNEAS_Y_SUPERFICIALES__55_DÍAS_HÁBILES_.__PERMISOS_DE_VERTIMIENTOS__55_DÍAS_HÁBILES_.: '[4]Hoja 6. AA'!$D$11
Name PORCENTAJE_____DE_TRÁMITES_RESUELTOS_EN_UN_TIEMPO_IGUAL_O_INFERIOR_A_LO_REGLAMENTADO_EN_EL_SGC.__LICENCIAS_AMBIENTALES__115_DÍAS_HÁBILES_.__CONCESIONES_DE_AGUAS_SUBTERRÁNEAS_Y_SUPERFICIALES__55_DÍAS_HÁBILES_.__PERMISOS_DE_VERTIMIENTOS__55_DÍAS_HÁBILES_.: 'Hoja 6. AA 2017'!$D$11
Name PORCENTAJE_____DE_TRÁMITES_RESUELTOS_EN_UN_TIEMPO_IGUAL_O_INFERIOR_A_LO_REGLAMENTADO_EN_EL_SGC.__LICENCIAS_AMBIENTALES__115_DÍAS_HÁBILES_.__CONCESIONES_DE_AGUAS_SUBTERRÁNEAS_Y_SUPERFICIALES__55_DÍAS_HÁBILES_.__PERMISOS_DE_VERTIMIENTOS__55_DÍAS_HÁBILES_.: 'Hoja 6. AA 2018'!$D$11
Name PORCENTAJE_____DE_TRÁMITES_RESUELTOS_EN_UN_TIEMPO_IGUAL_O_INFERIOR_A_LO_REGLAMENTADO_EN_EL_SGC.__LICENCIAS_AMBIENTALES__115_DÍAS_HÁBILES_.__CONCESIONES_DE_AGUAS_SUBTERRÁNEAS_Y_SUPERFICIALES__55_DÍAS_HÁBILES_.__PERMISOS_DE_VERTIMIENTOS__55_DÍAS_HÁBILES_.: 'Hoja 6. AA.'!#REF!
Name PORCENTAJE_____DE_TRÁMITES_RESUELTOS_EN_UN_TIEMPO_IGUAL_O_INFERIOR_A_LO_REGLAMENTADO_EN_EL_SGC.__LICENCIAS_AMBIENTALES__115_DÍAS_HÁBILES_.__CONCESIONES_DE_AGUAS_SUBTERRÁNEAS_Y_SUPERFICIALES__55_DÍAS_HÁBILES_.__PERMISOS_DE_VERTIMIENTOS__55_DÍAS_HÁBILES_.: '[5]Hoja 6. AA'!$D$11
Name PORCENTAJE_____DE_TRÁMITES_RESUELTOS_EN_UN_TIEMPO_IGUAL_O_INFERIOR_A_LO_REGLAMENTADO_EN_EL_SGC.__LICENCIAS_AMBIENTALES__115_DÍAS_HÁBILES_.__CONCESIONES_DE_AGUAS_SUBTERRÁNEAS_Y_SUPERFICIALES__55_DÍAS_HÁBILES_.__PERMISOS_DE_VERTIMIENTOS__55_DÍAS_HÁBILES_.: 'Hoja 6. AA'!$D$11

Sheet Hoja 1. Inicio - Matriz Indic
D2: FICHA DE INDICADORES
D3: R-MJ-16
D4: 08
E8: Procesos Categoría Estrategícos
A9: Vigencia: | E9: Procesos Categoría Evaluativos
E10: Procesos Categoría Misionales
E11: Procesos Categoría Apoyo
A13: Matriz de Indicadores
D47: Tabla de Control

Sheet Hoja 2. DI
A3: PROCESO DI: DIRECCIONAMIENTO DEL SISTEMA DE GESTIÓN CORPORATIVO
A5: OBJETIVO DEL PROCESO | C5: CATEGORÍA DEL INDICADOR | D5: NOMBRE DEL INDICADOR | E5: FORMULA | F5: INTERPRETACION | G5: TIPO DE INDICADOR (Favor registre si es de meta máxima, meta mínima o de máximo y minimo) | J5: FRECUENCIA | K5: META | L5: NIVEL DE CUMPLIMIENTO (Favor registre los valores del indicador correspondientes a los posibles resultados) | N5: RESPONSABLE | O5: OBJETIVO ASOCIADO | P5: RESULTADO
G6: Tipo | H6: Definición | I6: Tendencia Adecuada del Indicador | L6: Posible Resultado | M6: Análisis de Resultados y Formulación de Acciones
G7: De Meta Máxima | H7: Cuando los datos del indicador no deben superar el valor de la meta. | I7: Decreciente | L7: Satisfactoria | M7: Se podrá mantener o establecer una meta mas exigente e/o incluir acciones realizadas para el logro de las metas de los indicadores dentro de los documentos del Sistema de Gestión Corporativo.
G8: De Meta Mínima | H8: Cuando los datos del indicador no deben ser inferiores al valor de la meta. | I8: Creciente | L8: Moderada | M8: Se declara una OPORTUNIDAD DE MEJORAMIENTO, frente a la cual se pueden formular Acciones Preventivas para evitar el incumplimiento de las metas en los próximos periodos.
G9: De Máximo y Mínimo | H9: Cuando los datos se deben mantener dentro de un rango, no siendo inferior a un valor o superior a otro. | I9: Dentro de un Rango | L9: Insatisfactoria | M9: Se declara una NO CONFORMIDAD, frente a la cual se formulan Correciones y Acciones correctivas.
L10: Satisfactoria
L11: Moderada
L12: Insatisfactoria
L13: Satisfactoria
L14: Moderada
L15: Insatisfactoria
L16: Satisfactoria
L17: Moderada
L18: Insatisfactoria
L19: Satisfactoria
L20: Moderada
L21: Insatisfactoria
... L33: Insatisfactoria

Sheet Hoja 3. MJ
A3: PROCESO MJ: MEJORAMIENTO DEL SISTEMA DE GESTIÓN CORPORATIVO
A5: OBJETIVO DEL PROCESO | C5: CATEGORÍA DEL INDICADOR | D5: NOMBRE DEL INDICADOR | E5: FORMULA | F5: INTERPRETACION | G5: TIPO DE INDICADOR (Favor registre si es de meta máxima, meta mínima o de máximo y minimo) | J5: FRECUENCIA | K5: META | L5: NIVEL DE CUMPLIMIENTO (Favor registre los valores del indicador correspondientes a los posibles resultados) | N5: RESPONSABLE | O5: OBJETIVO ASOCIADO | P5: RESULTADO
G6: Tipo | H6: Definición | I6: Tendencia Adecuada del Indicador | L6: Posible Resultado | M6: Análisis de Resultados y Formulación de Acciones
G7: De Meta Máxima | H7: Cuando los datos del indicador no deben superar el valor de la meta. | I7: Decreciente | L7: Satisfactoria | M7: Se podrá mantener o establecer una meta mas exigente e/o incluir acciones realizadas para el logro de las metas de los indicadores dentro de los documentos del Sistema de Gestión Corporativo.
G8: De Meta Mínima | H8: Cuando los datos del indicador no deben ser inferiores al valor de la meta. | I8: Creciente | L8: Moderada | M8: Se declara una OPORTUNIDAD DE MEJORAMIENTO, frente a la cual se pueden formular Acciones Preventivas para evitar el incumplimiento de las metas en los próximos periodos.
G9: De Máximo y Mínimo | H9: Cuando los datos se deben mantener dentro de un rango, no siendo inferior a un valor o superior a otro. | I9: Dentro de un Rango | L9: Insatisfactoria | M9: Se declara una NO CONFORMIDAD, frente a la cual se formulan Correciones y Acciones correctivas.
L10: Satisfactoria
L11: Moderada
L12: Insatisfactoria
L13: Satisfactoria
L14: Moderada
L15: Insatisfactoria
L16: Satisfactoria
L17: Moderada
L18: Insatisfactoria
L19: Satisfactoria
L20: Moderada
L21: Insatisfactoria
... L24: Insatisfactoria

Sheet Hoja 4. PG
A3: PROCESO PG: PLANEACIÓN GLOBAL DEL TERRITORIO
A5: OBJETIVO DEL PROCESO | C5: CATEGORÍA DEL INDICADOR | D5: NOMBRE DEL INDICADOR | E5: FORMULA | F5: INTERPRETACION | G5: TIPO DE INDICADOR (Favor registre si es de meta máxima, meta mínima o de máximo y minimo) | J5: FRECUENCIA | K5: META | L5: NIVEL DE CUMPLIMIENTO (Favor registre los valores del indicador correspondientes a los posibles resultados) | N5: RESPONSABLE | O5: OBJETIVO ASOCIADO | P5: RESULTADO
G6: Tipo | H6: Definición | I6: Tendencia Adecuada del Indicador | L6: Posible Resultado | M6: Análisis de Resultados y Formulación de Acciones
G7: De Meta Máxima | H7: Cuando los datos del indicador no deben superar el valor de la meta. | I7: Decreciente | L7: Satisfactoria | M7: Se podrá mantener o establecer una meta mas exigente e/o incluir acciones realizadas para el logro de las metas de los indicadores dentro de los documentos del Sistema de Gestión Corporativo.
G8: De Meta Mínima | H8: Cuando los datos del indicador no deben ser inferiores al valor de la meta. | I8: Creciente | L8: Moderada | M8: Se declara una OPORTUNIDAD DE MEJORAMIENTO, frente a la cual se pueden formular Acciones Preventivas para evitar el incumplimiento de las metas en los próximos periodos.
G9: De Máximo y Mínimo | H9: Cuando los datos se deben mantener dentro de un rango, no siendo inferior a un valor o superior a otro. | I9: Dentro de un Rango | L9: Insatisfactoria | M9: Se declara una NO CONFORMIDAD, frente a la cual se formulan Correciones y Acciones correctivas.
L10: Satisfactoria
L11: Moderada
L12: Insatisfactoria
L13: Satisfactoria
L14: Moderada
L15: Insatisfactoria
L16: Satisfactoria
L17: Moderada
L18: Insatisfactoria
L19: Satisfactoria
L20: Moderada
L21: Insatisfactoria
... L30: Insatisfactoria

Sheet Hoja 4. PG-4 (2)
A2: 4. PORCENTAJE (%) DE CUMPLIMIENTO DE METAS DE INDICADORES MÍNIMOS DE GESTIÓN RELACIONADAS AL PROCESO
A4: Resultados
A5: Vigencia | B5: Dato | C5: Meta | D5: Cumplimiento
A6: 2018 | B6: 1 | C6: 1 | D6: =+B6/C6 -> 1
A7: 2019 | B7: 1 | C7: 1 | D7: =+B7/C7 -> 1
A8: 2020 | B8: =+D14 -> 1 | C8: 1 | D8: =+B8/C8 -> 1
A9: 2021 | B9: =+D15 -> 0.44444444 | C9: 1 | D9: =+B9/C9 -> 0.44444444
A11: Vigencia | B11: N° metas de indicadores mínimos de gestión relacionadas al proceso cumplidas | C11: N° de metas de indicadores mínimos de gestión relacionadas al proceso | D11: Porcentaje (%) de cumplimiento de metas de indicadore mínimos de gestión relacionadas al proceso | E11: Análisis de Datos
A12: 2018 | B12: 36 | C12: 36 | D12: =+B12/C12 -> 1 | E12: De los 27 IMG para el año 2018 se tenia en el proceso de Planeación Global los indicadores mínimos de gestión: 1. "Porcentaje de entes territoriales asesorados en la incorporación, planificación y ejecución de acciones relacionadas con cambio climático en el marco de los instrumentos de planificación territorial", el cual se cumplió en 100% mediante la asesoría a los 19 municipios en determinates ambientales, donde se incluyó el cambio climático y la gestión de riesgo. 2. "Porcentaje de municipios asesorados o asistidos en la inclusión del componente ambiental en los procesos de planificación y ordenamiento territorial, con énfasis en la incorporación de las determinantes ambientales para la revisión y ajuste de los POT", el cual se cumplió en 100% mediante la asesoria personalizada a cada municpio, no obstante la capacitación para la vigencia 2018 no se realizaron ajustes de POT.
A13: 2019 | B13: 36 | C13: 36 | D13: =+B13/C13 -> 1 | E13: En el marco de los Indicadores Mínimos de Gestiós, en la vigencia 2019 se trabajaron los siguientes indicadores: 1. "Porcentaje de entes territoriales asesorados en la incorporación, planificación y ejecución de acciones relacionadas con cambio climático en el marco de los instrumentos de planificación territorial", con cumplimiento del 100%, lo cual se realizó mediante la capacitación a cada municipio en determinates ambientales y cambio climático, ademas de la capacitación en gestión del riesgo a los Consejos Municipales de Gestión de Riesgo mediante un curso de dos días en la ciudad de Medellín. 2. "Porcentaje de municipios asesorados o asistidos en la inclusión del componente ambiental en los procesos de planificación y ordenamiento territorial, con énfasis en la incorporación de las determinantes ambientales para la revisión y ajuste de los POT", con cumplimiento del 100%, donde no solamente se asesoró a los 19 municpios sino tambien se realizó un análisis del estado de cada POT.
A14: 2020 | B14: 36 | C14: 36 | D14: =+B14/C14 -> 1 | E14: Los IMG para la vigencia 2020 son los mismos de los años anteriores: 1. IMG 7 "Porcentaje de entes territoriales asesorados en la incorporación, planificación y ejecución de acciones relacionadas con cambio climático en el marco de los instrumentos de planificación territorial", el cumplimiento es del 100%, lo cual se realizó en el marco de la asistencia, asesoría de la formulación de los planes de desarrollo municipal y departamental. Donde no solomanete se trabajaron los temas de gestión de riesgo, cambio climático y detrrtminantes ambientales, sino lo relacionado con el accionar municipal: PGIRS, PSMV, minería, educación ambiental, entre otros. 2. IMG 24"Porcentaje de municipios asesorados o asistidos en la inclusión del componente ambiental en los procesos de planificación y ordenamiento territorial, con énfasis en la incorporación de las determinantes ambientales para la revisión y ajuste de los POT", el cumplimiento es del 100%.
A15: 2021 | B15: 16 | C15: 36 | D15: =+B15/C15 -> 0.44444444 | E15: Con corte a 31-08-2021 se han iniciado procesos con los municipios pero no ha concluído ninguno se está cumpliendo con el cronograma. Los IMG para la vigencia 2021 son los mismos de los años anteriores: 1. IMG 7 "Porcentaje de entes territoriales asesorados en la incorporación, planificación y ejecución de acciones relacionadas con cambio climático en el marco de los instrumentos de planificación territorial", el cumplimiento es del 100%, lo cual se realizó en el marco de la asistencia, asesoría de la formulación de los planes de desarrollo municipal y departamental. Donde no solomanete se trabajaron los temas de gestión de riesgo, cambio climático y detrrtminantes ambientales, sino lo relacionado con el accionar municipal: PGIRS, PSMV, minería, educación ambiental, entre otros. 8 de 19 2. IMG 24"Porcentaje de municipios asesorados o asistidos en la inclusión del componente ambiental en los procesos de planificación y ordenamiento territorial, con énfasis en la incorporación de las determinantes ambientales para la revisión y ajuste de los POT", el cumplimiento es del 100%. 8 de 19
A18: Fuentes de Información: | C18: Verificar IMG 7 e IMG 24
B21: Debido a que este indicador solo se evidencia con el cumplimiento de la meta se requiere ajustar a porcentaje de cumplimiento medido así; #municipios asesorados/#total de municipios, de esta forma está mas acorde con el IMG
B22: De esta forma se puede realizar el seguimiento trimestral

Sheet Hoja 4. PG-7 (2)
A3: 7. PORCENTAJE (%) DE CUMPLIMIENTO POR PROCESO DE LA META MADS DEL INDICE DE EVALUACIÓN DE DESEMPEÑO INSTITUCIONAL -IEDI
A5: Resultados
A6: Vigencia | B6: Dato | C6: Meta | D6: Cumplimiento
A7: 2019 | B7: 1 | C7: 1 | D7: 1
A8: 2020 | B8: =+E14 -> 1 | C8: 1 | D8: 1
A9: 2021 | C9: 1 | D9: 1
A12: Vigencia | B12: N° de Metas cumplidas del proceso en el IEDI | C12: N° Total de metas del proceso en el IEDI | D12: Meta del MADS para la vigencia | E12: (N° de Metas cumplidas del proceso en el IEDI / N°Total de metas del proceso en el IEDI))/meta del MADS para la vigencia | F12: Análisis de Datos
A13: 2019 | B13: 1 | C13: 1 | D13: 1 | E13: =+(B13/C13)/D13 -> 1 | F13: El indicador que aplica del IEDI al proceso de Planeaciòn Global es "Porcentaje de municipios con seguimiento de la concertación ambiental en sus documentos de planificación territorial", el cual se cumplió en 100% de acuerdo al reporte del MADS.
A14: 2020 | B14: 1 | C14: 1 | D14: 1 | E14: =+(B14/C14)/D14 -> 1 | F14: El indicador que aplica del IEDI al proceso de Planeaciòn Global es "Porcentaje de municipios con seguimiento de la concertación ambiental en sus documentos de planificación territorial", el cual se cumplió en 100% de acuerdo al reporte del MADS en el año 2020. Los 19 municipios concertaron el componente ambiental de los planes de desarrollo municipal - PDM,
A15: 2021 | B15: 0 | C15: 1 | D15: 1 | E15: =+(B15/C15)/D15 -> 0 | F15: A la subdirección han ingresado 3 solicitudes de concertación ambiental POT de los municipios Arboletes, Apartadó y San Pedro de Urabá. Todos se encuentran suspendidos dentro de los tiempos legales de concertación.
B17: Debido a que este indicador solo se evidencia con el cumplimiento de la meta se requiere ajustar a porcentaje de cumplimiento medido así; #municipios asesorados/#total de municipios, de esta forma está mas acorde con el IMG
B18: De esta forma se puede realizar el seguimiento trimestral

Sheet Hoja 5. GP
A3: PROCESO GP: GESTIÓN DE PROYECTOS
A5: OBJETIVO DEL PROCESO | C5: CATEGORÍA DEL INDICADOR | D5: NOMBRE DEL INDICADOR | E5: FORMULA | F5: INTERPRETACION | G5: TIPO DE INDICADOR (Favor registre si es de meta máxima, meta mínima o de máximo y minimo) | J5: FRECUENCIA | K5: META | L5: NIVEL DE CUMPLIMIENTO (Favor registre los valores del indicador correspondientes a los posibles resultados) | N5: RESPONSABLE | O5: OBJETIVO ASOCIADO | P5: RESULTADO
G6: Tipo | H6: Definición | I6: Tendencia Adecuada del Indicador | L6: Posible Resultado | M6: Análisis de Resultados y Formulación de Acciones
G7: De Meta Máxima | H7: Cuando los datos del indicador no deben superar el valor de la meta. | I7: Decreciente | L7: Satisfactoria | M7: Se podrá mantener o establecer una meta mas exigente e/o incluir acciones realizadas para el logro de las metas de los indicadores dentro de los documentos del Sistema de Gestión Corporativo.
G8: De Meta Mínima | H8: Cuando los datos del indicador no deben ser inferiores al valor de la meta. | I8: Creciente | L8: Moderada | M8: Se declara una OPORTUNIDAD DE MEJORAMIENTO, frente a la cual se pueden formular Acciones Preventivas para evitar el incumplimiento de las metas en los próximos periodos.
G9: De Máximo y Mínimo | H9: Cuando los datos se deben mantener dentro de un rango, no siendo inferior a un valor o superior a otro. | I9: Dentro de un Rango | L9: Insatisfactoria | M9: Se declara una NO CONFORMIDAD, frente a la cual se formulan Correciones y Acciones correctivas.
L10: Satisfactoria
L11: Moderada
L12: Insatisfactoria
L13: Satisfactoria
L14: Moderada
L15: Insatisfactoria
L16: Satisfactoria
L17: Moderada
L18: Insatisfactoria
L19: Satisfactoria
L20: Moderada
L21: Insatisfactoria
... L33: Insatisfactoria

Sheet Hoja 5. GP 2017
A2: PROCESO GP: GESTIÓN DE PROYECTOS
A4: OBJETIVO DEL PROCESO | C4: CATEGORÍA DEL INDICADOR | D4: NOMBRE DEL INDICADOR | E4: FORMULA | F4: INTERPRETACION | G4: TIPO DE INDICADOR (Favor registre si es de meta máxima, meta mínima o de máximo y minimo) | J4: FRECUENCIA | K4: META | L4: NIVEL DE CUMPLIMIENTO (Favor registre los valores del indicador correspondientes a los posibles resultados) | N4: RESPONSABLE | O4: OBJETIVO ASOCIADO
G5: Tipo | H5: Definición | I5: Tendencia Adecuada del Indicador | L5: Posible Resultado | M5: Análisis de Resultados y Formulación de Acciones
G6: De Meta Máxima | H6: Cuando los datos del indicador no deben superar el valor de la meta. | I6: Decreciente | L6: Satisfactoria | M6: Se podrá mantener o establecer una meta mas exigente e/o incluir acciones realizadas para el logro de las metas de los indicadores dentro de los documentos del Sistema de Gestión Corporativo.
G7: De Meta Mínima | H7: Cuando los datos del indicador no deben ser inferiores al valor de la meta. | I7: Creciente | L7: Moderada | M7: Se declara una OPORTUNIDAD DE MEJORAMIENTO, frente a la cual se pueden formular Acciones Preventivas para evitar el incumplimiento de las metas en los próximos periodos.
G8: De Máximo y Mínimo | H8: Cuando los datos se deben mantener dentro de un rango, no siendo inferior a un valor o superior a otro. | I8: Dentro de un Rango | L8: Insatisfactoria | M8: Se declara una NO CONFORMIDAD, frente a la cual se formulan Correciones y Acciones correctivas.
A9: Ejecutar el Plan de Acción Corporativo con la formulación, ejecución, seguimiento y evaluación de proyectos para cumplir las directrices establecidas en el ordenamiento ambiental de la jurisdicción y contribuir a su desarrollo sostenible y mejoramiento de la calidad de vida de la población. | C9: Eficiencia | D9: PORCENTAJE (%) DE PROYECTOS EVALUADOS PARA SU VIABILIZACIÓN EN UN TIEMPO IGUAL O INFERIOR A LO REGLAMENTADO EN EL SGC. | E9: (N° de proyectos evaluados para su viabilización en un tiempo igual o inferior a lo reglamentado en el SGC / N° de proyectos evaluados para su viabilización)*100. | F9: Mide el porcentaje de proyectos viabilizados en un tiempo igual o inferior a lo reglamentado en el SGC. | G9: De Meta Mínima | J9: Semestral | K9: 90% o más | L9: Satisfactoria | M9: 90% o más | N9: Lider del Proceso (Subdirector de Planeación y Ordenamiento Territorial con el apoyo de Equipo de Trabajo) | O9: Calidad del Servicio - Procedimiento
L10: Moderada | M10: De 80% a 89,9%
L11: Insatisfactoria | M11: Menos de 80%
C12: Efectividad | D12: PORCENTAJE (%) DE ENCUESTA DE SATISFACCIÓN CALIFICADAS POR LOS USUARIOS DE PROYECTOS CON UNA NOTA SUPERIOR O IGUAL A TRES PUNTO CINCO (3.5) SOBRE CINCO (5.0). | E12: (N° de encuestas de satisfacción calificadas por los Usuarios de proyectos con una nota superior o igual a tres punto cinco (3.5) sobre cinco (5.0) / N° de encuestas de satisfacción calificadas por los Usuarios de proyectos)*100. | F12: Mide el nivel de satisfacción de los Usuarios por los proyectos ejecutados. | G12: De Meta Mínima | J12: Anual | K12: 95% o más | L12: Satisfactoria | M12: 95% o más | N12: Lider del Proceso (Subdirector de Planeación y Ordenamiento Territorial con el apoyo de Equipo de Trabajo) | O12: Calidad del Servicio - Mejoramiento
L13: Moderada | M13: De 80% a 94,9%
L14: Insatisfactoria | M14: Menos de 80%
C15: Eficacia | D15: PORCENTAJE (%) DE ACCIONES CORRECTIVAS DE SERVICIOS NO CONFORMES ESTABLECIDAS EFICAZMENTE. | E15: (N° de acciones correctivas de servicios no conformes establecidas eficazmente / N° de acciones correctivas de servicios no conformes establecidas) *100. | F15: Mide el porcentaje de acciones correctivas establecidas para servicios no conformes que tuvieron la capacidad de alcanzar el efecto que se esperaba o deseaba tras la realización de la misma. | G15: De Meta Mínima | J15: Semestral | K15: 90% o más | L15: Satisfactoria | M15: 90% o más | N15: Lider del Proceso (Subdirector de Planeación y Ordenamiento Territorial con el apoyo de Equipo de Trabajo) | O15: Calidad del Servicio - Mejoramiento
L16: Moderada | M16: De 70% a 89,9%
L17: Insatisfactoria | M17: Menos de 70%
C18: Eficacia | D18: PORCENTAJE DE PROYECTOS CON SEGUIMIENTO FÍSICO Y FINANCIERO EN EL APLICATIVO CITA Y CON CUMPLIMIENTO DE LOS REQUISITOS | E18: (N° de proyectos con seguimiento físico y financiero en el aplicativo CITA/ N° de proyectos 2016)*100. | F18: Mide la proporción de los proyectos 2016 a los cuales se les realiza seguimiento de las metas físicas y financieras en el aplicativo CITA, con el fin de contribuir en la minimización o anulación de un posible "Incumplimiento de metas físicas y financieras de los proyectos". | G18: De Meta Mínima | J18: Semestral | K18: 90% o más | L18: Satisfactoria | M18: 90% o más | N18: Lider del Proceso (Subdirector de Planeación y Ordenamiento Territorial con el apoyo de Equipo de Trabajo) | O18: Planes Ambientales Corporativos implementados - Riesgos
L19: Moderada | M19: De 80% a 89,9%
L20: Insatisfactoria | M20: Menos de 80%
C21: Eficacia | D21: Nº DE CAPACITACIONES REALIZADAS A USUARIOS EXTERNOS PARA LA PRESENTACIÓN DE PROYECTOS A CORPOURABA | E21: N° de capacitaciones dirigidas al usuario externo realizadas | F21: Mide las capacitaciones dirigidas al usuario externo de la Corporación buscando mejorar la presentación de proyectos de acuerdo a los lineamientos y directrices de la Entidad | G21: De Meta Mínima | J21: Anual | K21: 5 capacitaciones | L21: Satisfactoria | M21: 5 capacitaciones | N21: Lider del Proceso (Subdirector de Planeación y Ordenamiento Territorial con el apoyo de Equipo de Trabajo) | O21: Planes Ambientales Corporativos implementados - Riesgos
L22: Moderada | M22: 3-4 capacitaciones
L23: Insatisfactoria | M23: Menos de 3 capacitaciones
C24: Eficacia | D24: Nº DE CAPACITACIONES REALIZADAS SOBRE MARCO LÓGICO, HERRAMIENTAS NACIONALES PARA GESTIÓN DE PROYECTOS, CUMPLIMIENTO DEL PROCESOS DE PROYECTOS Y MANEJO MODULO DE PROYECTOS | E24: N° de capacitaciones a los funcionarios realizadas | F24: Mide el fortalecimiento de los funcionarios en la formulación y presentación de proyectos en el marco de las directrices del Gobierno Nacional y los procedimientos internos | G24: De Meta Mínima | J24: Anual | K24: 3 capacitaciones | L24: Satisfactoria | M24: 3 capacitaciones | N24: Lider del Proceso (Subdirector de Planeación y Ordenamiento Territorial con el apoyo de Equipo de Trabajo) | O24: Planes Ambientales Corporativos implementados - Riesgos
L25: Moderada | M25: 2 capacitaciones
L26: Insatisfactoria | M26: 1 capacitaciones
C27: Eficacia | D27: REALIZACIÓN DE CAPACITACIONES A LOS FUNCIONARIOS EN PROYECTOS Y ADMINISTRACIÓN EN EL APLICATIVO CITA. | E27: N° de capacitaciones a los funcionarios realizadas | F27: Mide el fortalecimiento de los funcionarios en el seguimiento del proyecto en el aplicativo CITA | G27: De Meta Mínima | J27: Anual | K27: 2 capacitaciones | L27: Satisfactoria | M27: 2 capacitaciones | N27: Lider del Proceso (Subdirector de Planeación y Ordenamiento Territorial con el apoyo de Equipo de Trabajo) | O27: Calidad del Servicio - Riesgos
L28: Moderada | M28: 1 capacitaciones
L29: Insatisfactoria | M29: 0 capacitaciones
A31: =+D9 -> PORCENTAJE (%) DE PROYECTOS EVALUADOS PARA SU VIABILIZACIÓN EN UN TIEMPO IGUAL O INFERIOR A LO REGLAMENTADO EN EL SGC.
G33: 2012 | H33: 2013 | I33: 2014 | J33: 2015 | K33: 2016 | L33: 2017
A34: Porcentaje (%) de Proyectos Evaluados para su Viabilización en un Tiempo Igual o Inferior a lo Reglamentado en el SGC. | G34: 0.97 | H34: 1 | I34: 0.98 | J34: =+K42 -> 0.98076923 | K34: 1 | L34: 1
A35: Meta | G35: 1 | H35: 1 | I35: 1 | J35: 1 | K35: 1 | L35: 1
G37: AÑO | I37: ANALISIS DE RESULTADOS | L37: ACCIONES
I38: N° de proyectos evaluados para su viabilización en un tiempo igual o inferior a lo reglamentado en el SGC. | J38: N° de proyectos evaluados para su viabilización. | K38: % de proyectos evaluados para su viabilización en un tiempo igual o inferior a lo reglamentado en el SGC.
G39: 2012 | I39: 77 | J39: 79 | K39: =+I39/J39 -> 0.97468354 | L39: • Los proyectos que superaron el tiempo para la evaluación son: -“Establecimiento de cinco viveros escolares con fines de reforestación en la región de Urabá” en 4 días. -“Aislamiento y reforestación de plantación protectora en las zonas de influencia de las cuencas hidrográficas en la parte media y baja del río San Juan y Damaquiel” en 21 días. Para la vigencia 2013 se realizaran capacitaciones de refuerzo tanto en la formulación como en la modificación de proyectos, incluyendo la importancia de cumplimiento de terminos y el conducto regular establecido en los procedimientos; adicionalmente se continuará con la implementación del módulo de Gestión de Proyectos del aplicativo CITA, que permitirá tener controles al respecto.
G40: 2013 | I40: 78 | J40: 78 | K40: =+I40/J40 -> 1 | L40: En la presente vigencia, en el Banco de Proyectos se encuentran registrados 101 proyectos (corporativos y externos) con corte al 31 de diciembre, de los cuales se han evaluado a la fecha 78 proyectos cumpliendo con los términos del Sistema de Gestión Corporativo, respondiendo a los proponentes en un tiempo menor a 30 días hábiles.
G41: 2014 | I41: 52 | J41: 53 | K41: =+I41/J41 -> 0.98113208 | L41: En la presente vigencia, en el Banco de Proyectos se encuentran registrados 53 proyectos (corporativos y externos) con corte al 31 de diciembre, que fueron evaluados y de esto 52 cumplen con los términos del Sistema de Gestión Corporativo, respondiendo a los proponentes en un tiempo menor a 30 días hábiles. El proyecto que no cumplió con el tiempo para dar respuesta al usuario fue: * El proyecto externo "Mejoramiento ambiental y técnico de la planta de compostaje del municipio de Chigorodó buscando con ello la generación de empleos directos y una cultura participativa que permita el empoderamiento de los recursos naturales por parte de la comunidad orientada a alcanzar un producto final de buena calidad", fue presentado a la Corporación mediante oficio radicado No. 300-34-01-21-2211-2014 en mayo 20/2014 y el día 21/05/2014 fue entregado a la SGAA para su evaluación y concepto técnico con radicado No. 300-06-02-01-228 de mayo 21/14. El evaluador emitió el concepto el día 27/05/2014 y los documentos con los soportes y la evaluación fueron entregados a la SPOT el día 21/07/2014, finalmente se dió respuesta al usuario el día 28/07/2014; 15 días depués de la fecha límite para respoder al usuario (04/07/2014). En el periodo entre el 27/05/2014 y el 21/07/2014, se desconoce la ubicación de los documentos. Para la presente vigencia se realizaron capacitaciones de refuerzo tanto en la formulación (MADS) como en la modificación de proyectos en el aplicativo CITA.
G42: 2015 | I42: 51 | J42: 52 | K42: =+I42/J42 -> 0.98076923 | L42: En la presente vigencia, en el Banco de Proyectos se encuentran registrados 52 proyectos (corporativos y externos) con corte al 30 de junio, que fueron evaluados y de esto 51 cumplen con los términos del Sistema de Gestión Corporativo, respondiendo a los proponentes en un tiempo menor a 30 días hábiles. El proyecto que no cumplió con el tiempo para dar respuesta al usuario fue: * El proyecto externo "Limpieza de 8.000 metros de las Riveras del río Volcán y río Hobo en el Municipio de Arboletes", fue presentado a la Corporación mediante oficio radicado No. 400-06-01-01-955-2015 en febrero 26/2015 y el día 03/03/2015 fue entregado a la SGAA para su evaluación y concepto técnico con radicado No. 300-06-02-01-87 de marzo 3/15. El evaluador emitió el concepto el día 24/06/2015 y los documentos con los soportes y la evaluación fueron entregados a la SPOT el día 24/06/2015, finalmente se dió respuesta al usuario el día 25/06/2015; 75 días depués de la fecha límite para respoder al usuario (17/04/2015). En el periodo entre el 17/04/2015 y el 24/06/2015, se desconoce la ubicación de los documentos. Para la presente vigencia se realizaron capacitaciones de refuerzo los los módulos de gestión y modificación de proyectos en el aplicativo CITA.
G43: 2016 | I43: 38 | J43: 38 | K43: =+I43/J43 -> 1 | L43: En la presente vigencia, en el Banco de Proyectos se encuentran registrados 38 proyectos (corporativos y externos) con corte al 30 de junio, que fueron evaluados y todos fueron evaluados en un tiempo menor a 30 días hábiles.
G44: 2017 | I44: 34 | J44: 34 | K44: =+I44/J44 -> 1 | L44: Se aprobaron 13 proyectos
A46: =+D12 -> PORCENTAJE (%) DE ENCUESTA DE SATISFACCIÓN CALIFICADAS POR LOS USUARIOS DE PROYECTOS CON UNA NOTA SUPERIOR O IGUAL A TRES PUNTO CINCO (3.5) SOBRE CINCO (5.0).
...

Sheet Hoja 6. AA
A2: PROCESO AA: APLICACIÓN DE LA AUTORIDAD AMBIENTAL
A4: OBJETIVO DEL PROCESO | C4: CATEGORÍA DEL INDICADOR | D4: NOMBRE DEL INDICADOR | E4: FORMULA | F4: INTERPRETACION | G4: TIPO DE INDICADOR (Favor registre si es de meta máxima, meta mínima o de máximo y minimo) | J4: FRECUENCIA | K4: META | L4: NIVEL DE CUMPLIMIENTO (Favor registre los valores del indicador correspondientes a los posibles resultados) | N4: RESPONSABLE | O4: OBJETIVO ASOCIADO
G5: Tipo | H5: Definición | I5: Tendencia Adecuada del Indicador | L5: Posible Resultado | M5: Análisis de Resultados y Formulación de Acciones
G6: De Meta Máxima | H6: Cuando los datos del indicador no deben superar el valor de la meta. | I6: Decreciente | L6: Satisfactoria | M6: Se podrá mantener o establecer una meta mas exigente e/o incluir acciones realizadas para el logro de las metas de los indicadores dentro de los documentos del Sistema de Gestión Corporativo.
G7: De Meta Mínima | H7: Cuando los datos del indicador no deben ser inferiores al valor de la meta. | I7: Creciente | L7: Moderada | M7: Se declara una OPORTUNIDAD DE MEJORAMIENTO, frente a la cual se pueden formular Acciones Preventivas para evitar el incumplimiento de las metas en los próximos periodos.
G8: De Máximo y Mínimo | H8: Cuando los datos se deben mantener dentro de un rango, no siendo inferior a un valor o superior a otro. | I8: Dentro de un Rango | L8: Insatisfactoria | M8: Se declara una NO CONFORMIDAD, frente a la cual se formulan Correciones y Acciones correctivas.
A9: Administrar el uso y manejo de los recursos naturales en el marco del ordenamiento ambiental para el mantenimiento y/o mejoramiento de los bienes y servicios ambientales de la jurisdicción. | C9: Eficiencia | D9: Tiempo promedio de trámite para la resolución de autorizaciones ambientales otorgadas por la corporación | E9: Promedio de los tiempos de un tramite= sumatoria de los tiempos de los tramites atendidos/No. De tramites resueltos | F9: Es un Indicador Minimo de Gestion: Cuanto menor sea el tiempo promedio, teniendo como referencia los tiempos establecidos en la normativa, mayor es el cumplimiento por parte de la autoridad ambiental en la eficiencia en la resolución de las solicitudes de autorizaciones ambientales (licencias ambientales, concesiones de agua, permisos de aprovechamiento forestal, permisos de emisiones atmosféricas y permisos de vertimiento de agua | G9: De Meta Máxima | J9: Trimestral | K9: 1 | L9: Satisfactoria | M9: Hasta 100% | N9: Lider del Proceso (Subdirector de Gestión y Administración Ambiental con el apoyo de Equipo de Trabajo) | O9: Calidad del Servicio-objetivos
L10: Insatisfactoria | M10: Supera el 100%
C11: Eficiencia | D11: DESARROLLAR SEGUIMIENTO QUINCENAL A LOS TRAMITES QUE TIENEN RIESGO DE INCUMPLIMIENTO DE LOS TIEMPOS ESTABLECIDOS PARA DAR RESPUESTA A LOS USUARIOS | E11: % de tramites ambientales con cumplimiento de tiempos | F11: Mide el porcentaje de trámites resueltos en un tiempo igual o inferior a lo reglamentado en el SGC. | G11: De Meta mínima | J11: Trimestral | K11: 80% o más | L11: Satisfactoria | M11: 80% o más | N11: Lider del Proceso (Subdirector de Gestión y Administración Ambiental con el apoyo de Equipo de Trabajo) | O11: Calidad del Servicio - Riesgos
L12: Moderada | M12: De 50% a 79.9%
L13: Insatisfactoria | M13: Menos de 50%.
C14: Eficacia | D14: Porcentaje de autorizaciones ambientales con seguimiento en función de cantidad de autorizaciones | E14: No. De autorizaciones ambientales con seguimiento / No. De autorizaciones ambientales programadas | F14: Cuanto más cercano a cien por ciento, mayor es el cumplimiento de las metas que la autoridad ambiental se ha propuesto alcanzar en relación con el seguimiento a las autorizaciones ambientales (licencias ambientales, concesiones de agua, aprovechamiento forestal, emisiones atmosféricas y permisos de vertimiento). | G14: De Meta Mínima | J14: Semestral | K14: 80% o más | L14: Satisfactoria | M14: 80% o más | N14: Lider del Proceso (Subdirector de Gestión y Administración Ambiental con el apoyo de Equipo de Trabajo) | O14: Calidad del Servicio-indicador externo
L15: Moderada | M15: De 50% a 79.9%
L16: Insatisfactoria | M16: Menos de 50%
C17: Eficacia | D17: Porcentaje de autorizaciones ambientales con seguimiento (Ver fila 148) en funcion del volumen autorizado | E17: No. De autorizaciones ambientales con seguimiento / No. De autorizaciones ambientales programadas | F17: Cuanto más cercano a cien por ciento, mayor es el cumplimiento de las metas que la autoridad ambiental se ha propuesto alcanzar en relación con el seguimiento a las autorizaciones ambientales (licencias ambientales, concesiones de agua, aprovechamiento forestal, emisiones atmosféricas y permisos de vertimiento). | G17: De Meta Mínima | J17: Semestral | K17: 80% o más | L17: Satisfactoria | M17: 80% o más | N17: Lider del Proceso (Subdirector de Gestión y Administración Ambiental con el apoyo de Equipo de Trabajo) | O17: Calidad del Servicio-indicador externo
L18: Moderada | M18: De 50% a 79.9%
L19: Insatisfactoria | M19: Menos de 50%
C20: Eficacia | D20: Porcentaje de Procesos Sancionatorios Resueltos | E20: Es la relación entre el número de actos administrativos de determinación de la responsabilidad o de cesación de procedimiento expedidos, con respecto al número de actos administrativos de iniciación de procedimiento sancionatorio expedidos por la autoridad ambiental | F20: El indicador mide el cumplimiento por parte de la autoridad ambiental en la gestión de los procesos sancionatorios abiertos, con relación a la ocurrencia de infracciones en materia ambiental en su jurisdicción. | G20: DE Meta Mínima | J20: Trimestral | K20: 80% o más | L20: Satisfactoria | M20: 80% o más | N20: Lider del Proceso (Subdirector de Gestión y Administración Ambiental con el apoyo de Equipo de Trabajo) | O20: Calidad del Servicio-indicador externo
L21: Moderada | M21: De 50% a 79.9%
L22: Insatisfactoria | M22: Menos de 50%.
C23: Eficacia | D23: IP: % de quejas y contravenciones ambientales atendidas. | E23: Sumatoria de quejas por daños ambientales atendidas/sumatoria de quejas por daños ambientales recibias | F23: El indicador mide la atención de quejas y denuncias por daños ambientales o infracciones de norma , con relación a la ocurrencia de denuncias recibidas en su jurisdicción. | G23: De Meta Mínima | J23: Trimestral | K23: 1 | L23: Satisfactoria | M23: 95% al 100% | N23: Lider del Proceso (Subdirector de Gestión y Administración Ambiental con el apoyo de Equipo de Trabajo) | O23: Calidad del Servicio-indicador externo
L24: Moderada | M24: De 70% a 94.9%
L25: Insatisfactoria | M25: Menos de 70%.
C26: Efectividad | D26: Porcentaje (%) de encuesta de satisfacción calificadas por los usuarios de trámites ambientales resueltos con una nota superior o igual a cuatro (4,0) sobre cinco (5.0). | E26: (N° de encuestas de satisfacción calificadas por los Usuarios de trámites ambientales resueltos con una nota superior o igual a cuatro (4.0) sobre cinco (5.0) / N° de encuestas de satisfacción calificadas por los Usuarios de trámites ambientales resueltos)*100. | F26: Mide el porcentaje de encuestas de satisfacción calificadas por los Usuarios de trámites ambientales resueltos con una nota superior o igual a cuatro (4.0) sobre cinco (5.0). | G26: DE Meta Mínima | J26: Semestral | K26: 95% o más | L26: Satisfactoria | M26: 95% o más | N26: Lider del Proceso (Subdirector de Gestión y Administración Ambiental con el apoyo de Equipo de Trabajo) | O26: Calidad del Servicio-mejoramiento
L27: Moderada | M27: De 80% a 94,9%
L28: Insatisfactoria | M28: Menos de 80%
C29: Efectividad | D29: REALIZACIÓN DE CAPACITACIONES A LOS FUNCIONARIOS EN NORMATIVIDAD, PROCEDIMIENTOS Y APLICATIVO CITA. | E29: Realización de capacitaciones a los funcionarios en normatividad, procedimientos y aplicativo CITA. | F29: Mide Número de capacitaciones a los funcionarios en normatividad, procedimientos y aplicativo CITA. | G29: DE Meta Mínima | J29: Anual | K29: 3 eventos de capacitación | L29: Satisfactoria | M29: 4 Comites operando | N29: Líder de proceso. Coordinadores de área Subdirecciones de Gestión ambiental y área jurídica | O29: Cumplimiento- riesgos
L30: Moderada | M30: 2 Comites operando
L31: Insatisfactoria | M31: 1 Comites operando
C32: Eficacia | D32: GESTIONAR Y PARTICIPAR EN LOS COMITES INTERINSTITUCIONALES PARA COORDINAR LA APLICACIÓN DE LA NORMATIVIDAD Y EL EJERCICIO DE LA AUTORIDAD AMBIENTAL | E32: N° de comites interinstitucional | F32: Mide el N° de comites interinstitucional | G32: DE Meta Mínima | J32: Anual | K32: 4 Comites | L32: Satisfactoria | M32: 3 capacitaciones | N32: Líder de proceso. Coordinadores de área Subdirecciones de Gestión ambiental y área jurídica | O32: Calidad del Servicio- riesgos
L33: Moderada | M33: 2 capacitaciones
L34: Insatisfactoria | M34: 1 Capacitación
C35: Eficacia | D35: CAPACITACIÓN Y SOCIALIZACIÓN DE TEMA COMO VALORES CORPORATIVOS, CÓDIGO DE ÉTICA, CÓDIGO ÚNICO DISCIPLINARIO | E35: N° de capacitaciones y/o socializaciones | F35: Mide el N° de capacitaciones y/o socializaciones | G35: De Meta Mínima | J35: Anual | K35: 4 Capacitaciones y/o socialización | L35: Satisfactoria | M35: 4 Capacitaciones y/o socializaciones | N35: Director General y/o Representante de la Dirección | O35: Calidad del Servicio- riesgos
L36: Moderada | M36: 2 Capacitaciones y/o socializaciones
L37: Insatisfactoria | M37: 1 Capacitaciones y/o socializaciones
A40: =+D9 -> Tiempo promedio de trámite para la resolución de autorizaciones ambientales otorgadas por la corporación
A43: Tramite | B43: Variable | D43: Año 2016 | E43: Año 2017 | F43: Año 2018 | G43: Año 2019
D44: Con corte a 30/09/2016 | E44: Con corte a: | F44: Con corte a: | G44: Con corte a:
A45: Licencia Ambiental (71 días hábiles) | B45: TL.A. Tiempo efectivo de duración del trámite de otorgamiento de licencias ambientales (número de días) | C45: Trimestre 1 | D45: 175
C46: Trimestre 2 | D46: =191+168 -> 359
...

Sheet Hoja 6. AA2
A2: PROCESO AA: APLICACIÓN DE LA AUTORIDAD AMBIENTAL
A4: OBJETIVO DEL PROCESO | C4: CATEGORÍA DEL INDICADOR | D4: NOMBRE DEL INDICADOR | E4: FORMULA | F4: INTERPRETACION | G4: TIPO DE INDICADOR (Favor registre si es de meta máxima, meta mínima o de máximo y minimo) | J4: FRECUENCIA | K4: META | L4: NIVEL DE CUMPLIMIENTO (Favor registre los valores del indicador correspondientes a los posibles resultados) | N4: RESPONSABLE | O4: OBJETIVO ASOCIADO
G5: Tipo | H5: Definición | I5: Tendencia Adecuada del Indicador | L5: Posible Resultado | M5: Análisis de Resultados y Formulación de Acciones
G6: De Meta Máxima | H6: Cuando los datos del indicador no deben superar el valor de la meta. | I6: Decreciente | L6: Satisfactoria | M6: Se podrá mantener o establecer una meta mas exigente e/o incluir acciones realizadas para el logro de las metas de los indicadores dentro de los documentos del Sistema de Gestión Corporativo.
G7: De Meta Mínima | H7: Cuando los datos del indicador no deben ser inferiores al valor de la meta. | I7: Creciente | L7: Moderada | M7: Se declara una OPORTUNIDAD DE MEJORAMIENTO, frente a la cual se pueden formular Acciones Preventivas para evitar el incumplimiento de las metas en los próximos periodos.
G8: De Máximo y Mínimo | H8: Cuando los datos se deben mantener dentro de un rango, no siendo inferior a un valor o superior a otro. | I8: Dentro de un Rango | L8: Insatisfactoria | M8: Se declara una NO CONFORMIDAD, frente a la cual se formulan Correciones y Acciones correctivas.
A9: Administrar el uso y manejo de los recursos naturales en el marco del ordenamiento ambiental para el mantenimiento y/o mejoramiento de los bienes y servicios ambientales de la jurisdicción. | C9: Eficacia | D9: PORCENTAJE DE REDUCCIÓN CARGA CONTAMINANTE PARÁMETROS DBO5 | E9: (Carga contaminante DBO5 vigencia línea base - Carga contaminante DBO5 vigencia actual / Carga contaminante DBO5 vigencia línea base) x 100 | F9: Mide el porcentaje del nivel de descontaminación de las fuente receptoras de vertimientos respecto a la carga contaminante DBO5 | G9: De Meta Mínima | J9: Anual | K9: 1% o más | L9: Satisfactoria | M9: 1,0% o más | N9: Lider del Proceso (Subdirector de Gestión y Administración Ambiental con el apoyo de Equipo de Trabajo) | O9: Calidad del Servicio
L10: Moderada | M10: Entre 0% a 0,99%
L11: Insatisfactoria | M11: Menos de 0%
C12: Eficacia | D12: PORCENTAJE DE REDUCCIÓN DE CARGA CONTAMINANTE PARÁMETROS SST. | E12: (Carga contaminante SST vigencia línea base - Carga contaminante SST vigencia actual / Carga contaminante SST vigencia línea base) x 100 | F12: Mide el porcentaje del nivel de descontaminación de las fuente receptoras de vertimientos respecto a la carga contaminante SST | G12: De Meta Mínima | J12: Anual | K12: 1% o más | L12: Satisfactoria | M12: 1,0% o más | N12: Lider del Proceso (Subdirector de Gestión y Administración Ambiental con el apoyo de Equipo de Trabajo) | O12: Calidad del Servicio
L13: Moderada | M13: Entre 0% a 0,99%
L14: Insatisfactoria | M14: Menos de 0%
C15: Eficacia | D15: PORCENTAJE (%) DE BOSQUES CON UN VOLUMEN DE APROVECHAMIENTO PERMISIONADO MENOR O IGUAL AL PERMISIONABLE. | E15: (N° de bosques con volumen de aprovechamiento permisionado menor o igual al permisionable / N° de bosques con volumen de aprovechamiento permisionado)*100. | F15: Mide el porcentaje de bosques con un volumen de aprovechamiento permisionado menor o igual al permisionable. | G15: De Máximo y Mínimo | J15: Semestral | K15: 1 | L15: Satisfactoria | M15: 1 | N15: Lider del Proceso (Subdirector de Gestión y Administración Ambiental con el apoyo de Equipo de Trabajo) | O15: Calidad del Servicio
L16: Moderada | M16: De 80% a 99.9%
L17: Insatisfactoria | M17: Menos de 80%
C18: Eficiencia | D18: PORCENTAJE (%) DE TRÁMITES RESUELTOS EN UN TIEMPO IGUAL O INFERIOR A LO REGLAMENTADO EN EL SGC. *LICENCIAS AMBIENTALES (115 DÍAS HÁBILES). *CONCESIONES DE AGUAS SUBTERRÁNEAS Y SUPERFICIALES (55 DÍAS HÁBILES). *PERMISOS DE VERTIMIENTOS (55 DÍAS HÁBILES). *APROVECHAMIENTOS FORESTALES (55 DÍAS HÁBILES). | E18: (N° de trámites resueltos en un tiempo igual o inferior a lo reglamentado en el SGC / N° de trámites resueltos)*100. | F18: Mide el porcentaje de trámites resueltos en un tiempo igual o inferior a lo reglamentado en el SGC. | G18: De Meta Mínima | J18: Semestral | K18: 80% o más | L18: Satisfactoria | M18: 80% o más | N18: Lider del Proceso (Subdirector de Gestión y Administración Ambiental con el apoyo de Equipo de Trabajo) | O18: Calidad del Servicio
L19: Moderada | M19: De 50% a 79.9%
L20: Insatisfactoria | M20: Menos de 50%.
C21: Eficiencia | D21: PORCENTAJE (%) DE SEGUIMIENTO DE AUTORIZACIONES VIGENTES DE ACUERDO AL PROCEDIMIENTO "P-AA-07: SEGUIMIENTO Y CONTROL A TRÁMITES AMBIENTALES". | E21: (N° de seguimiento de autorizaciones vigentes de acuerdo al procedimiento "P-AA-07: SEGUIMIENTO Y CONTROL A TRÁMITES AMBIENTALES" / N° de autorizaciones otorgadas vigentes)*100. | F21: Mide el porcentaje de seguimiento de autorizaciones vigentes de acuerdo al procedimiento "P-AA-07: SEGUIMIENTO Y CONTROL A TRÁMITES AMBIENTALES". | G21: De Meta Mínima | J21: Semestral | K21: 95% o más | L21: Satisfactoria | M21: 95% o más | N21: Lider del Proceso (Subdirector de Gestión y Administración Ambiental con el apoyo de Equipo de Trabajo) | O21: Calidad del Servicio
L22: Moderada | M22: De 70% a 94.9%
L23: Insatisfactoria | M23: Menos de 70%
C24: Efectividad | D24: PORCENTAJE (%) DE ENCUESTA DE SATISFACCIÓN CALIFICADAS POR LOS USUARIOS DE TRÁMITES AMBIENTALES RESUELTOS CON UNA NOTA SUPERIOR O IGUAL A CUATRO (4,0) SOBRE CINCO (5.0). | E24: (N° de encuestas de satisfacción calificadas por los Usuarios de trámites ambientales resueltos con una nota superior o igual a cuatro (4.0) sobre cinco (5.0) / N° de encuestas de satisfacción calificadas por los Usuarios de trámites ambientales resueltos)*100. | F24: Mide el porcentaje de encuestas de satisfacción calificadas por los Usuarios de trámites ambientales resueltos con una nota superior o igual a cuatro (4.0) sobre cinco (5.0). | G24: De Meta Mínima | J24: Semestral | K24: 95% o más | L24: Satisfactoria | M24: 95% o más | N24: Lider del Proceso (Subdirector de Gestión y Administración Ambiental con el apoyo de Equipo de Trabajo) | O24: Calidad del Servicio
L25: Moderada | M25: De 80% a 94,9%
L26: Insatisfactoria | M26: Menos de 80%
C27: Eficacia | D27: PORCENTAJE (%) DE ACCIONES CORRECTIVAS DE SERVICIOS NO CONFORMES ESTABLECIDAS EFICAZMENTE. | E27: (N° de acciones correctivas de servicios no conformes establecidas eficazmente / N° de acciones correctivas de servicios no conformes establecidas) *100. | F27: Mide el porcentaje de acciones correctivas establecidas para servicios no conformes que tuvieron la capacidad de alcanzar el efecto que se esperaba o deseaba tras la realización de la misma. | G27: De Meta Mínima | J27: Semestral | K27: 90% o más | L27: Satisfactoria | M27: 90% o más | N27: Lider del Proceso (Subdirector de Gestión y Administración Ambiental con el apoyo de Equipo de Trabajo) | O27: Calidad del Servicio
L28: Moderada | M28: De 70% a 89.9%
L29: Insatisfactoria | M29: Menos de 70%
C30: Eficacia | D30: N° DE EVENTOS DE CAPACITACIÓN Y/O REINDUCCIÓN A LOS FUNCIONARIOS EN NORMAS, PROCEDIMIENTOS Y SOFTWARE CITA. | E30: N° de eventos de capacitación y/o reinducción a los funcionarios en normas, procedimientos y/o software CITA. | F30: Mide el número de eventos de capacitación y/o reinducción a los funcionarios en normas, procedimientos y/o software CITA, con el fin de contribuir en la minimización o anulación de una posible "poca efectividad en la aplicación dela autoridad ambiental en la jurisdicción". | G30: De Meta Mínima | J30: Anual | K30: 3 eventos de capacitación | L30: Satisfactoria | M30: 3 o mas capacitaciones. | N30: Lider del Proceso (Subdirector de Gestión y Administración Ambiental con el apoyo de Equipo de Trabajo) | O30: Talento Humano Competente
L31: Moderada | M31: 2 capacitaciones.
L32: Insatisfactoria | M32: 1 Capacitación.
C33: Eficacia | D33: N° DE INFORMES DE SEGUIMIENTO AL CUMPLIMIENTO DE LA APLICACIÓN DE LA AUTORIDAD AMBIENTAL. | E33: N° de informes de seguimiento al cumplimiento de la aplicación de la autoridad ambiental. | F33: Mide el número de informes de seguimiento al cumplimiento de la aplicación de la autoridad ambiental, , con el fin de contribuir en la minimización o anulación de una posible "poca efectividad en la aplicación dela autoridad ambiental en la jurisdicción". | G33: De Meta Mínima | J33: Anual | K33: 2 informes de seguimiento | L33: Satisfactoria | M33: 2 informes de seguimiento. | N33: Lider del Proceso (Subdirector de Gestión y Administración Ambiental con el apoyo de Equipo de Trabajo) | O33: Calidad del Servicio
L34: Moderada | M34: 1 informes de seguimiento.
L35: Insatisfactoria | M35: 0 seguimientos.
A38: =+D9 -> PORCENTAJE DE REDUCCIÓN CARGA CONTAMINANTE PARÁMETROS DBO5
G40: 2008 | H40: 2009 | I40: 2010 | J40: 2011 | K40: 2012 | L40: 2013 | M40: 2014 | N40: 2015
A41: Porcentaje (%) de Reducción de Carga Contaminante Parámetros DBO5 | G41: =($I$64-J64)/$I$64 -> 0.015479164 | H41: =($I$64-K64)/$I$64 -> 0.033144452 | I41: =($I$64-L64)/$I$64 -> 0.052482083 | J41: =($I$64-M64)/$I$64 -> 0.052754607 | K41: =($I$64-N64)/$I$64 -> 0.09098881 | L41: =($O$64-P64)/$O$64 -> -0.031165039 | N41: No aplica
A42: Meta | G42: 0.01 | H42: 0.01 | I42: 0.01 | J42: 0.01 | K42: 0.01 | L42: 0.01 | M42: 0.01 | N42: No aplica
G44: ANALISIS DE RESULTADOS | U44: ACCIONES
G45: Cuenca | I45: Cargas Contaminantes | Q45: Meta de Reducción 2014 | R45: Carga Esperada 2014 | S45: Carga Contaminante Real 2014 | T45: Porcentaje (%) de Reducción Carga Contaminante Parámetro DBO5
G46: Código | H46: Nombre | I46: Linea Base 2008-2012 | J46: 2008 | K46: 2009 | L46: 2010 | M46: 2011 | N46: 2012 | O46: Linea Base 2013-2015 | P46: 2013
...

Sheet Hoja 5. GP-7 (2)
A3: 7. PORCENTAJE (%) DE CUMPLIMIENTO POR PROCESO DE LA META MADS DEL INDICE DE EVALUACIÓN DE DESEMPEÑO INSTITUCIONAL -IEDI
A5: Resultados
A6: Vigencia | B6: Dato | C6: Meta | D6: Cumplimiento
A7: 2019 | B7: =+D13 -> 0.33319131 | C7: 0.1 | D7: =+B7/C7 -> 3.3319131
A8: 2020 | B8: =+D14 -> 0.129372 | C8: 0.1 | D8: =+B8/C8 -> 1.29372
A9: 2021 | B9: =+D15 -> 0 | C9: 1 | D9: =+B9/C9 -> 0
A12: Vigencia | B12: Recursos gestionados | C12: Recursos propios | D12: % de ingresos gestionados | E12: Meta del MADS para la vigencia (los ingresos gestionados son del 10% del total de ingresos propios presupuestados su resultado será del 100%) | F12: % de ingresos gestionados / meta del MADS para la vigencia | G12: Análisis de Datos
A13: 2019 | B13: 4229591879 | C13: 12694184140 | D13: =+B13/C13 -> 0.33319131 | E13: 0.1 | F13: =+D13/E13 -> 3.3319131 | G13: La corporación para el año 2019 tenía estimado por recursos propios $12.694.184.140 y mediante convenios, donaciones y acuerdos gestionó $4.229.591.879 adicionales
A14: 2020 | B14: 1477995785 | C14: 11424387006 | D14: =+B14/C14 -> 0.129372 | E14: 0.1 | F14: =+D14/E14 -> 1.29372 | G14: La corporación para el año 2020 tenía estimado por recursos propios $11.424.387.006 y mediante convenios, donaciones y acuerdos gestionó $1.477.995.785 adicionales
B17: Se debe ajustar el indicador utilizando los mismos términos del IEDI.

Sheet Hoja 6. AA.
A3: PROCESO AA: APLICACIÓN DE LA AUTORIDAD AMBIENTAL
A5: OBJETIVO DEL PROCESO | C5: CATEGORÍA DEL INDICADOR | D5: NOMBRE DEL INDICADOR | E5: FORMULA | F5: INTERPRETACION | G5: TIPO DE INDICADOR (Favor registre si es de meta máxima, meta mínima o de máximo y minimo) | J5: FRECUENCIA | K5: META | L5: NIVEL DE CUMPLIMIENTO (Favor registre los valores del indicador correspondientes a los posibles resultados) | N5: RESPONSABLE | O5: OBJETIVO ASOCIADO | P5: RESULTADO
G6: Tipo | H6: Definición | I6: Tendencia Adecuada del Indicador | L6: Posible Resultado | M6: Análisis de Resultados y Formulación de Acciones
G7: De Meta Máxima | H7: Cuando los datos del indicador no deben superar el valor de la meta. | I7: Decreciente | L7: Satisfactoria | M7: Se podrá mantener o establecer una meta mas exigente e/o incluir acciones realizadas para el logro de las metas de los indicadores dentro de los documentos del Sistema de Gestión Corporativo.
G8: De Meta Mínima | H8: Cuando los datos del indicador no deben ser inferiores al valor de la meta. | I8: Creciente | L8: Moderada | M8: Se declara una OPORTUNIDAD DE MEJORAMIENTO, frente a la cual se pueden formular Acciones Preventivas para evitar el incumplimiento de las metas en los próximos periodos.
G9: De Máximo y Mínimo | H9: Cuando los datos se deben mantener dentro de un rango, no siendo inferior a un valor o superior a otro. | I9: Dentro de un Rango | L9: Insatisfactoria | M9: Se declara una NO CONFORMIDAD, frente a la cual se formulan Correciones y Acciones correctivas.
L10: Satisfactoria
L11: Moderada
L12: Insatisfactoria
L13: Satisfactoria
L14: Moderada
L15: Insatisfactoria
L16: Satisfactoria
L17: Moderada
L18: Insatisfactoria
L19: Satisfactoria
L20: Moderada
L21: Insatisfactoria
... L30: Insatisfactoria

Sheet Hoja 6. AA 2018
A2: PROCESO AA: APLICACIÓN DE LA AUTORIDAD AMBIENTAL
A4: OBJETIVO DEL PROCESO | C4: CATEGORÍA DEL INDICADOR | D4: NOMBRE DEL INDICADOR | E4: FORMULA | F4: INTERPRETACION | G4: TIPO DE INDICADOR (Favor registre si es de meta máxima, meta mínima o de máximo y minimo) | J4: FRECUENCIA | K4: META | L4: NIVEL DE CUMPLIMIENTO (Favor registre los valores del indicador correspondientes a los posibles resultados) | N4: RESPONSABLE | O4: OBJETIVO ASOCIADO
G5: Tipo | H5: Definición | I5: Tendencia Adecuada del Indicador | L5: Posible Resultado | M5: Análisis de Resultados y Formulación de Acciones
G6: De Meta Máxima | H6: Cuando los datos del indicador no deben superar el valor de la meta. | I6: Decreciente | L6: Satisfactoria | M6: Se podrá mantener o establecer una meta mas exigente e/o incluir acciones realizadas para el logro de las metas de los indicadores dentro de los documentos del Sistema de Gestión Corporativo.
G7: De Meta Mínima | H7: Cuando los datos del indicador no deben ser inferiores al valor de la meta. | I7: Creciente | L7: Moderada | M7: Se declara una OPORTUNIDAD DE MEJORAMIENTO, frente a la cual se pueden formular Acciones Preventivas para evitar el incumplimiento de las metas en los próximos periodos.
G8: De Máximo y Mínimo | H8: Cuando los datos se deben mantener dentro de un rango, no siendo inferior a un valor o superior a otro. | I8: Dentro de un Rango | L8: Insatisfactoria | M8: Se declara una NO CONFORMIDAD, frente a la cual se formulan Correciones y Acciones correctivas.
A9: Administrar el uso y manejo de los recursos naturales en el marco del ordenamiento ambiental para el mantenimiento y/o mejoramiento de los bienes y servicios ambientales de la jurisdicción. | C9: Eficiencia | D9: Tiempo promedio de trámite para la resolución de autorizaciones ambientales otorgadas por la corporación | E9: Promedio de los tiempos de un tramite= sumatoria de los tiempos de los tramites atendidos/No. De tramites resueltos | F9: Es un Indicador Minimo de Gestion: Cuanto menor sea el tiempo promedio, teniendo como referencia los tiempos establecidos en la normativa, mayor es el cumplimiento por parte de la autoridad ambiental en la eficiencia en la resolución de las solicitudes de autorizaciones ambientales (licencias ambientales, concesiones de agua, permisos de aprovechamiento forestal, permisos de emisiones atmosféricas y permisos de vertimiento de agua | G9: De Meta Máxima | J9: Trimestral | K9: 1 | L9: Satisfactoria | M9: Hasta 100% | N9: Lider del Proceso (Subdirector de Gestión y Administración Ambiental con el apoyo de Equipo de Trabajo) | O9: Calidad del Servicio-objetivos
L10: Insatisfactoria | M10: Supera el 100%
C11: Eficiencia | D11: DESARROLLAR SEGUIMIENTO QUINCENAL A LOS TRAMITES QUE TIENEN RIESGO DE INCUMPLIMIENTO DE LOS TIEMPOS ESTABLECIDOS PARA DAR RESPUESTA A LOS USUARIOS | E11: % de tramites ambientales con cumplimiento de tiempos | F11: Mide el porcentaje de trámites resueltos en un tiempo igual o inferior a lo reglamentado en el SGC. | G11: De Meta mínima | J11: Trimestral | K11: 80% o más | L11: Satisfactoria | M11: 80% o más | N11: Lider del Proceso (Subdirector de Gestión y Administración Ambiental con el apoyo de Equipo de Trabajo) | O11: Calidad del Servicio - Riesgos
L12: Moderada | M12: De 50% a 79.9%
L13: Insatisfactoria | M13: Menos de 50%.
C14: Eficacia | D14: Porcentaje de autorizaciones ambientales con seguimiento en función de cantidad de autorizaciones | E14: No. De autorizaciones ambientales con seguimiento / No. De autorizaciones ambientales programadas | F14: Cuanto más cercano a cien por ciento, mayor es el cumplimiento de las metas que la autoridad ambiental se ha propuesto alcanzar en relación con el seguimiento a las autorizaciones ambientales (licencias ambientales, concesiones de agua, aprovechamiento forestal, emisiones atmosféricas y permisos de vertimiento). | G14: De Meta Mínima | J14: Semestral | K14: 80% o más | L14: Satisfactoria | M14: 80% o más | N14: Lider del Proceso (Subdirector de Gestión y Administración Ambiental con el apoyo de Equipo de Trabajo) | O14: Calidad del Servicio-indicador externo
L15: Moderada | M15: De 50% a 79.9%
L16: Insatisfactoria | M16: Menos de 50%
C17: Eficacia | D17: Porcentaje de autorizaciones ambientales con seguimiento (Ver fila 148) en funcion del volumen autorizado | E17: No. De autorizaciones ambientales con seguimiento / No. De autorizaciones ambientales programadas | F17: Cuanto más cercano a cien por ciento, mayor es el cumplimiento de las metas que la autoridad ambiental se ha propuesto alcanzar en relación con el seguimiento a las autorizaciones ambientales (licencias ambientales, concesiones de agua, aprovechamiento forestal, emisiones atmosféricas y permisos de vertimiento). | G17: De Meta Mínima | J17: Semestral | K17: 80% o más | L17: Satisfactoria | M17: 80% o más | N17: Lider del Proceso (Subdirector de Gestión y Administración Ambiental con el apoyo de Equipo de Trabajo) | O17: Calidad del Servicio-indicador externo
L18: Moderada | M18: De 50% a 79.9%
L19: Insatisfactoria | M19: Menos de 50%
C20: Eficacia | D20: Porcentaje de Procesos Sancionatorios Resueltos | E20: Es la relación entre el número de actos administrativos de determinación de la responsabilidad o de cesación de procedimiento expedidos, con respecto al número de actos administrativos de iniciación de procedimiento sancionatorio expedidos por la autoridad ambiental | F20: El indicador mide el cumplimiento por parte de la autoridad ambiental en la gestión de los procesos sancionatorios abiertos, con relación a la ocurrencia de infracciones en materia ambiental en su jurisdicción. | G20: DE Meta Mínima | J20: Trimestral | K20: 80% o más | L20: Satisfactoria | M20: 80% o más | N20: Lider del Proceso (Subdirector de Gestión y Administración Ambiental con el apoyo de Equipo de Trabajo) | O20: Calidad del Servicio-indicador externo
L21: Moderada | M21: De 50% a 79.9%
L22: Insatisfactoria | M22: Menos de 50%.
